From mboxrd@z Thu Jan 1 00:00:00 1970 Return-Path: Received: from mails.dpdk.org (mails.dpdk.org [217.70.189.124]) by inbox.dpdk.org (Postfix) with ESMTP id A539A48B19 for ; Sat, 15 Nov 2025 12:10:22 +0100 (CET) Received: from mails.dpdk.org (localhost [127.0.0.1]) by mails.dpdk.org (Postfix) with ESMTP id 85E5B40A80; Sat, 15 Nov 2025 12:10:22 +0100 (CET) Received: from mail-pl1-f226.google.com (mail-pl1-f226.google.com [209.85.214.226]) by mails.dpdk.org (Postfix) with ESMTP id 2DE9040A80 for ; Sat, 15 Nov 2025 12:10:21 +0100 (CET) Received: by mail-pl1-f226.google.com with SMTP id d9443c01a7336-2984dfae0acso35742455ad.0 for ; Sat, 15 Nov 2025 03:10:21 -0800 (PST) DKIM-Signature: v=1; a=rsa-sha256; c=relaxed/relaxed; d=iol.unh.edu; s=unh-iol; t=1763205020; x=1763809820; darn=dpdk.org; h=references:in-reply-to:cc:to:from:subject:message-id:date:from:to :cc:subject:date:message-id:reply-to; bh=S/H61WvVLV3/Zsqh7mC/GG/jc1x6a4H7ynWFwPiPBUc=; b=fKwPlog9B6ASPR1NRopgRtoJzvUUizwaxowsEcKFVYWAhq91nE89jANlrSf/KZy+Xx O9dsX5TsCttIoPxhiTB1dLj79AzFXm88jyCb/UF2Ez/3LzPu2kzG/ivR7LJRk0YG8Eo/ w8QH2Wi1gN89ezJKqJBbj2pAwfR6XKagyp+0Y= X-Google-DKIM-Signature: v=1; a=rsa-sha256; c=relaxed/relaxed; d=1e100.net; s=20230601; t=1763205020; x=1763809820; h=references:in-reply-to:cc:to:from:subject:message-id:date:x-gm-gg :x-gm-message-state:from:to:cc:subject:date:message-id:reply-to; bh=S/H61WvVLV3/Zsqh7mC/GG/jc1x6a4H7ynWFwPiPBUc=; b=UGqB6xSnD5MrI/oz+q2IisctWoXi8cQ9mrHbKXABmHd31p5TiT+tmTd3g3t434I69A z4D+gw6SFOntOdw7HWSVLM53uIS5xHFqVI3q6iRecM4pgaf+cT8dJmUjeTvxigBZfbPA D7BkoQDDKeZVcCeEExk1xzM7fW2S/UCxbJXbCw6ZMtoA03Po3Xc3yyZKoZ/k0YBGMAth WIXH8d1XAS1D0S8qfUtWUl0j5WI4TApl0elKJFfT9rjaaDQCiA5Yj0F/tl3MN+V/1/9V jcT9FcNjnASB0Iu/RvpysHGIj0iyzg6kinN0xqYVco9eSIyJp+COs2XARB2Y/8fGlSlQ C1RQ== X-Gm-Message-State: AOJu0YyPP8Q7s55Jyd1IghpI1t1KrSftiDvyFA7MPt9Hhoj7/Pen3fpx lO4mQ7JJQPMYoJ3VY+jOezx8D7e8Rxd+CHbxDMF+ZsWgi7nA/NAW/17S7WY6RtacU+v8chUiro5 yIga1YtKZjye4dj9ScpV5KfM1bfKxWTnZkZBehsVv5ZvjL51nRzsPFU2qFLLz X-Gm-Gg: ASbGncuogj6236E1/i9ssH7aUT/Dmcj/ELgPWodTZyDncDUAVWW98zuzbeYIrIp0ckW nh7AUFkBBx70uOC2KND0nslAAvF2jezfp/9xEfSfiMCNbAWS75+yH7liAYpieyDyEo1sfPyIrwt KphGV15/x0hO8SOemuP/fshgIPMmTsbLqwdnglhFA2baffoifjm7GExyCz2KXMTmRN2cbyRjHVD 1ottdHs5uEybNg3f4wy0KdLIjLlnxllJFj1RkeLgGOgHIFX2mgrZIVcVyPQMCqYAHf1rG/sspVP FkhYwnLtTpsUq7U6HwsuAtUGEjga8Oia0EQhJTMAP4D9ah474HORHICvle6voKh3+1eTp1pQtrP l9pz8jQeS X-Google-Smtp-Source: AGHT+IHI5dK4UcDetTD7gs9MYlgAZnXqDWk9ahTs1ssTd85XxN3HbpTbIcqPE2AbDv67FwRbkKnf0Nph0e79 X-Received: by 2002:a17:902:e947:b0:295:5da6:600c with SMTP id d9443c01a7336-2986a6b896dmr69641385ad.2.1763205020103; Sat, 15 Nov 2025 03:10:20 -0800 (PST) Received: from postal.iol.unh.edu (postal.iol.unh.edu. [2606:4100:3880:1234::84]) by smtp-relay.gmail.com with ESMTPS id d9443c01a7336-2985c2b8544sm8350235ad.51.2025.11.15.03.10.19 (version=TLS1_2 cipher=ECDHE-ECDSA-AES128-GCM-SHA256 bits=128/128); Sat, 15 Nov 2025 03:10:20 -0800 (PST) X-Relaying-Domain: iol.unh.edu Date: Sat, 15 Nov 2025 03:10:20 -0800 (PST) Message-ID: <69185f9c.170a0220.347d27.8fbbSMTPIN_ADDED_MISSING@mx.google.com> Received: from [172.21.0.2] (unknown [172.18.0.240]) by postal.iol.unh.edu (Postfix) with ESMTP id 8D6AB6051830; Sat, 15 Nov 2025 06:10:19 -0500 (EST) Subject: |SUCCESS| pw158773-158774 [PATCH] [v4,2/2] dts: add QinQ test suite From: dpdklab@iol.unh.edu To: Test Report Cc: dpdk-test-reports@iol.unh.edu In-Reply-To: <20251113190309.310821-2-dmarx@iol.unh.edu> References: <20251113190309.310821-2-dmarx@iol.unh.edu> Content-Type: text/plain X-BeenThere: test-report@dpdk.org X-Mailman-Version: 2.1.29 Precedence: list List-Id: automatic DPDK test reports List-Unsubscribe: , List-Archive: List-Post: List-Help: List-Subscribe: , Errors-To: test-report-bounces@dpdk.org Test-Label: iol-compile-amd64-testing Test-Status: SUCCESS http://dpdk.org/patch/158774 _Testing PASS_ Submitter: Dean Marx Date: Thursday, November 13 2025 19:03:09 DPDK git baseline: Repo:dpdk-next-dts Branch: master CommitID:8dcc93a520b22330e0ad59d360a4594b854f9ddd 158773-158774 --> testing pass Upstream job id: Windows-Compile-DPDK-Native#32384 Test environment and result as below: +-------------------------------+--------------------+------------------+-------------------+-------------------------+ | Environment | dpdk_meson_compile | dpdk_compile_ovs | dpdk_msvc_compile | dpdk_llvm_clang_compile | +===============================+====================+==================+===================+=========================+ | Ubuntu 20.04 | PASS | SKIPPED | SKIPPED | SKIPPED | +-------------------------------+--------------------+------------------+-------------------+-------------------------+ | FreeBSD 14.2 | PASS | SKIPPED | SKIPPED | SKIPPED | +-------------------------------+--------------------+------------------+-------------------+-------------------------+ | CentOS Stream 9 | PASS | SKIPPED | SKIPPED | SKIPPED | +-------------------------------+--------------------+------------------+-------------------+-------------------------+ | CentOS Stream 10 | PASS | SKIPPED | SKIPPED | SKIPPED | +-------------------------------+--------------------+------------------+-------------------+-------------------------+ | Debian GNU/Linux 12 | PASS | SKIPPED | SKIPPED | SKIPPED | +-------------------------------+--------------------+------------------+-------------------+-------------------------+ | Fedora Linux 42 | PASS | PASS | SKIPPED | SKIPPED | +-------------------------------+--------------------+------------------+-------------------+-------------------------+ | openSUSE Leap 15.6 | PASS | SKIPPED | SKIPPED | SKIPPED | +-------------------------------+--------------------+------------------+-------------------+-------------------------+ | Red Hat Enterprise Linux 8.10 | PASS | SKIPPED | SKIPPED | SKIPPED | +-------------------------------+--------------------+------------------+-------------------+-------------------------+ | Red Hat Enterprise Linux 9.5 | PASS | SKIPPED | SKIPPED | SKIPPED | +-------------------------------+--------------------+------------------+-------------------+-------------------------+ | Ubuntu 22.04 | PASS | SKIPPED | SKIPPED | SKIPPED | +-------------------------------+--------------------+------------------+-------------------+-------------------------+ | Ubuntu 24.04 | PASS | PASS | SKIPPED | SKIPPED | +-------------------------------+--------------------+------------------+-------------------+-------------------------+ | Alpine Linux 3.22.0 | PASS | SKIPPED | SKIPPED | SKIPPED | +-------------------------------+--------------------+------------------+-------------------+-------------------------+ | Windows Server 2022 | SKIPPED | SKIPPED | PASS | PASS | +-------------------------------+--------------------+------------------+-------------------+-------------------------+ Ubuntu 20.04 Kernel: 4.19 Compiler: gcc gcc (Ubuntu 9.4.0-1ubuntu1~20.04.2) 9.4.0 FreeBSD 14.2 Kernel: 14.2-RELEASE Compiler: clang 18.1.6 CentOS Stream 9 Kernel: 5.15 Compiler: gcc gcc (GCC) 11.5.0 20240719 (Red Hat 11.5.0-11) CentOS Stream 10 Kernel: 5.15 Compiler: gcc gcc (GCC) 14.2.1 20250110 (Red Hat 14.2.1-8) Debian GNU/Linux 12 Kernel: 5.15 Compiler: gcc gcc (Debian 12.2.0-14+deb12u1) 12.2.0 Fedora Linux 42 Kernel: 5.15 Compiler: clang gcc (GCC) 15.2.1 20250808 (Red Hat 15.2.1-1) openSUSE Leap 15.6 Kernel: 5.15 Compiler: gcc gcc (SUSE Linux) 7.5.0 Red Hat Enterprise Linux 8.10 Kernel: 5.15 Compiler: gcc gcc (GCC) 8.5.0 20210514 (Red Hat 8.5.0-22) Red Hat Enterprise Linux 9.5 Kernel: 5.15 Compiler: gcc gcc (GCC) 11.5.0 20240719 (Red Hat 11.5.0-2) Ubuntu 22.04 Kernel: 5.15 Compiler: gcc gcc (Ubuntu 11.4.0-1ubuntu1~22.04) 11.4.0 Ubuntu 24.04 Kernel: 5.15 Compiler: gcc gcc (Ubuntu 13.3.0-6ubuntu2~24.04) 13.3.0 Alpine Linux 3.22.0 Kernel: 5.15 Compiler: gcc gcc (Alpine 14.2.0) 14.2.0 Windows Server 2022 Kernel: 10.0.20348.2031 Compiler: clang 15.0.7, gcc 14.1.0 (MinGW), and MSVC VS 19.39.33521 To view detailed results, visit: https://lab.dpdk.org/results/dashboard/patchsets/34581/ UNH-IOL DPDK Community Lab To manage your email subscriptions, visit: https://lab.dpdk.org/results/dashboard/preferences/subscriptions/