From mboxrd@z Thu Jan 1 00:00:00 1970 Return-Path: Received: from mails.dpdk.org (mails.dpdk.org [217.70.189.124]) by inbox.dpdk.org (Postfix) with ESMTP id 9F55F48B19 for ; Sat, 15 Nov 2025 12:10:51 +0100 (CET) Received: from mails.dpdk.org (localhost [127.0.0.1]) by mails.dpdk.org (Postfix) with ESMTP id 99CAA40A80; Sat, 15 Nov 2025 12:10:51 +0100 (CET) Received: from mail-oa1-f98.google.com (mail-oa1-f98.google.com [209.85.160.98]) by mails.dpdk.org (Postfix) with ESMTP id B2AF240A80 for ; Sat, 15 Nov 2025 12:10:50 +0100 (CET) Received: by mail-oa1-f98.google.com with SMTP id 586e51a60fabf-3e2eeb85822so1364583fac.2 for ; Sat, 15 Nov 2025 03:10:50 -0800 (PST) DKIM-Signature: v=1; a=rsa-sha256; c=relaxed/relaxed; d=iol.unh.edu; s=unh-iol; t=1763205050; x=1763809850; darn=dpdk.org; h=references:in-reply-to:cc:to:from:subject:message-id:date:from:to :cc:subject:date:message-id:reply-to; bh=nCZrtM8XBPZuRuRyLqWu9PRebdx002KzjmnweBInNlY=; b=PpvCKhpOHSr3L+r3JWq6vYzWe/R+y+eVdtKMmfI7Qr1elHBzkn9K11gN0vYeTwx5gS CnWq/UO9RdMsdwULNuqccaf2nLGcek5CggEqLVfa6CjXI9j11BeFJU6Xwp+De9Ab3jC6 Tl/WgAXJsBExdG8JgeLS5A9IWpVbr0aGxXW8A= X-Google-DKIM-Signature: v=1; a=rsa-sha256; c=relaxed/relaxed; d=1e100.net; s=20230601; t=1763205050; x=1763809850; h=references:in-reply-to:cc:to:from:subject:message-id:date:x-gm-gg :x-gm-message-state:from:to:cc:subject:date:message-id:reply-to; bh=nCZrtM8XBPZuRuRyLqWu9PRebdx002KzjmnweBInNlY=; b=kTvK8gBMII9sVFHux8Hz7A80K8Wjt4sndHH0MesQbCRSmZAZzzgsmtIat6SpWTfvhE gysk3X6ES8iYJtBWUDTBFxzkjA3ExbNoxDEpT1CVtaB4QK3m4dQG+cRaIbK6Kkx4RgVr mCIbOg9L0+74wrqNIjX29rOGXAulEYSUwxPTDFxrLoA+vMT3R9oBR3JRO+Q1NQIwSwYj VVveauZNEvKHEfHe90UQu13K8QpoIKFlrQbn2g4pewL9DogwSuYV0tAw1q0bAnMFg2+k CPWSI/ecFabm3k/JiSWOeOqkRY7kDQliEutU74SYHvP6DNCTAEv38jiaeZz0hWyLhIxx mZ/A== X-Gm-Message-State: AOJu0Yyh4MfFiR5jcBRe5G0jr4g2s8mMOb0rOn2fpg31xG1g8J1GeQGC OO7Br/o+XLDFyGmmfzof2n7+WHs2ACln8NkGIltcw3HG+O1NoQQJROJaMEENukexmGBrGvOgU9G OI6jP2F6c1eLKcBljY25mTbHcXwiLBVFl8dlI/bhLzQx6HnKWvIWmf5SmY/m1 X-Gm-Gg: ASbGncuzhgFl8qyqFvTAAMwuUB25KdzT2JlNLu5EvFQBrWmj3k6GrcVEqDcnwl30h9P 6kQJerJcPfOnZa0lCkA8nwis6RsmjXO52gJak6XiFM96Pwa/Rl/AtuMYlbW8qjX+hxkJN7u3XNG QVrFOexPzl478XrLjj4QLFhgQGf/huFCVm7SUT9DqiiGZkYFa+0IK/5hgc81ZCkYu5+rBhaO8++ 1crXbDLtMtm3SOhMI/fdm1wEGEb93Py8xXvuCKjN8aCk/vmrPMFKeUUYaUfc7VNJ1hwD3390zql R69eef8Q5Em1qGh4dVXCPvfj6hcxZ0fjPuz2pw65I6zY/hTdLsKGJIGdokXoK1hujCscuhPtRV9 59EzH0SGI X-Google-Smtp-Source: AGHT+IG7RHP9jyXI/J+a3yELsS5SAOMoT1fpRyBKmaMHNLp6o+X08eQ7+ai522QQh94xZnO2FGVYgA/Xyn1F X-Received: by 2002:a05:6870:a714:b0:35a:cf5e:fc5a with SMTP id 586e51a60fabf-3e868e87a56mr3228723fac.3.1763205049864; Sat, 15 Nov 2025 03:10:49 -0800 (PST) Received: from postal.iol.unh.edu (postal.iol.unh.edu. [2606:4100:3880:1234::84]) by smtp-relay.gmail.com with ESMTPS id 586e51a60fabf-3e851d6410bsm706039fac.0.2025.11.15.03.10.49 (version=TLS1_2 cipher=ECDHE-ECDSA-AES128-GCM-SHA256 bits=128/128); Sat, 15 Nov 2025 03:10:49 -0800 (PST) X-Relaying-Domain: iol.unh.edu Date: Sat, 15 Nov 2025 03:10:49 -0800 (PST) Message-ID: <69185fb9.050a0220.c94f9.2403SMTPIN_ADDED_MISSING@mx.google.com> Received: from [172.21.0.3] (unknown [172.18.0.240]) by postal.iol.unh.edu (Postfix) with ESMTP id 617306051830; Sat, 15 Nov 2025 06:10:49 -0500 (EST) Subject: |SUCCESS| pw158820 [PATCH] [v2] devtools: ignore new warnings on rep From: dpdklab@iol.unh.edu To: Test Report Cc: dpdk-test-reports@iol.unh.edu In-Reply-To: <20251114200640.1639056-1-dsosnowski@nvidia.com> References: <20251114200640.1639056-1-dsosnowski@nvidia.com> Content-Type: text/plain X-BeenThere: test-report@dpdk.org X-Mailman-Version: 2.1.29 Precedence: list List-Id: automatic DPDK test reports List-Unsubscribe: , List-Archive: List-Post: List-Help: List-Subscribe: , Errors-To: test-report-bounces@dpdk.org Test-Label: iol-unit-amd64-testing Test-Status: SUCCESS http://dpdk.org/patch/158820 _Testing PASS_ Submitter: Dariusz Sosnowski Date: Friday, November 14 2025 20:06:40 DPDK git baseline: Repo:dpdk Branch: master CommitID:be0112878b4fc3a1b918370ed2fe615c52039d77 158820 --> testing pass Upstream job id: Generic-VM-Unit-Test-DPDK#32592 Test environment and result as below: +-------------------------------+----------------+ | Environment | dpdk_unit_test | +===============================+================+ | CentOS Stream 9 | PASS | +-------------------------------+----------------+ | CentOS Stream 10 | PASS | +-------------------------------+----------------+ | Fedora Linux 42 | PASS | +-------------------------------+----------------+ | Fedora Linux 41 | PASS | +-------------------------------+----------------+ | Debian GNU/Linux 12 | PASS | +-------------------------------+----------------+ | Fedora Linux 40 | PASS | +-------------------------------+----------------+ | Red Hat Enterprise Linux 9.5 | PASS | +-------------------------------+----------------+ | Red Hat Enterprise Linux 8.10 | PASS | +-------------------------------+----------------+ | Ubuntu 20.04 | PASS | +-------------------------------+----------------+ | Ubuntu 22.04 | PASS | +-------------------------------+----------------+ | Ubuntu 24.04 | PASS | +-------------------------------+----------------+ | Windows Server 2022 | PASS | +-------------------------------+----------------+ CentOS Stream 9 Kernel: 5.15 Compiler: gcc gcc (GCC) 11.5.0 20240719 (Red Hat 11.5.0-11) CentOS Stream 10 Kernel: 5.15 Compiler: gcc gcc (GCC) 14.2.1 20250110 (Red Hat 14.2.1-8) Fedora Linux 42 Kernel: 5.15 Compiler: clang gcc (GCC) 15.2.1 20250808 (Red Hat 15.2.1-1) Fedora Linux 41 Kernel: 5.15 Compiler: gcc gcc (GCC) 14.3.1 20250523 (Red Hat 14.3.1-1) Debian GNU/Linux 12 Kernel: 5.15 Compiler: gcc gcc (Debian 12.2.0-14+deb12u1) 12.2.0 Fedora Linux 40 Kernel: 5.15 Compiler: gcc gcc (GCC) 14.2.1 20240912 (Red Hat 14.2.1-3) Red Hat Enterprise Linux 9.5 Kernel: 5.15 Compiler: gcc gcc (GCC) 11.5.0 20240719 (Red Hat 11.5.0-2) Red Hat Enterprise Linux 8.10 Kernel: 5.15 Compiler: gcc gcc (GCC) 8.5.0 20210514 (Red Hat 8.5.0-22) Ubuntu 20.04 Kernel: 5.15 Compiler: gcc gcc (Ubuntu 9.4.0-1ubuntu1~20.04.2) 9.4.0 Ubuntu 22.04 Kernel: 5.15 Compiler: gcc gcc (Ubuntu 11.4.0-1ubuntu1~22.04) 11.4.0 Ubuntu 24.04 Kernel: 5.15 Compiler: gcc gcc (Ubuntu 13.3.0-6ubuntu2~24.04) 13.3.0 Windows Server 2022 Kernel: 10.0.20348.2031 Compiler: clang 15.0.7, gcc 14.1.0 (MinGW), and MSVC VS 19.39.33521 To view detailed results, visit: https://lab.dpdk.org/results/dashboard/patchsets/34602/ UNH-IOL DPDK Community Lab To manage your email subscriptions, visit: https://lab.dpdk.org/results/dashboard/preferences/subscriptions/