From mboxrd@z Thu Jan 1 00:00:00 1970 Return-Path: Received: from mails.dpdk.org (mails.dpdk.org [217.70.189.124]) by inbox.dpdk.org (Postfix) with ESMTP id 1B45F48B19 for ; Sat, 15 Nov 2025 12:14:19 +0100 (CET) Received: from mails.dpdk.org (localhost [127.0.0.1]) by mails.dpdk.org (Postfix) with ESMTP id F23DC40A80; Sat, 15 Nov 2025 12:14:18 +0100 (CET) Received: from mail-il1-f225.google.com (mail-il1-f225.google.com [209.85.166.225]) by mails.dpdk.org (Postfix) with ESMTP id F3BF340A80 for ; Sat, 15 Nov 2025 12:14:17 +0100 (CET) Received: by mail-il1-f225.google.com with SMTP id e9e14a558f8ab-4332381ba9bso26647735ab.1 for ; Sat, 15 Nov 2025 03:14:17 -0800 (PST) DKIM-Signature: v=1; a=rsa-sha256; c=relaxed/relaxed; d=iol.unh.edu; s=unh-iol; t=1763205257; x=1763810057; darn=dpdk.org; h=references:in-reply-to:cc:to:from:subject:message-id:date:from:to :cc:subject:date:message-id:reply-to; bh=jUH37gyLB+MUi54ke2L9G9XUtVg6UmhL507QWiIMeQQ=; b=OX0ilqDEu7HnFZ4FGtsnATNDbmndMpK41hyCrWP6W1pgeFBP8rEU1uSn77RkxoQGc4 My1rMGnT+sZvhe17NKNVDOqm9WApHFBMt2ae/xkZLxhvkRuKl2kiLOVhGXGceMI/SRGE v0sNVsAAlMoByh54NvNcLeQhf8bCLMCD0dtGc= X-Google-DKIM-Signature: v=1; a=rsa-sha256; c=relaxed/relaxed; d=1e100.net; s=20230601; t=1763205257; x=1763810057; h=references:in-reply-to:cc:to:from:subject:message-id:date:x-gm-gg :x-gm-message-state:from:to:cc:subject:date:message-id:reply-to; bh=jUH37gyLB+MUi54ke2L9G9XUtVg6UmhL507QWiIMeQQ=; b=xCzCMfrOmjsh+hhs/fTuqY9oGOafz/u+vql2L+QaKzKjy4paI3kr4Qd8/8aWh9wtoz OJNFGR2n+LYJLumjvoZIC2nYeHV85AO9OwmGUvxrxOVRkgrN3EERfgErYri6MtR2G8kw tnwiGdGNM/Z0z1IcFCvjpa2qctbkNMDNECkPtkOvi+Po36J00csQFep8MQKnFLuWhmK8 7hQs6BijQVs17gnkaeUcdLgSu315LQ3Iu+Ugssyrc266ViGahLRKu2oT9M8dSnbMFJP+ N4ReZpVAagEREisdAxH+cD5WsMy9x2HkKGSoEk+DjqDkab+B9fd25Ow/e50XNit5DAJq Eifw== X-Gm-Message-State: AOJu0YxzD3sp9TTtcWpKXGETyB6OFcpwR7XuurkYDWEMFeuh9vXeGKj2 YoxFeYIduC/fPX8stE0/udgyk3uMo6Qua2LYJ8UuWole/dIyaT7wy0HXkTqRMnKjDHV+yogH234 lt7a/nIKvVn+yuESNWC+1wGyYx9XVjPFLB6yF4lqOKgbJIvQQXeRPNuZSXNiz X-Gm-Gg: ASbGncuWDOOQHHMVeOforV/iVhV4eehgZ2I2Pd8+JfVxBE47vXrO89bLCgZY8vY1xdB 62jsvCiDlmfRhoXXj2rOFafqgH2ZJw5Nfa8JpYJDKoeR7foAYPSZfFSqwU9a+I+D3X40NVBLfqA cZu6vCuSqGUbFFYOS4w9mt8LsNY8pFcCWiM3JPu5V/5mokZB/Syd94gjw+nslpUi/cv1GK+vOFG 7pAnzyVGgPiZrh8CC+Nr0TA81loSaP8ABwUKrxvKSa6GkA9aDc3mnx/Xgb46KAsgu4xM1FQV8oa aZlcrPZR4SD+QkHPdwTEmGSediodvixEoCMucJCtYXr3kgAyLJT3SP2LZr6UZIIRKNLgI2dIq1T qHu/ztYdu X-Google-Smtp-Source: AGHT+IGUfA1uLusvSMH0G4IG10ULoV7JRVXT7zxLN5IevNFz2dd+A8XZMlpMO4kS63m3EC8r3rCczzlo/rtn X-Received: by 2002:a05:6e02:19c6:b0:433:5e33:d424 with SMTP id e9e14a558f8ab-4348c86b20amr101389235ab.2.1763205257151; Sat, 15 Nov 2025 03:14:17 -0800 (PST) Received: from postal.iol.unh.edu (postal.iol.unh.edu. [2606:4100:3880:1234::84]) by smtp-relay.gmail.com with ESMTPS id e9e14a558f8ab-434839b0404sm6699115ab.23.2025.11.15.03.14.17 (version=TLS1_2 cipher=ECDHE-ECDSA-AES128-GCM-SHA256 bits=128/128); Sat, 15 Nov 2025 03:14:17 -0800 (PST) X-Relaying-Domain: iol.unh.edu Date: Sat, 15 Nov 2025 03:14:17 -0800 (PST) Message-ID: <69186089.050a0220.eeecf.095eSMTPIN_ADDED_MISSING@mx.google.com> Received: from [172.21.0.3] (unknown [172.18.0.240]) by postal.iol.unh.edu (Postfix) with ESMTP id A38036051830; Sat, 15 Nov 2025 06:14:16 -0500 (EST) Subject: |SUCCESS| pw158773-158774 [PATCH] [v4,2/2] dts: add QinQ test suite From: dpdklab@iol.unh.edu To: Test Report Cc: dpdk-test-reports@iol.unh.edu In-Reply-To: <20251113190309.310821-2-dmarx@iol.unh.edu> References: <20251113190309.310821-2-dmarx@iol.unh.edu> Content-Type: text/plain X-BeenThere: test-report@dpdk.org X-Mailman-Version: 2.1.29 Precedence: list List-Id: automatic DPDK test reports List-Unsubscribe: , List-Archive: List-Post: List-Help: List-Subscribe: , Errors-To: test-report-bounces@dpdk.org Test-Label: iol-compile-amd64-testing Test-Status: SUCCESS http://dpdk.org/patch/158774 _Testing PASS_ Submitter: Dean Marx Date: Thursday, November 13 2025 19:03:09 DPDK git baseline: Repo:dpdk-next-dts Branch: master CommitID:8dcc93a520b22330e0ad59d360a4594b854f9ddd 158773-158774 --> testing pass Upstream job id: Windows-Compile-DPDK-Native#32385 Test environment and result as below: +-------------------------------+--------------------+------------------+-------------------+-------------------------+----------------------+ | Environment | dpdk_meson_compile | dpdk_compile_ovs | dpdk_msvc_compile | dpdk_llvm_clang_compile | dpdk_mingw64_compile | +===============================+====================+==================+===================+=========================+======================+ | Ubuntu 20.04 | PASS | SKIPPED | SKIPPED | SKIPPED | SKIPPED | +-------------------------------+--------------------+------------------+-------------------+-------------------------+----------------------+ | FreeBSD 14.2 | PASS | SKIPPED | SKIPPED | SKIPPED | SKIPPED | +-------------------------------+--------------------+------------------+-------------------+-------------------------+----------------------+ | CentOS Stream 9 | PASS | SKIPPED | SKIPPED | SKIPPED | SKIPPED | +-------------------------------+--------------------+------------------+-------------------+-------------------------+----------------------+ | CentOS Stream 10 | PASS | SKIPPED | SKIPPED | SKIPPED | SKIPPED | +-------------------------------+--------------------+------------------+-------------------+-------------------------+----------------------+ | Debian GNU/Linux 12 | PASS | SKIPPED | SKIPPED | SKIPPED | SKIPPED | +-------------------------------+--------------------+------------------+-------------------+-------------------------+----------------------+ | Fedora Linux 42 | PASS | PASS | SKIPPED | SKIPPED | SKIPPED | +-------------------------------+--------------------+------------------+-------------------+-------------------------+----------------------+ | openSUSE Leap 15.6 | PASS | SKIPPED | SKIPPED | SKIPPED | SKIPPED | +-------------------------------+--------------------+------------------+-------------------+-------------------------+----------------------+ | Red Hat Enterprise Linux 8.10 | PASS | SKIPPED | SKIPPED | SKIPPED | SKIPPED | +-------------------------------+--------------------+------------------+-------------------+-------------------------+----------------------+ | Red Hat Enterprise Linux 9.5 | PASS | SKIPPED | SKIPPED | SKIPPED | SKIPPED | +-------------------------------+--------------------+------------------+-------------------+-------------------------+----------------------+ | Ubuntu 22.04 | PASS | SKIPPED | SKIPPED | SKIPPED | SKIPPED | +-------------------------------+--------------------+------------------+-------------------+-------------------------+----------------------+ | Ubuntu 24.04 | PASS | PASS | SKIPPED | SKIPPED | SKIPPED | +-------------------------------+--------------------+------------------+-------------------+-------------------------+----------------------+ | Alpine Linux 3.22.0 | PASS | SKIPPED | SKIPPED | SKIPPED | SKIPPED | +-------------------------------+--------------------+------------------+-------------------+-------------------------+----------------------+ | Windows Server 2022 | SKIPPED | SKIPPED | PASS | PASS | PASS | +-------------------------------+--------------------+------------------+-------------------+-------------------------+----------------------+ Ubuntu 20.04 Kernel: 4.19 Compiler: gcc gcc (Ubuntu 9.4.0-1ubuntu1~20.04.2) 9.4.0 FreeBSD 14.2 Kernel: 14.2-RELEASE Compiler: clang 18.1.6 CentOS Stream 9 Kernel: 5.15 Compiler: gcc gcc (GCC) 11.5.0 20240719 (Red Hat 11.5.0-11) CentOS Stream 10 Kernel: 5.15 Compiler: gcc gcc (GCC) 14.2.1 20250110 (Red Hat 14.2.1-8) Debian GNU/Linux 12 Kernel: 5.15 Compiler: gcc gcc (Debian 12.2.0-14+deb12u1) 12.2.0 Fedora Linux 42 Kernel: 5.15 Compiler: clang gcc (GCC) 15.2.1 20250808 (Red Hat 15.2.1-1) openSUSE Leap 15.6 Kernel: 5.15 Compiler: gcc gcc (SUSE Linux) 7.5.0 Red Hat Enterprise Linux 8.10 Kernel: 5.15 Compiler: gcc gcc (GCC) 8.5.0 20210514 (Red Hat 8.5.0-22) Red Hat Enterprise Linux 9.5 Kernel: 5.15 Compiler: gcc gcc (GCC) 11.5.0 20240719 (Red Hat 11.5.0-2) Ubuntu 22.04 Kernel: 5.15 Compiler: gcc gcc (Ubuntu 11.4.0-1ubuntu1~22.04) 11.4.0 Ubuntu 24.04 Kernel: 5.15 Compiler: gcc gcc (Ubuntu 13.3.0-6ubuntu2~24.04) 13.3.0 Alpine Linux 3.22.0 Kernel: 5.15 Compiler: gcc gcc (Alpine 14.2.0) 14.2.0 Windows Server 2022 Kernel: 10.0.20348.2031 Compiler: clang 15.0.7, gcc 14.1.0 (MinGW), and MSVC VS 19.39.33521 To view detailed results, visit: https://lab.dpdk.org/results/dashboard/patchsets/34581/ UNH-IOL DPDK Community Lab To manage your email subscriptions, visit: https://lab.dpdk.org/results/dashboard/preferences/subscriptions/