From mboxrd@z Thu Jan 1 00:00:00 1970 Return-Path: Received: from mails.dpdk.org (mails.dpdk.org [217.70.189.124]) by inbox.dpdk.org (Postfix) with ESMTP id BD4DF48B19 for ; Sat, 15 Nov 2025 12:20:41 +0100 (CET) Received: from mails.dpdk.org (localhost [127.0.0.1]) by mails.dpdk.org (Postfix) with ESMTP id B73B140A80; Sat, 15 Nov 2025 12:20:41 +0100 (CET) Received: from mail-pl1-f225.google.com (mail-pl1-f225.google.com [209.85.214.225]) by mails.dpdk.org (Postfix) with ESMTP id 1112540A80 for ; Sat, 15 Nov 2025 12:20:41 +0100 (CET) Received: by mail-pl1-f225.google.com with SMTP id d9443c01a7336-29586626fbeso29498175ad.0 for ; Sat, 15 Nov 2025 03:20:41 -0800 (PST) DKIM-Signature: v=1; a=rsa-sha256; c=relaxed/relaxed; d=iol.unh.edu; s=unh-iol; t=1763205640; x=1763810440; darn=dpdk.org; h=references:in-reply-to:cc:to:from:subject:message-id:date:from:to :cc:subject:date:message-id:reply-to; bh=3UJ5FHCtayetMELYrq7fA8TYsWr8cLMgH1qoBjCmD/k=; b=H9dDZThG5is+zcPKl7eH+LL8sapIKKPg26lN2cHOZ8kcDFIIjDuGxzugLQ5ko3O1fc qofQQunDzNnxxVNo3+uml57/9d/hEKiWNircoT5WpS8kuU0yTVNH65MxESfMC+4uEN0W +zGieLhdU8WdKFTa2v6FLMD8dgM4+qEovgRVM= X-Google-DKIM-Signature: v=1; a=rsa-sha256; c=relaxed/relaxed; d=1e100.net; s=20230601; t=1763205640; x=1763810440; h=references:in-reply-to:cc:to:from:subject:message-id:date:x-gm-gg :x-gm-message-state:from:to:cc:subject:date:message-id:reply-to; bh=3UJ5FHCtayetMELYrq7fA8TYsWr8cLMgH1qoBjCmD/k=; b=bjBcOivnAxzlsIKWDoxB7ZJT8oUVtaIJ7z4VKCHMEic5xnit2eGLcMQN02bcVVNT42 PLp62n1O5Dk//PHEA3mp3xasHAhEY8uR/yJDZwuhuE2fNSbxDQvyQoPEFwfaa7KEsd52 v0XkliiR7mwqam/dsqt5c9GlcHlke9RVsr8ZZ4dMBZV44Omdj3/z+xShxX7c0R0FoY5X ClaUWrOLo6ClAdo2AF40aLx7rSO8VZCZWMuTIhArK8xBkBpdlUKHlaOKg0d1UIX6Pw4w /3NM0EhKW+8OgqCJ/SlvyYveFkTnvuuUmVf2RNQyAFcWv+WypK2QjpTAdYR0RTUqYaMZ mhmA== X-Gm-Message-State: AOJu0Ywtf5ZRfPBDP2ismBxWUiZIsaaqZ7sDCn0oROrEJyX8a6FZPJyk 6MGTZ2ymH0WGMV3/rMyhnUdteR7pM72FQB+6A+16mZgH1g8vCwp3RERsTfSbqBGfEMGlPY+5h6d tNPLNQUoCxhH4GBjJgacvI53Nay/WY21OUP5bhUEKGWHM X-Gm-Gg: ASbGncszUCcF/arU3v73gPYrb0PaBmFsChkrpCS6Bi2RgLavMlLcob/jzRynkaE9pnH cfl+9m6JRuh7n3zsuvKvdmd+iZ1GBFmdP/Ye0w4AMgaBQw+tzxRD9qM4rGOo8gM5uC9/t8+z+11 F9WJ0RHwSpT+uHY/FIZOJYwo+CUUlULX2ruYf7jF9H6Nk1cS0zv2tE/Dd6sbYc3i4wHQjfgSHxX V95jd+wQYTo6YxkGywmueWcIXn6PdVCh0CY9F5Jq0pwYqK7TS4nRTd82MEl6vC3oyjb+/qWvBfK rnF+4dJWzcd6X0MAMiSPP35GyVICXas/peBXt0bPMdLT/xoIZt23zRdAQSudes+HMcjQ6eEsdmV VmxBMfzVBCgj0yrtx3TZwdReeFXLDcCM= X-Google-Smtp-Source: AGHT+IHvto+ZBWz7rsmYMqA8iY4Fa98ci7lIEEpRToxIiUO33xmxoUVRB/Hf8YLrNAa1z1j+NuwW2KT2VeRl X-Received: by 2002:a17:902:cf0e:b0:27e:ef96:c153 with SMTP id d9443c01a7336-2986a6d5195mr68131535ad.19.1763205640204; Sat, 15 Nov 2025 03:20:40 -0800 (PST) Received: from postal.iol.unh.edu (postal.iol.unh.edu. [132.177.123.84]) by smtp-relay.gmail.com with ESMTPS id d9443c01a7336-2985eb68a58sm7726595ad.56.2025.11.15.03.20.40 (version=TLS1_2 cipher=ECDHE-ECDSA-AES128-GCM-SHA256 bits=128/128); Sat, 15 Nov 2025 03:20:40 -0800 (PST) X-Relaying-Domain: iol.unh.edu Date: Sat, 15 Nov 2025 03:20:40 -0800 (PST) Message-ID: <69186208.170a0220.38a400.60e6SMTPIN_ADDED_MISSING@mx.google.com> Received: from [172.21.0.3] (unknown [172.18.0.240]) by postal.iol.unh.edu (Postfix) with ESMTP id 986CF6051830; Sat, 15 Nov 2025 06:20:39 -0500 (EST) Subject: |SUCCESS| pw158775 [PATCH] net/mlx5: fix state corruption in dev sta From: dpdklab@iol.unh.edu To: Test Report Cc: dpdk-test-reports@iol.unh.edu In-Reply-To: <20251113193711.7883-1-mkashani@nvidia.com> References: <20251113193711.7883-1-mkashani@nvidia.com> Content-Type: text/plain X-BeenThere: test-report@dpdk.org X-Mailman-Version: 2.1.29 Precedence: list List-Id: automatic DPDK test reports List-Unsubscribe: , List-Archive: List-Post: List-Help: List-Subscribe: , Errors-To: test-report-bounces@dpdk.org Test-Label: iol-compile-amd64-testing Test-Status: SUCCESS http://dpdk.org/patch/158775 _Testing PASS_ Submitter: Maayan Kashani Date: Thursday, November 13 2025 19:37:11 DPDK git baseline: Repo:dpdk-next-net-mlx Branch: master CommitID:ae657d56b1f0ea979b3f611edf28d773efc2ddcf 158775 --> testing pass Upstream job id: Windows-Compile-DPDK-Native#32386 Test environment and result as below: +-------------------------------+--------------------+------------------+-------------------+-------------------------+ | Environment | dpdk_meson_compile | dpdk_compile_ovs | dpdk_msvc_compile | dpdk_llvm_clang_compile | +===============================+====================+==================+===================+=========================+ | Ubuntu 20.04 | PASS | SKIPPED | SKIPPED | SKIPPED | +-------------------------------+--------------------+------------------+-------------------+-------------------------+ | FreeBSD 14.2 | PASS | SKIPPED | SKIPPED | SKIPPED | +-------------------------------+--------------------+------------------+-------------------+-------------------------+ | Alpine Linux 3.22.0 | PASS | SKIPPED | SKIPPED | SKIPPED | +-------------------------------+--------------------+------------------+-------------------+-------------------------+ | CentOS Stream 9 | PASS | SKIPPED | SKIPPED | SKIPPED | +-------------------------------+--------------------+------------------+-------------------+-------------------------+ | CentOS Stream 10 | PASS | SKIPPED | SKIPPED | SKIPPED | +-------------------------------+--------------------+------------------+-------------------+-------------------------+ | Debian GNU/Linux 12 | PASS | SKIPPED | SKIPPED | SKIPPED | +-------------------------------+--------------------+------------------+-------------------+-------------------------+ | Fedora Linux 42 | PASS | PASS | SKIPPED | SKIPPED | +-------------------------------+--------------------+------------------+-------------------+-------------------------+ | openSUSE Leap 15.6 | PASS | SKIPPED | SKIPPED | SKIPPED | +-------------------------------+--------------------+------------------+-------------------+-------------------------+ | Red Hat Enterprise Linux 8.10 | PASS | SKIPPED | SKIPPED | SKIPPED | +-------------------------------+--------------------+------------------+-------------------+-------------------------+ | Red Hat Enterprise Linux 9.5 | PASS | SKIPPED | SKIPPED | SKIPPED | +-------------------------------+--------------------+------------------+-------------------+-------------------------+ | Ubuntu 22.04 | PASS | SKIPPED | SKIPPED | SKIPPED | +-------------------------------+--------------------+------------------+-------------------+-------------------------+ | Ubuntu 24.04 | PASS | PASS | SKIPPED | SKIPPED | +-------------------------------+--------------------+------------------+-------------------+-------------------------+ | Windows Server 2022 | SKIPPED | SKIPPED | PASS | PASS | +-------------------------------+--------------------+------------------+-------------------+-------------------------+ Ubuntu 20.04 Kernel: 4.19 Compiler: gcc gcc (Ubuntu 9.4.0-1ubuntu1~20.04.2) 9.4.0 FreeBSD 14.2 Kernel: 14.2-RELEASE Compiler: clang 18.1.6 Alpine Linux 3.22.0 Kernel: 5.15 Compiler: gcc gcc (Alpine 14.2.0) 14.2.0 CentOS Stream 9 Kernel: 5.15 Compiler: gcc gcc (GCC) 11.5.0 20240719 (Red Hat 11.5.0-11) CentOS Stream 10 Kernel: 5.15 Compiler: gcc gcc (GCC) 14.2.1 20250110 (Red Hat 14.2.1-8) Debian GNU/Linux 12 Kernel: 5.15 Compiler: gcc gcc (Debian 12.2.0-14+deb12u1) 12.2.0 Fedora Linux 42 Kernel: 5.15 Compiler: clang gcc (GCC) 15.2.1 20250808 (Red Hat 15.2.1-1) openSUSE Leap 15.6 Kernel: 5.15 Compiler: gcc gcc (SUSE Linux) 7.5.0 Red Hat Enterprise Linux 8.10 Kernel: 5.15 Compiler: gcc gcc (GCC) 8.5.0 20210514 (Red Hat 8.5.0-22) Red Hat Enterprise Linux 9.5 Kernel: 5.15 Compiler: gcc gcc (GCC) 11.5.0 20240719 (Red Hat 11.5.0-2) Ubuntu 22.04 Kernel: 5.15 Compiler: gcc gcc (Ubuntu 11.4.0-1ubuntu1~22.04) 11.4.0 Ubuntu 24.04 Kernel: 5.15 Compiler: gcc gcc (Ubuntu 13.3.0-6ubuntu2~24.04) 13.3.0 Windows Server 2022 Kernel: 10.0.20348.2031 Compiler: clang 15.0.7, gcc 14.1.0 (MinGW), and MSVC VS 19.39.33521 To view detailed results, visit: https://lab.dpdk.org/results/dashboard/patchsets/34582/ UNH-IOL DPDK Community Lab To manage your email subscriptions, visit: https://lab.dpdk.org/results/dashboard/preferences/subscriptions/