From mboxrd@z Thu Jan 1 00:00:00 1970 Return-Path: Received: from mails.dpdk.org (mails.dpdk.org [217.70.189.124]) by inbox.dpdk.org (Postfix) with ESMTP id AE1F848B19 for ; Sat, 15 Nov 2025 12:29:03 +0100 (CET) Received: from mails.dpdk.org (localhost [127.0.0.1]) by mails.dpdk.org (Postfix) with ESMTP id A8F4C40A80; Sat, 15 Nov 2025 12:29:03 +0100 (CET) Received: from mail-pl1-f228.google.com (mail-pl1-f228.google.com [209.85.214.228]) by mails.dpdk.org (Postfix) with ESMTP id 7469040A80 for ; Sat, 15 Nov 2025 12:29:02 +0100 (CET) Received: by mail-pl1-f228.google.com with SMTP id d9443c01a7336-2955623e6faso25477115ad.1 for ; Sat, 15 Nov 2025 03:29:02 -0800 (PST) DKIM-Signature: v=1; a=rsa-sha256; c=relaxed/relaxed; d=iol.unh.edu; s=unh-iol; t=1763206141; x=1763810941; darn=dpdk.org; h=references:in-reply-to:cc:to:from:subject:message-id:date:from:to :cc:subject:date:message-id:reply-to; bh=FRmUYv5r0Dp8pdEux35gYPeIwrR9mvL6VCX1o8Yc3pI=; b=I59iB1njgRzPtuCB8nS9HxYxumoYZIcfblsz1pL5ihtObNADt9/MMCae8iAfVcty4j ScfWDcdk4hboXBdth8jlMF+4HRzUA6Fpr1EGnoWnilKIRskRwMjLPHrrIkqsoFSO4F/m o4Z1/DE2/1SnBI5N5amjvuq97BdTSsRg7r0gQ= X-Google-DKIM-Signature: v=1; a=rsa-sha256; c=relaxed/relaxed; d=1e100.net; s=20230601; t=1763206141; x=1763810941; h=references:in-reply-to:cc:to:from:subject:message-id:date:x-gm-gg :x-gm-message-state:from:to:cc:subject:date:message-id:reply-to; bh=FRmUYv5r0Dp8pdEux35gYPeIwrR9mvL6VCX1o8Yc3pI=; b=KNkp3xLqCyU2C1Gur8Dfn57Udwj/wbuV9Imh0GhBQS3osaHJkSJEtbrhQbq2iRa2X1 gwBiPRTJv4DtR44MLemqIBWWN73W9raKMEVTGVaDLz8vDiBAvq3qjEDLFzp+d9dRRQ2Y Ba0MN1bcueE/q+jdSey10R4xr+zHpZfp3sXv9+posFsLjkz1LxaouytNWNNzBkJk/gIe r9RbHIng6S+s6GChz+SDvM5NGdio3INyJUDMXnGFjAOwpxbSc9BxN3F6OnKnF36aFcm2 mMnOh5UYsTFvOCTImZFnnV2NjzdwgiujvQPEU2Xm0JmuaAyBJoAfgXIoCBnPT6UCWspD pxfA== X-Gm-Message-State: AOJu0Yw3Yg8grrlnmuqPpOr47GtozWg0yr7Ll1MqJRw1YZZ5Je5cktzV RwYnRbk3QAZBKFYrsAWK/Pi2MnfBVXYa05KlH+8MCAPAmcefPYf1PCRG86m1bNLB6hNb+EyNpa6 6cvYmF/meagkHOnw9k6w8+wtxh1PjzxXS98MFjV1zhgzP/OhLLsoOeoxS5LZb X-Gm-Gg: ASbGnctx3W1IGyBnfV6FhDJmC5veSPK4sQIeXBIIDSDq3JIolDZI3EvtKr0atwCc2EG 04vtq+q1EYroMaIwwHIYp5PjL5xuB/ZxXtRESP42+Ga8xptVporoa9bqJPpYgAlt1H+GELeA9SX xBQoCYodocszpl3pofyJc3UyGhc8JkBOpPw0FBJufo+xj45VldGPHKJlmXtuO6Q+fabBq95N866 wUNst9wcGcT1Ab0y6naDKLWCb3IpzHaXUldxfcD71Y/rVwCchQq02JM8g0PHGh8TWejp2aaWt2G 3yrlrTa/HaqoGQKxuH7W6h0G9JZ4KFyXR+5mZO0TgqPevIMMsutEF9exMUEFIwyF4/BMG9VQHtp F6Q4S2yx0 X-Google-Smtp-Source: AGHT+IEvlveBh3ja8EV0Hc7VPwo5eSGX+C+c2BwBKYXWYcbJyhzqg6mEqpxYnsxvhrRyrVqJ3Ms5f/5JWIGw X-Received: by 2002:a17:902:fc86:b0:295:c2e7:7199 with SMTP id d9443c01a7336-2986a73b764mr75511205ad.29.1763206141736; Sat, 15 Nov 2025 03:29:01 -0800 (PST) Received: from postal.iol.unh.edu (postal.iol.unh.edu. [2606:4100:3880:1234::84]) by smtp-relay.gmail.com with ESMTPS id d9443c01a7336-2986adee310sm5534645ad.45.2025.11.15.03.29.01 (version=TLS1_2 cipher=ECDHE-ECDSA-AES128-GCM-SHA256 bits=128/128); Sat, 15 Nov 2025 03:29:01 -0800 (PST) X-Relaying-Domain: iol.unh.edu Date: Sat, 15 Nov 2025 03:29:01 -0800 (PST) Message-ID: <691863fd.170a0220.1ea6f9.ce60SMTPIN_ADDED_MISSING@mx.google.com> Received: from [172.21.0.2] (unknown [172.18.0.240]) by postal.iol.unh.edu (Postfix) with ESMTP id F41F46051830; Sat, 15 Nov 2025 06:29:00 -0500 (EST) Subject: |SUCCESS| pw158776 [PATCH] app/testpmd: fix flex item link parsing From: dpdklab@iol.unh.edu To: Test Report Cc: dpdk-test-reports@iol.unh.edu, Stephen Hemminger In-Reply-To: <20251113201726.10597-1-mkashani@nvidia.com> References: <20251113201726.10597-1-mkashani@nvidia.com> Content-Type: text/plain X-BeenThere: test-report@dpdk.org X-Mailman-Version: 2.1.29 Precedence: list List-Id: automatic DPDK test reports List-Unsubscribe: , List-Archive: List-Post: List-Help: List-Subscribe: , Errors-To: test-report-bounces@dpdk.org Test-Label: iol-compile-amd64-testing Test-Status: SUCCESS http://dpdk.org/patch/158776 _Testing PASS_ Submitter: Maayan Kashani Date: Thursday, November 13 2025 20:17:25 DPDK git baseline: Repo:dpdk-next-net Branch: master CommitID:fca6f2910345c25a5050a0b586e0d324ca616cbb 158776 --> testing pass Upstream job id: Windows-Compile-DPDK-Native#32388 Test environment and result as below: +-------------------------------+--------------------+------------------+-------------------+-------------------------+ | Environment | dpdk_meson_compile | dpdk_compile_ovs | dpdk_msvc_compile | dpdk_llvm_clang_compile | +===============================+====================+==================+===================+=========================+ | Ubuntu 20.04 | PASS | SKIPPED | SKIPPED | SKIPPED | +-------------------------------+--------------------+------------------+-------------------+-------------------------+ | FreeBSD 14.2 | PASS | SKIPPED | SKIPPED | SKIPPED | +-------------------------------+--------------------+------------------+-------------------+-------------------------+ | CentOS Stream 9 | PASS | SKIPPED | SKIPPED | SKIPPED | +-------------------------------+--------------------+------------------+-------------------+-------------------------+ | CentOS Stream 10 | PASS | SKIPPED | SKIPPED | SKIPPED | +-------------------------------+--------------------+------------------+-------------------+-------------------------+ | Debian GNU/Linux 12 | PASS | SKIPPED | SKIPPED | SKIPPED | +-------------------------------+--------------------+------------------+-------------------+-------------------------+ | Fedora Linux 42 | PASS | PASS | SKIPPED | SKIPPED | +-------------------------------+--------------------+------------------+-------------------+-------------------------+ | openSUSE Leap 15.6 | PASS | SKIPPED | SKIPPED | SKIPPED | +-------------------------------+--------------------+------------------+-------------------+-------------------------+ | Red Hat Enterprise Linux 8.10 | PASS | SKIPPED | SKIPPED | SKIPPED | +-------------------------------+--------------------+------------------+-------------------+-------------------------+ | Red Hat Enterprise Linux 9.5 | PASS | SKIPPED | SKIPPED | SKIPPED | +-------------------------------+--------------------+------------------+-------------------+-------------------------+ | Ubuntu 22.04 | PASS | SKIPPED | SKIPPED | SKIPPED | +-------------------------------+--------------------+------------------+-------------------+-------------------------+ | Ubuntu 24.04 | PASS | PASS | SKIPPED | SKIPPED | +-------------------------------+--------------------+------------------+-------------------+-------------------------+ | Alpine Linux 3.22.0 | PASS | SKIPPED | SKIPPED | SKIPPED | +-------------------------------+--------------------+------------------+-------------------+-------------------------+ | Windows Server 2022 | SKIPPED | SKIPPED | PASS | PASS | +-------------------------------+--------------------+------------------+-------------------+-------------------------+ Ubuntu 20.04 Kernel: 4.19 Compiler: gcc gcc (Ubuntu 9.4.0-1ubuntu1~20.04.2) 9.4.0 FreeBSD 14.2 Kernel: 14.2-RELEASE Compiler: clang 18.1.6 CentOS Stream 9 Kernel: 5.15 Compiler: gcc gcc (GCC) 11.5.0 20240719 (Red Hat 11.5.0-11) CentOS Stream 10 Kernel: 5.15 Compiler: gcc gcc (GCC) 14.2.1 20250110 (Red Hat 14.2.1-8) Debian GNU/Linux 12 Kernel: 5.15 Compiler: gcc gcc (Debian 12.2.0-14+deb12u1) 12.2.0 Fedora Linux 42 Kernel: 5.15 Compiler: clang gcc (GCC) 15.2.1 20250808 (Red Hat 15.2.1-1) openSUSE Leap 15.6 Kernel: 5.15 Compiler: gcc gcc (SUSE Linux) 7.5.0 Red Hat Enterprise Linux 8.10 Kernel: 5.15 Compiler: gcc gcc (GCC) 8.5.0 20210514 (Red Hat 8.5.0-22) Red Hat Enterprise Linux 9.5 Kernel: 5.15 Compiler: gcc gcc (GCC) 11.5.0 20240719 (Red Hat 11.5.0-2) Ubuntu 22.04 Kernel: 5.15 Compiler: gcc gcc (Ubuntu 11.4.0-1ubuntu1~22.04) 11.4.0 Ubuntu 24.04 Kernel: 5.15 Compiler: gcc gcc (Ubuntu 13.3.0-6ubuntu2~24.04) 13.3.0 Alpine Linux 3.22.0 Kernel: 5.15 Compiler: gcc gcc (Alpine 14.2.0) 14.2.0 Windows Server 2022 Kernel: 10.0.20348.2031 Compiler: clang 15.0.7, gcc 14.1.0 (MinGW), and MSVC VS 19.39.33521 To view detailed results, visit: https://lab.dpdk.org/results/dashboard/patchsets/34583/ UNH-IOL DPDK Community Lab To manage your email subscriptions, visit: https://lab.dpdk.org/results/dashboard/preferences/subscriptions/