From mboxrd@z Thu Jan 1 00:00:00 1970 Return-Path: Received: from mails.dpdk.org (mails.dpdk.org [217.70.189.124]) by inbox.dpdk.org (Postfix) with ESMTP id 1523B48B19 for ; Sat, 15 Nov 2025 12:31:36 +0100 (CET) Received: from mails.dpdk.org (localhost [127.0.0.1]) by mails.dpdk.org (Postfix) with ESMTP id F298240A80; Sat, 15 Nov 2025 12:31:35 +0100 (CET) Received: from mail-pl1-f225.google.com (mail-pl1-f225.google.com [209.85.214.225]) by mails.dpdk.org (Postfix) with ESMTP id 4641740A80 for ; Sat, 15 Nov 2025 12:31:34 +0100 (CET) Received: by mail-pl1-f225.google.com with SMTP id d9443c01a7336-297d4a56f97so29439015ad.1 for ; Sat, 15 Nov 2025 03:31:34 -0800 (PST) DKIM-Signature: v=1; a=rsa-sha256; c=relaxed/relaxed; d=iol.unh.edu; s=unh-iol; t=1763206293; x=1763811093; darn=dpdk.org; h=references:in-reply-to:cc:to:from:subject:message-id:date:from:to :cc:subject:date:message-id:reply-to; bh=VLH5vXhDGF5q0qXdJpJpEiFZR97abJJ9eF3jXMNAe1E=; b=auOsGnmi6Ex0R+fih9Ke6mB2sE712F/wMUwTNSerPVBqrcSZ5fUmWf+NOD9fubUVYH AaBvhufN7qDD8yrfpm9PDzb5BCRQ8k1aUQJBT+HdjSCS25AvAtTow2hByXUKKSdhPqsf +48lXbnNCgIbzgx8jDoPTs7eEhRZyuzjGBsC8= X-Google-DKIM-Signature: v=1; a=rsa-sha256; c=relaxed/relaxed; d=1e100.net; s=20230601; t=1763206293; x=1763811093; h=references:in-reply-to:cc:to:from:subject:message-id:date:x-gm-gg :x-gm-message-state:from:to:cc:subject:date:message-id:reply-to; bh=VLH5vXhDGF5q0qXdJpJpEiFZR97abJJ9eF3jXMNAe1E=; b=CUOFVro+qwggZPSNYNy+eNzVByLhLyjocISci6qbjxjrEePK0bBKqx7H6RQWxOaGkr pUrJneOPCzqaScTrxe5a3Mo0KlOHfhpHpppGbSSYH0vHQl4zOCOM8noRTax/GBtARknU LS5P5Ojyzp8dw1k5v1MkAqKYlWE3wIl0NanKjWVZCaLXcTF3tj3mJVtfPVq9s9Qk8GHx RbU6y8GeiOYki+scM75Bu0str7gEXd7mq5zEROtV/CBbN7DvxpPxP4Jyu2WUzLgq/AJ6 lO/2juSpEiBG+f81vdo9r3rKc9BqkDXjD87k+RoF4Uh7Ml2psXpA5cWY+2T10Apj4f1I amhQ== X-Gm-Message-State: AOJu0Yxl74QyiPW/eX/ozmZrhOekzjA+czYrlSmd8mB6Kk8HwuvvxslX Z2KLYV3tgDBxOEGJ1zDGT4xgG8sAAbN16AYUmz9AfUaUE4abn2FhnKRwa7clTyH2vrMYOQm9VlR NzulzD5WArbPvxLmDmHCsKzjW+RXtWZuUmB2Fsyak4ObBV4SyljeglEFxDXNj X-Gm-Gg: ASbGncvefaeOerJ5U8OjVk0WCy7mHDmqRrMueDwLhN+MrmhQ47jmFB75oaZ3EU8S7T1 LHEDXjzx2a5M8z9cgSSCNEJpDVi69nHEO/+oR4GBwAPLGPjhmOznjm+58aWh+C6AC69gNXSU3MJ cIOpV7RnuXhSAX8aMNTEj7XBK0Ly6CeuxMsUcQdLP51VI6B4f+8iutaLqbuSmF8lFo9sXl7qJFG fhBSk7K7zenIDvfx6Fpwn4vRmcY6Z4QsDl8YQyAh+TdrzoCvJSyA5weLjuwPFZtyNFaDP89EpiZ NhB9gHF7/nkNucJMSJchZ+UF43i8m7kXaLpiTngaJL6IEFpIoZ2oyFZLckubq8j/1K1YcDPqQe6 jRzMrF8AT X-Google-Smtp-Source: AGHT+IEfEBOq1gj2hB3f55DsO2koIHmobsXuy83WiLlkHyRjGK6WdyFrrZsmUDgv2VsrCsaYg3kSvhVQD4x2 X-Received: by 2002:a17:902:ce82:b0:296:5ea8:ed7c with SMTP id d9443c01a7336-2986a6be4d5mr65274915ad.17.1763206293436; Sat, 15 Nov 2025 03:31:33 -0800 (PST) Received: from postal.iol.unh.edu (postal.iol.unh.edu. [2606:4100:3880:1234::84]) by smtp-relay.gmail.com with ESMTPS id d9443c01a7336-2985c2b7b81sm8793395ad.50.2025.11.15.03.31.33 (version=TLS1_2 cipher=ECDHE-ECDSA-AES128-GCM-SHA256 bits=128/128); Sat, 15 Nov 2025 03:31:33 -0800 (PST) X-Relaying-Domain: iol.unh.edu Date: Sat, 15 Nov 2025 03:31:33 -0800 (PST) Message-ID: <69186495.170a0220.2073c2.c8f6SMTPIN_ADDED_MISSING@mx.google.com> Received: from [172.21.0.3] (unknown [172.18.0.240]) by postal.iol.unh.edu (Postfix) with ESMTP id A87736051830; Sat, 15 Nov 2025 06:31:32 -0500 (EST) Subject: |SUCCESS| pw158776 [PATCH] app/testpmd: fix flex item link parsing From: dpdklab@iol.unh.edu To: Test Report Cc: dpdk-test-reports@iol.unh.edu, Stephen Hemminger In-Reply-To: <20251113201726.10597-1-mkashani@nvidia.com> References: <20251113201726.10597-1-mkashani@nvidia.com> Content-Type: text/plain X-BeenThere: test-report@dpdk.org X-Mailman-Version: 2.1.29 Precedence: list List-Id: automatic DPDK test reports List-Unsubscribe: , List-Archive: List-Post: List-Help: List-Subscribe: , Errors-To: test-report-bounces@dpdk.org Test-Label: iol-compile-amd64-testing Test-Status: SUCCESS http://dpdk.org/patch/158776 _Testing PASS_ Submitter: Maayan Kashani Date: Thursday, November 13 2025 20:17:25 DPDK git baseline: Repo:dpdk-next-net Branch: master CommitID:fca6f2910345c25a5050a0b586e0d324ca616cbb 158776 --> testing pass Upstream job id: Windows-Compile-DPDK-Native#32389 Test environment and result as below: +-------------------------------+--------------------+------------------+-------------------+-------------------------+----------------------+ | Environment | dpdk_meson_compile | dpdk_compile_ovs | dpdk_msvc_compile | dpdk_llvm_clang_compile | dpdk_mingw64_compile | +===============================+====================+==================+===================+=========================+======================+ | Ubuntu 20.04 | PASS | SKIPPED | SKIPPED | SKIPPED | SKIPPED | +-------------------------------+--------------------+------------------+-------------------+-------------------------+----------------------+ | FreeBSD 14.2 | PASS | SKIPPED | SKIPPED | SKIPPED | SKIPPED | +-------------------------------+--------------------+------------------+-------------------+-------------------------+----------------------+ | CentOS Stream 9 | PASS | SKIPPED | SKIPPED | SKIPPED | SKIPPED | +-------------------------------+--------------------+------------------+-------------------+-------------------------+----------------------+ | CentOS Stream 10 | PASS | SKIPPED | SKIPPED | SKIPPED | SKIPPED | +-------------------------------+--------------------+------------------+-------------------+-------------------------+----------------------+ | Debian GNU/Linux 12 | PASS | SKIPPED | SKIPPED | SKIPPED | SKIPPED | +-------------------------------+--------------------+------------------+-------------------+-------------------------+----------------------+ | Fedora Linux 42 | PASS | PASS | SKIPPED | SKIPPED | SKIPPED | +-------------------------------+--------------------+------------------+-------------------+-------------------------+----------------------+ | openSUSE Leap 15.6 | PASS | SKIPPED | SKIPPED | SKIPPED | SKIPPED | +-------------------------------+--------------------+------------------+-------------------+-------------------------+----------------------+ | Red Hat Enterprise Linux 8.10 | PASS | SKIPPED | SKIPPED | SKIPPED | SKIPPED | +-------------------------------+--------------------+------------------+-------------------+-------------------------+----------------------+ | Red Hat Enterprise Linux 9.5 | PASS | SKIPPED | SKIPPED | SKIPPED | SKIPPED | +-------------------------------+--------------------+------------------+-------------------+-------------------------+----------------------+ | Ubuntu 22.04 | PASS | SKIPPED | SKIPPED | SKIPPED | SKIPPED | +-------------------------------+--------------------+------------------+-------------------+-------------------------+----------------------+ | Ubuntu 24.04 | PASS | PASS | SKIPPED | SKIPPED | SKIPPED | +-------------------------------+--------------------+------------------+-------------------+-------------------------+----------------------+ | Alpine Linux 3.22.0 | PASS | SKIPPED | SKIPPED | SKIPPED | SKIPPED | +-------------------------------+--------------------+------------------+-------------------+-------------------------+----------------------+ | Windows Server 2022 | SKIPPED | SKIPPED | PASS | PASS | PASS | +-------------------------------+--------------------+------------------+-------------------+-------------------------+----------------------+ Ubuntu 20.04 Kernel: 4.19 Compiler: gcc gcc (Ubuntu 9.4.0-1ubuntu1~20.04.2) 9.4.0 FreeBSD 14.2 Kernel: 14.2-RELEASE Compiler: clang 18.1.6 CentOS Stream 9 Kernel: 5.15 Compiler: gcc gcc (GCC) 11.5.0 20240719 (Red Hat 11.5.0-11) CentOS Stream 10 Kernel: 5.15 Compiler: gcc gcc (GCC) 14.2.1 20250110 (Red Hat 14.2.1-8) Debian GNU/Linux 12 Kernel: 5.15 Compiler: gcc gcc (Debian 12.2.0-14+deb12u1) 12.2.0 Fedora Linux 42 Kernel: 5.15 Compiler: clang gcc (GCC) 15.2.1 20250808 (Red Hat 15.2.1-1) openSUSE Leap 15.6 Kernel: 5.15 Compiler: gcc gcc (SUSE Linux) 7.5.0 Red Hat Enterprise Linux 8.10 Kernel: 5.15 Compiler: gcc gcc (GCC) 8.5.0 20210514 (Red Hat 8.5.0-22) Red Hat Enterprise Linux 9.5 Kernel: 5.15 Compiler: gcc gcc (GCC) 11.5.0 20240719 (Red Hat 11.5.0-2) Ubuntu 22.04 Kernel: 5.15 Compiler: gcc gcc (Ubuntu 11.4.0-1ubuntu1~22.04) 11.4.0 Ubuntu 24.04 Kernel: 5.15 Compiler: gcc gcc (Ubuntu 13.3.0-6ubuntu2~24.04) 13.3.0 Alpine Linux 3.22.0 Kernel: 5.15 Compiler: gcc gcc (Alpine 14.2.0) 14.2.0 Windows Server 2022 Kernel: 10.0.20348.2031 Compiler: clang 15.0.7, gcc 14.1.0 (MinGW), and MSVC VS 19.39.33521 To view detailed results, visit: https://lab.dpdk.org/results/dashboard/patchsets/34583/ UNH-IOL DPDK Community Lab To manage your email subscriptions, visit: https://lab.dpdk.org/results/dashboard/preferences/subscriptions/