From mboxrd@z Thu Jan 1 00:00:00 1970 Return-Path: Received: from mails.dpdk.org (mails.dpdk.org [217.70.189.124]) by inbox.dpdk.org (Postfix) with ESMTP id 60D6248B19 for ; Sat, 15 Nov 2025 12:34:12 +0100 (CET) Received: from mails.dpdk.org (localhost [127.0.0.1]) by mails.dpdk.org (Postfix) with ESMTP id 3BE3A40A80; Sat, 15 Nov 2025 12:34:12 +0100 (CET) Received: from mail-il1-f228.google.com (mail-il1-f228.google.com [209.85.166.228]) by mails.dpdk.org (Postfix) with ESMTP id 7341F40A80 for ; Sat, 15 Nov 2025 12:34:10 +0100 (CET) Received: by mail-il1-f228.google.com with SMTP id e9e14a558f8ab-4336f492d75so15496035ab.1 for ; Sat, 15 Nov 2025 03:34:10 -0800 (PST) DKIM-Signature: v=1; a=rsa-sha256; c=relaxed/relaxed; d=iol.unh.edu; s=unh-iol; t=1763206450; x=1763811250; darn=dpdk.org; h=references:in-reply-to:cc:to:from:subject:message-id:date:from:to :cc:subject:date:message-id:reply-to; bh=2SF6mcbERY/ZZ6jtIngbLqCjtEAdG4PfQ3UqJOY/E2o=; b=dAmsZcERQRQ8z4FGttgyiFncoKltt6zSVkjhKNTg9BanjcaFwLw3V/qmxFnkMDyLpi hOxxjmAOGaMtAYyazwByucT+ridYfFQ2TjdP8AK0M0XoCd2JtwUaGuiR9gLy5sT+cNFV 1iXprBsJCiS5G/KcVe/AWovk0AEcUuZNA/XBg= X-Google-DKIM-Signature: v=1; a=rsa-sha256; c=relaxed/relaxed; d=1e100.net; s=20230601; t=1763206450; x=1763811250; h=references:in-reply-to:cc:to:from:subject:message-id:date:x-gm-gg :x-gm-message-state:from:to:cc:subject:date:message-id:reply-to; bh=2SF6mcbERY/ZZ6jtIngbLqCjtEAdG4PfQ3UqJOY/E2o=; b=aCH2Kr8WqhHKUUDhAc1gBUHfUam7JwPTk320FUtLNUCLwR/h66A7aH8vPW2sW25voN 5nklCBakWkKGRf41PoNaoe1q1pSPw+5vUXT9hGQLjcnwUKTEUEFyyEGMLLTlhHmQpvXP BQCBUXLDfM5WhSG5ZS2yEcGsUlDk8CttkStr/I2HlAII5lFjlrpYYBpFNt1nLrMJK/dc TRHuI3dHQNuvdN//uaCoO7AA98LXSi9F1pDgwMLjiY5gELTggXQ/EFPwEm5/Q33HWb76 94muShjHMmHxUZT2o34i7gfi7shn3dfQmkOxwU4v+oNaPXFOjFa01MZ7e5uHEKd2EHWY OkMw== X-Gm-Message-State: AOJu0YytUa+vUaXmWpK7UDxiYihZCV686HhTTFFzlwKHlRq293R/pXdV BJXz+ZP0WX2IZFr9HGqddh17gCNAInfj/VRvl7UKY+ffhAth8Yy9MDS4wXTaJysA4dH0GgQ1614 ECw5IUOSQNtOiHGxonXSdePLO5mjJPy0R4Zx5cmYH8mQp X-Gm-Gg: ASbGncsuxXoAS12IY/BpoT2t3DMonOhm6FBxDzhh6rv+wV9seW7Q1c6QBklLZbKHPGJ yRUZ/lKdpimyq4ye+A76+QBRXmcbWax7D7SJLEHyakmHHLRWvRa1AYpXD6gRlwJTpj8dtjmlgVi 3QSv9HdiiHHgiLWkwRAogqwuCIF3RodAIhjEDsPcPWzhvKFakCJN9rZLVO+TtYYsGHVS2wHFkqM r1kxPalzJ6VFyhdDqEZUzxBaTFMZ0/nUKa4qj8J+Dw5VXcP46KGj18CnNA5OgN8jhirXEEPfdct Y9+/i/y8zfvqPR/vrPtyXST4c00In8yrqN4PeYNDIHMcKgf368CPDUgJfvY9ZMdn2Q4aoeL9DG0 OTJm1V/qARBAOZXZZQY+dSOawlMYMlZw= X-Google-Smtp-Source: AGHT+IHsBCdsDg+ek3T/J8FidIXC+QtvKeRXnWiyeFrr8yrTad0FnR5YDgcCIrI8UVukPYNnrjy7P9z9twpG X-Received: by 2002:a05:6e02:12e9:b0:433:31ff:f885 with SMTP id e9e14a558f8ab-4348c8be049mr89735175ab.9.1763206449760; Sat, 15 Nov 2025 03:34:09 -0800 (PST) Received: from postal.iol.unh.edu (postal.iol.unh.edu. [132.177.123.84]) by smtp-relay.gmail.com with ESMTPS id e9e14a558f8ab-434833c6086sm6945765ab.7.2025.11.15.03.34.09 (version=TLS1_2 cipher=ECDHE-ECDSA-AES128-GCM-SHA256 bits=128/128); Sat, 15 Nov 2025 03:34:09 -0800 (PST) X-Relaying-Domain: iol.unh.edu Date: Sat, 15 Nov 2025 03:34:09 -0800 (PST) Message-ID: <69186531.050a0220.2f32ba.1c12SMTPIN_ADDED_MISSING@mx.google.com> Received: from [172.21.0.3] (unknown [172.18.0.240]) by postal.iol.unh.edu (Postfix) with ESMTP id 320B56051830; Sat, 15 Nov 2025 06:34:09 -0500 (EST) Subject: |SUCCESS| pw158777-158778 [PATCH] [2/2] net/iavf: check Rx timestamp From: dpdklab@iol.unh.edu To: Test Report Cc: dpdk-test-reports@iol.unh.edu, Bruce Richardson In-Reply-To: <20251113-jk-dpdk-iavf-rx-timestamping-improvements-v1-2-3d9a0168087b@intel.com> References: <20251113-jk-dpdk-iavf-rx-timestamping-improvements-v1-2-3d9a0168087b@intel.com> Content-Type: text/plain X-BeenThere: test-report@dpdk.org X-Mailman-Version: 2.1.29 Precedence: list List-Id: automatic DPDK test reports List-Unsubscribe: , List-Archive: List-Post: List-Help: List-Subscribe: , Errors-To: test-report-bounces@dpdk.org Test-Label: iol-compile-amd64-testing Test-Status: SUCCESS http://dpdk.org/patch/158778 _Testing PASS_ Submitter: Jacob Keller Date: Thursday, November 13 2025 21:33:45 DPDK git baseline: Repo:dpdk-next-net-intel Branch: master CommitID:e5357d609907d504f4705e4899f3dad43cb4b70f 158777-158778 --> testing pass Upstream job id: Windows-Compile-DPDK-Native#32390 Test environment and result as below: +-------------------------------+--------------------+-------------------------+------------------+-------------------+----------------------+ | Environment | dpdk_meson_compile | dpdk_llvm_clang_compile | dpdk_compile_ovs | dpdk_msvc_compile | dpdk_mingw64_compile | +===============================+====================+=========================+==================+===================+======================+ | Ubuntu 20.04 | PASS | SKIPPED | SKIPPED | SKIPPED | SKIPPED | +-------------------------------+--------------------+-------------------------+------------------+-------------------+----------------------+ | FreeBSD 14.2 | PASS | SKIPPED | SKIPPED | SKIPPED | SKIPPED | +-------------------------------+--------------------+-------------------------+------------------+-------------------+----------------------+ | Red Hat Enterprise Linux 8.10 | PASS | SKIPPED | SKIPPED | SKIPPED | SKIPPED | +-------------------------------+--------------------+-------------------------+------------------+-------------------+----------------------+ | Fedora Linux 42 | PASS | SKIPPED | PASS | SKIPPED | SKIPPED | +-------------------------------+--------------------+-------------------------+------------------+-------------------+----------------------+ | CentOS Stream 9 | PASS | SKIPPED | SKIPPED | SKIPPED | SKIPPED | +-------------------------------+--------------------+-------------------------+------------------+-------------------+----------------------+ | CentOS Stream 10 | PASS | SKIPPED | SKIPPED | SKIPPED | SKIPPED | +-------------------------------+--------------------+-------------------------+------------------+-------------------+----------------------+ | Debian GNU/Linux 12 | PASS | SKIPPED | SKIPPED | SKIPPED | SKIPPED | +-------------------------------+--------------------+-------------------------+------------------+-------------------+----------------------+ | openSUSE Leap 15.6 | PASS | SKIPPED | SKIPPED | SKIPPED | SKIPPED | +-------------------------------+--------------------+-------------------------+------------------+-------------------+----------------------+ | Red Hat Enterprise Linux 9.5 | PASS | SKIPPED | SKIPPED | SKIPPED | SKIPPED | +-------------------------------+--------------------+-------------------------+------------------+-------------------+----------------------+ | Ubuntu 22.04 | PASS | SKIPPED | SKIPPED | SKIPPED | SKIPPED | +-------------------------------+--------------------+-------------------------+------------------+-------------------+----------------------+ | Ubuntu 24.04 | PASS | SKIPPED | PASS | SKIPPED | SKIPPED | +-------------------------------+--------------------+-------------------------+------------------+-------------------+----------------------+ | Alpine Linux 3.22.0 | PASS | SKIPPED | SKIPPED | SKIPPED | SKIPPED | +-------------------------------+--------------------+-------------------------+------------------+-------------------+----------------------+ | Windows Server 2022 | SKIPPED | PASS | SKIPPED | PASS | PASS | +-------------------------------+--------------------+-------------------------+------------------+-------------------+----------------------+ Ubuntu 20.04 Kernel: 4.19 Compiler: gcc gcc (Ubuntu 9.4.0-1ubuntu1~20.04.2) 9.4.0 FreeBSD 14.2 Kernel: 14.2-RELEASE Compiler: clang 18.1.6 Red Hat Enterprise Linux 8.10 Kernel: 5.15 Compiler: gcc gcc (GCC) 8.5.0 20210514 (Red Hat 8.5.0-22) Fedora Linux 42 Kernel: 5.15 Compiler: gcc gcc (GCC) 15.2.1 20250808 (Red Hat 15.2.1-1) CentOS Stream 9 Kernel: 5.15 Compiler: gcc gcc (GCC) 11.5.0 20240719 (Red Hat 11.5.0-11) CentOS Stream 10 Kernel: 5.15 Compiler: gcc gcc (GCC) 14.2.1 20250110 (Red Hat 14.2.1-8) Debian GNU/Linux 12 Kernel: 5.15 Compiler: gcc gcc (Debian 12.2.0-14+deb12u1) 12.2.0 openSUSE Leap 15.6 Kernel: 5.15 Compiler: gcc gcc (SUSE Linux) 7.5.0 Red Hat Enterprise Linux 9.5 Kernel: 5.15 Compiler: gcc gcc (GCC) 11.5.0 20240719 (Red Hat 11.5.0-2) Ubuntu 22.04 Kernel: 5.15 Compiler: gcc gcc (Ubuntu 11.4.0-1ubuntu1~22.04) 11.4.0 Ubuntu 24.04 Kernel: 5.15 Compiler: gcc gcc (Ubuntu 13.3.0-6ubuntu2~24.04) 13.3.0 Alpine Linux 3.22.0 Kernel: 5.15 Compiler: gcc gcc (Alpine 14.2.0) 14.2.0 Windows Server 2022 Kernel: 10.0.20348.2031 Compiler: clang 15.0.7, gcc 14.1.0 (MinGW), and MSVC VS 19.39.33521 To view detailed results, visit: https://lab.dpdk.org/results/dashboard/patchsets/34584/ UNH-IOL DPDK Community Lab To manage your email subscriptions, visit: https://lab.dpdk.org/results/dashboard/preferences/subscriptions/