From mboxrd@z Thu Jan 1 00:00:00 1970 Return-Path: Received: from mails.dpdk.org (mails.dpdk.org [217.70.189.124]) by inbox.dpdk.org (Postfix) with ESMTP id E5E4948B19 for ; Sat, 15 Nov 2025 12:39:29 +0100 (CET) Received: from mails.dpdk.org (localhost [127.0.0.1]) by mails.dpdk.org (Postfix) with ESMTP id C28C540A80; Sat, 15 Nov 2025 12:39:29 +0100 (CET) Received: from mail-il1-f227.google.com (mail-il1-f227.google.com [209.85.166.227]) by mails.dpdk.org (Postfix) with ESMTP id D1B8940A80 for ; Sat, 15 Nov 2025 12:39:27 +0100 (CET) Received: by mail-il1-f227.google.com with SMTP id e9e14a558f8ab-4330d2ea04eso11060975ab.3 for ; Sat, 15 Nov 2025 03:39:27 -0800 (PST) DKIM-Signature: v=1; a=rsa-sha256; c=relaxed/relaxed; d=iol.unh.edu; s=unh-iol; t=1763206767; x=1763811567; darn=dpdk.org; h=cc:to:from:subject:message-id:date:from:to:cc:subject:date :message-id:reply-to; bh=QjdcZB2fm1fDhmNY0eeiTUsNoKe16MPwtR8KHbLKX74=; b=UTYVBRAWX6i1j46+RH9LTIycNyx7NRJ2UGhEB28njoEvpI2ROcst//5OZdv7BCx2Tu dt8h+k7Xm/yv4V2j8Ht/P3puTE7sBgrjPtnpzSXvptERaTJ07WiMNEiGVgg/SigFmpDZ WoTMSXCHCn80aWSAehMPuvuLWBI9KRC8jQ8G8= X-Google-DKIM-Signature: v=1; a=rsa-sha256; c=relaxed/relaxed; d=1e100.net; s=20230601; t=1763206767; x=1763811567; h=cc:to:from:subject:message-id:date:x-gm-gg:x-gm-message-state:from :to:cc:subject:date:message-id:reply-to; bh=QjdcZB2fm1fDhmNY0eeiTUsNoKe16MPwtR8KHbLKX74=; b=nbSo10gQxFNXQ0MjmWbN19sO9dYrFxLPdOC8VsxxqKS8uACgmSP+lzjuPBgEj27Y+d eYDntgEFmgnUO3aIBvNuNeaFMZwDLnDYngQ6swD8nM7v61eS+BgxDm0U6wE6dK968GCL vEFUkrJnJGbiU8zdjqi9wxwlP0xrfrnR19TS75tY+5l2+7AOVT1BfdsSRpReGljs32Yi 4WItvalD1NRJxOWfpiywpY8qcFoHNX5hGOuL/3DYSFJ/TwqexHvfk3UMCX9GjOu4gnMQ kNspxLexhwOHpic1mCAKHcLpKz4l71IJPSTJB98EqoDqQOSDsOx33DsSdbbLXaFohfwh 1Rjw== X-Gm-Message-State: AOJu0YyB5wbTeFQOTevN8ss/IlK/2PTjQ6j71pdO4U+NOYl4ju124xYp Nh4LWRkNc/R0Uxi5Ai/RRU3MZ3YHhgjYhSXFEVS9auAlVboHTfPdk5V7Idm4r0zXF0WXyV8Ra1q LK6PkHwLmKdBBhKbSErDZ3D/Vf3i7j1JiAmiFkPvoE+MFON/4W8+jjnLqruFF X-Gm-Gg: ASbGncsPaTdpHUI3dMmjI9KvRz1zYKdqBQC98DxNVBMnI1raOYOYaGTAlygwe8GTESx yIrGoZTnY12P0XYjDoua3g5vF95MPjCAUE3a7g+fk58b/1D/V4aO5sLtWITbPgO/i5uWM0PVTez Xi/XebM2vLsvOfEwZzigcU6RtnqGFRHTj4brYgnrD/FyAsktILmIY1NaF9xjBDHPI9f+dGKCdir PwtYeRrVg+sD+mKKr8DaEMlpYIjBEmJ5wIkAwH/n7PhCX6jYNEGsJMaBKKxzILAiX2K5galClXq PbCyRC0dzBLUswlk6XXiikPwNQwB9m8RWU/2RF8we1sSpLaDuSiQWJbehvopgxBDvRQ290CZOhQ GrDsq5L7D X-Google-Smtp-Source: AGHT+IEORbpEUmSqis3Uq9S+DCOoYWMz7xxZ64zI9UjdwkTMLCtc09ZXGXA1QO5rjwALudXIKZ/jWO8zwUwv X-Received: by 2002:a92:c6c7:0:b0:434:96ea:ff5d with SMTP id e9e14a558f8ab-43496eb00d6mr35689085ab.38.1763206767134; Sat, 15 Nov 2025 03:39:27 -0800 (PST) Received: from postal.iol.unh.edu (postal.iol.unh.edu. [2606:4100:3880:1234::84]) by smtp-relay.gmail.com with ESMTPS id e9e14a558f8ab-434839e2d05sm7165005ab.29.2025.11.15.03.39.27 (version=TLS1_2 cipher=ECDHE-ECDSA-AES128-GCM-SHA256 bits=128/128); Sat, 15 Nov 2025 03:39:27 -0800 (PST) X-Relaying-Domain: iol.unh.edu Date: Sat, 15 Nov 2025 03:39:27 -0800 (PST) Message-ID: <6918666f.920a0220.34f53e.2c92SMTPIN_ADDED_MISSING@mx.google.com> Received: from [172.21.0.2] (unknown [172.18.0.240]) by postal.iol.unh.edu (Postfix) with ESMTP id A302D6051830; Sat, 15 Nov 2025 06:39:26 -0500 (EST) Subject: |SUCCESS| [GIT MASTER] be0112878b4fc3a1b918370ed2fe615c52039d77 From: dpdklab@iol.unh.edu To: Test Report Cc: dpdk-test-reports@iol.unh.edu Content-Type: text/plain X-BeenThere: test-report@dpdk.org X-Mailman-Version: 2.1.29 Precedence: list List-Id: automatic DPDK test reports List-Unsubscribe: , List-Archive: List-Post: List-Help: List-Subscribe: , Errors-To: test-report-bounces@dpdk.org _Testing PASS_ Branch: dpdk be0112878b4fc3a1b918370ed2fe615c52039d77 --> testing pass Upstream job id: Windows-Compile-DPDK-Native#32391 Test environment and result as below: +-------------------------------+--------------------+------------------+-------------------+-------------------------+ | Environment | dpdk_meson_compile | dpdk_compile_ovs | dpdk_msvc_compile | dpdk_llvm_clang_compile | +===============================+====================+==================+===================+=========================+ | FreeBSD 14.2 | PASS | SKIPPED | SKIPPED | SKIPPED | +-------------------------------+--------------------+------------------+-------------------+-------------------------+ | Ubuntu 20.04 | PASS | SKIPPED | SKIPPED | SKIPPED | +-------------------------------+--------------------+------------------+-------------------+-------------------------+ | CentOS Stream 9 | PASS | SKIPPED | SKIPPED | SKIPPED | +-------------------------------+--------------------+------------------+-------------------+-------------------------+ | CentOS Stream 10 | PASS | SKIPPED | SKIPPED | SKIPPED | +-------------------------------+--------------------+------------------+-------------------+-------------------------+ | Debian GNU/Linux 12 | PASS | SKIPPED | SKIPPED | SKIPPED | +-------------------------------+--------------------+------------------+-------------------+-------------------------+ | Fedora Linux 42 | PASS | PASS | SKIPPED | SKIPPED | +-------------------------------+--------------------+------------------+-------------------+-------------------------+ | openSUSE Leap 15.6 | PASS | SKIPPED | SKIPPED | SKIPPED | +-------------------------------+--------------------+------------------+-------------------+-------------------------+ | Red Hat Enterprise Linux 8.10 | PASS | SKIPPED | SKIPPED | SKIPPED | +-------------------------------+--------------------+------------------+-------------------+-------------------------+ | Red Hat Enterprise Linux 9.5 | PASS | SKIPPED | SKIPPED | SKIPPED | +-------------------------------+--------------------+------------------+-------------------+-------------------------+ | Ubuntu 22.04 | PASS | SKIPPED | SKIPPED | SKIPPED | +-------------------------------+--------------------+------------------+-------------------+-------------------------+ | Ubuntu 24.04 | PASS | PASS | SKIPPED | SKIPPED | +-------------------------------+--------------------+------------------+-------------------+-------------------------+ | Alpine Linux 3.22.0 | PASS | SKIPPED | SKIPPED | SKIPPED | +-------------------------------+--------------------+------------------+-------------------+-------------------------+ | Arch Linux 20250613.0.365270 | PASS | SKIPPED | SKIPPED | SKIPPED | +-------------------------------+--------------------+------------------+-------------------+-------------------------+ | Windows Server 2022 | SKIPPED | SKIPPED | PASS | PASS | +-------------------------------+--------------------+------------------+-------------------+-------------------------+ FreeBSD 14.2 Kernel: 14.2-RELEASE Compiler: clang 18.1.6 Ubuntu 20.04 Kernel: 4.19 Compiler: gcc gcc (Ubuntu 9.4.0-1ubuntu1~20.04.2) 9.4.0 CentOS Stream 9 Kernel: 5.15 Compiler: gcc gcc (GCC) 11.5.0 20240719 (Red Hat 11.5.0-11) CentOS Stream 10 Kernel: 5.15 Compiler: gcc gcc (GCC) 14.2.1 20250110 (Red Hat 14.2.1-8) Debian GNU/Linux 12 Kernel: 5.15 Compiler: gcc gcc (Debian 12.2.0-14+deb12u1) 12.2.0 Fedora Linux 42 Kernel: 5.15 Compiler: clang gcc (GCC) 15.2.1 20250808 (Red Hat 15.2.1-1) openSUSE Leap 15.6 Kernel: 5.15 Compiler: gcc gcc (SUSE Linux) 7.5.0 Red Hat Enterprise Linux 8.10 Kernel: 5.15 Compiler: gcc gcc (GCC) 8.5.0 20210514 (Red Hat 8.5.0-22) Red Hat Enterprise Linux 9.5 Kernel: 5.15 Compiler: gcc gcc (GCC) 11.5.0 20240719 (Red Hat 11.5.0-2) Ubuntu 22.04 Kernel: 5.15 Compiler: gcc gcc (Ubuntu 11.4.0-1ubuntu1~22.04) 11.4.0 Ubuntu 24.04 Kernel: 5.15 Compiler: gcc gcc (Ubuntu 13.3.0-6ubuntu2~24.04) 13.3.0 Alpine Linux 3.22.0 Kernel: 5.15 Compiler: gcc gcc (Alpine 14.2.0) 14.2.0 Arch Linux 20250613.0.365270 Kernel: 5.15 Compiler: gcc gcc (GCC) 15.1.1 20250425 Windows Server 2022 Kernel: 10.0.20348.2031 Compiler: clang 15.0.7, gcc 14.1.0 (MinGW), and MSVC VS 19.39.33521 To view detailed results, visit: https://lab.dpdk.org/results/dashboard/tarballs/35590/ UNH-IOL DPDK Community Lab To manage your email subscriptions, visit: https://lab.dpdk.org/results/dashboard/preferences/subscriptions/