From mboxrd@z Thu Jan 1 00:00:00 1970 Return-Path: Received: from mails.dpdk.org (mails.dpdk.org [217.70.189.124]) by inbox.dpdk.org (Postfix) with ESMTP id 5FF0848B19 for ; Sat, 15 Nov 2025 12:44:34 +0100 (CET) Received: from mails.dpdk.org (localhost [127.0.0.1]) by mails.dpdk.org (Postfix) with ESMTP id 3D45040A80; Sat, 15 Nov 2025 12:44:34 +0100 (CET) Received: from mail-il1-f225.google.com (mail-il1-f225.google.com [209.85.166.225]) by mails.dpdk.org (Postfix) with ESMTP id E57BC40A80 for ; Sat, 15 Nov 2025 12:44:32 +0100 (CET) Received: by mail-il1-f225.google.com with SMTP id e9e14a558f8ab-4330dfb6ea3so11363105ab.0 for ; Sat, 15 Nov 2025 03:44:32 -0800 (PST) DKIM-Signature: v=1; a=rsa-sha256; c=relaxed/relaxed; d=iol.unh.edu; s=unh-iol; t=1763207072; x=1763811872; darn=dpdk.org; h=cc:to:from:subject:message-id:date:from:to:cc:subject:date :message-id:reply-to; bh=GTkY1uFp4C2QV2MmuRmUNa7ey4tLMCNz9FHmxxg0160=; b=XOD9NhNDPt0mT48apLacijAPBjOiOVXNOIEvFyZRxMRTHYtacVHMBefzIH7oekUkRY uXjMH8ZLhyH6uRlM4RakvostfCmh/HWVrBzCdaqwYgFqbiC4C9T/0opEDOqGAHWLblAk MbyJn8kg7/+0ukxg3oSoQ+3AkmA5Ti5guPyNo= X-Google-DKIM-Signature: v=1; a=rsa-sha256; c=relaxed/relaxed; d=1e100.net; s=20230601; t=1763207072; x=1763811872; h=cc:to:from:subject:message-id:date:x-gm-gg:x-gm-message-state:from :to:cc:subject:date:message-id:reply-to; bh=GTkY1uFp4C2QV2MmuRmUNa7ey4tLMCNz9FHmxxg0160=; b=uwpAbSrgTyIQJM7YqOgBqnsHBY2EgMW/QE2nQU7UUFewFHXTvtFQykXb60s8UniVjA sZ/Q0eeyYFZaUUWU7vkMhYm2YzBwXFUcgUx1+hPUbhgN1IilX1l9l5W36fia2uy+v+N9 N+y7ELS8il8bU3VI8mLLK7EwBlsEfx4/m9Fvta09UrhLn/NOn1zAEPLuyeMcVBdxsqXa 8Z8+5fZaM+3HEaUkuVC38ghdTwrGgeM182BFJnPvrQ45f+AxTM43fSpPBZdndGtPE9RB 8RtTHDhXE38Ibg/da0y14/kMwOjVgw0RP3j4S2aANpGo2JD9G2Be8cXKQjpvWdVKjU7d ocBA== X-Gm-Message-State: AOJu0YwCxem9PrzUS9zbvy3eK8cyZV0jJZtPHwj7WmjTx5B4dtVJPCej lzbtr5WTeKkN/ZoWSYvvcM83bt2raEgnj4B4XgNfYqkY41fstlBXCV25CZ0llovC7D8CXDbXUuX D5pPcVpdBbA4G9/jEn9xScXlomDP9vZ66fTaDHM1zmpIa X-Gm-Gg: ASbGncsX8BIw5sckaCoLtGQsH4alZ7PZDuJSuT2a/Kuw0GjxV+tu5x8MWMWygaPjt6S pQZNk4XnRCTTuaBwqVhIJoRYLf8RAJ7ynLehlA2QlmkK2KU1v1+rZvylPxTbyNpIiMXrgh2j3VY Dl041jm4nAvmLMq2BirogX9o7DGIHmIuAOuSWm4bth9sBG2viLZBckVFPc+c/8QssXqSIcgDh8I rdPtx/jImodQ5dJYQAC+vXAUQpeSaUGbiI119CpdnhfTZKV8r/KnsbV/cxGBLDcJHxN58CR0Nh4 447tN/bFkr9i5YegBa4QP0FJgueTKmhQATRdcgtGgZyxiHYdEVuRQqejljXVzGPiG+DX9VwkJE3 Dx/cvF4R9DA5v1w1YLJ+n422NXEM+kJA= X-Google-Smtp-Source: AGHT+IHhYQl7EaeA0oEAVqUBUCJN11qDTxS+GPk9uZV8bevTwDfMo+pkl0aKvwpvPC2BNog5KJpzz1PlYek1 X-Received: by 2002:a05:6e02:3303:b0:433:2341:bc12 with SMTP id e9e14a558f8ab-4348c869c18mr105009565ab.2.1763207072137; Sat, 15 Nov 2025 03:44:32 -0800 (PST) Received: from postal.iol.unh.edu (postal.iol.unh.edu. [132.177.123.84]) by smtp-relay.gmail.com with ESMTPS id e9e14a558f8ab-434833e94bcsm6927045ab.9.2025.11.15.03.44.32 (version=TLS1_2 cipher=ECDHE-ECDSA-AES128-GCM-SHA256 bits=128/128); Sat, 15 Nov 2025 03:44:32 -0800 (PST) X-Relaying-Domain: iol.unh.edu Date: Sat, 15 Nov 2025 03:44:32 -0800 (PST) Message-ID: <691867a0.050a0220.3409e6.3a1cSMTPIN_ADDED_MISSING@mx.google.com> Received: from [172.21.0.3] (unknown [172.18.0.240]) by postal.iol.unh.edu (Postfix) with ESMTP id A1B4760003F4; Sat, 15 Nov 2025 06:44:31 -0500 (EST) Subject: |SUCCESS| [GIT MASTER] be0112878b4fc3a1b918370ed2fe615c52039d77 From: dpdklab@iol.unh.edu To: Test Report Cc: dpdk-test-reports@iol.unh.edu Content-Type: text/plain X-BeenThere: test-report@dpdk.org X-Mailman-Version: 2.1.29 Precedence: list List-Id: automatic DPDK test reports List-Unsubscribe: , List-Archive: List-Post: List-Help: List-Subscribe: , Errors-To: test-report-bounces@dpdk.org _Testing PASS_ Branch: dpdk be0112878b4fc3a1b918370ed2fe615c52039d77 --> testing pass Upstream job id: Windows-Compile-DPDK-Native#32392 Test environment and result as below: +-------------------------------+--------------------+------------------+-------------------+-------------------------+----------------------+ | Environment | dpdk_meson_compile | dpdk_compile_ovs | dpdk_msvc_compile | dpdk_llvm_clang_compile | dpdk_mingw64_compile | +===============================+====================+==================+===================+=========================+======================+ | FreeBSD 14.2 | PASS | SKIPPED | SKIPPED | SKIPPED | SKIPPED | +-------------------------------+--------------------+------------------+-------------------+-------------------------+----------------------+ | Ubuntu 20.04 | PASS | SKIPPED | SKIPPED | SKIPPED | SKIPPED | +-------------------------------+--------------------+------------------+-------------------+-------------------------+----------------------+ | CentOS Stream 9 | PASS | SKIPPED | SKIPPED | SKIPPED | SKIPPED | +-------------------------------+--------------------+------------------+-------------------+-------------------------+----------------------+ | CentOS Stream 10 | PASS | SKIPPED | SKIPPED | SKIPPED | SKIPPED | +-------------------------------+--------------------+------------------+-------------------+-------------------------+----------------------+ | Debian GNU/Linux 12 | PASS | SKIPPED | SKIPPED | SKIPPED | SKIPPED | +-------------------------------+--------------------+------------------+-------------------+-------------------------+----------------------+ | Fedora Linux 42 | PASS | PASS | SKIPPED | SKIPPED | SKIPPED | +-------------------------------+--------------------+------------------+-------------------+-------------------------+----------------------+ | openSUSE Leap 15.6 | PASS | SKIPPED | SKIPPED | SKIPPED | SKIPPED | +-------------------------------+--------------------+------------------+-------------------+-------------------------+----------------------+ | Red Hat Enterprise Linux 8.10 | PASS | SKIPPED | SKIPPED | SKIPPED | SKIPPED | +-------------------------------+--------------------+------------------+-------------------+-------------------------+----------------------+ | Red Hat Enterprise Linux 9.5 | PASS | SKIPPED | SKIPPED | SKIPPED | SKIPPED | +-------------------------------+--------------------+------------------+-------------------+-------------------------+----------------------+ | Ubuntu 22.04 | PASS | SKIPPED | SKIPPED | SKIPPED | SKIPPED | +-------------------------------+--------------------+------------------+-------------------+-------------------------+----------------------+ | Ubuntu 24.04 | PASS | PASS | SKIPPED | SKIPPED | SKIPPED | +-------------------------------+--------------------+------------------+-------------------+-------------------------+----------------------+ | Alpine Linux 3.22.0 | PASS | SKIPPED | SKIPPED | SKIPPED | SKIPPED | +-------------------------------+--------------------+------------------+-------------------+-------------------------+----------------------+ | Arch Linux 20250613.0.365270 | PASS | SKIPPED | SKIPPED | SKIPPED | SKIPPED | +-------------------------------+--------------------+------------------+-------------------+-------------------------+----------------------+ | Windows Server 2022 | SKIPPED | SKIPPED | PASS | PASS | PASS | +-------------------------------+--------------------+------------------+-------------------+-------------------------+----------------------+ FreeBSD 14.2 Kernel: 14.2-RELEASE Compiler: clang 18.1.6 Ubuntu 20.04 Kernel: 4.19 Compiler: gcc gcc (Ubuntu 9.4.0-1ubuntu1~20.04.2) 9.4.0 CentOS Stream 9 Kernel: 5.15 Compiler: gcc gcc (GCC) 11.5.0 20240719 (Red Hat 11.5.0-11) CentOS Stream 10 Kernel: 5.15 Compiler: gcc gcc (GCC) 14.2.1 20250110 (Red Hat 14.2.1-8) Debian GNU/Linux 12 Kernel: 5.15 Compiler: gcc gcc (Debian 12.2.0-14+deb12u1) 12.2.0 Fedora Linux 42 Kernel: 5.15 Compiler: clang gcc (GCC) 15.2.1 20250808 (Red Hat 15.2.1-1) openSUSE Leap 15.6 Kernel: 5.15 Compiler: gcc gcc (SUSE Linux) 7.5.0 Red Hat Enterprise Linux 8.10 Kernel: 5.15 Compiler: gcc gcc (GCC) 8.5.0 20210514 (Red Hat 8.5.0-22) Red Hat Enterprise Linux 9.5 Kernel: 5.15 Compiler: gcc gcc (GCC) 11.5.0 20240719 (Red Hat 11.5.0-2) Ubuntu 22.04 Kernel: 5.15 Compiler: gcc gcc (Ubuntu 11.4.0-1ubuntu1~22.04) 11.4.0 Ubuntu 24.04 Kernel: 5.15 Compiler: gcc gcc (Ubuntu 13.3.0-6ubuntu2~24.04) 13.3.0 Alpine Linux 3.22.0 Kernel: 5.15 Compiler: gcc gcc (Alpine 14.2.0) 14.2.0 Arch Linux 20250613.0.365270 Kernel: 5.15 Compiler: gcc gcc (GCC) 15.1.1 20250425 Windows Server 2022 Kernel: 10.0.20348.2031 Compiler: clang 15.0.7, gcc 14.1.0 (MinGW), and MSVC VS 19.39.33521 To view detailed results, visit: https://lab.dpdk.org/results/dashboard/tarballs/35590/ UNH-IOL DPDK Community Lab To manage your email subscriptions, visit: https://lab.dpdk.org/results/dashboard/preferences/subscriptions/