From mboxrd@z Thu Jan 1 00:00:00 1970 Return-Path: Received: from mails.dpdk.org (mails.dpdk.org [217.70.189.124]) by inbox.dpdk.org (Postfix) with ESMTP id 37C4248B19 for ; Sat, 15 Nov 2025 12:53:06 +0100 (CET) Received: from mails.dpdk.org (localhost [127.0.0.1]) by mails.dpdk.org (Postfix) with ESMTP id 1F19940A80; Sat, 15 Nov 2025 12:53:06 +0100 (CET) Received: from mail-oa1-f97.google.com (mail-oa1-f97.google.com [209.85.160.97]) by mails.dpdk.org (Postfix) with ESMTP id 0F59340A80 for ; Sat, 15 Nov 2025 12:53:04 +0100 (CET) Received: by mail-oa1-f97.google.com with SMTP id 586e51a60fabf-3e89d226c3aso32488fac.2 for ; Sat, 15 Nov 2025 03:53:03 -0800 (PST) DKIM-Signature: v=1; a=rsa-sha256; c=relaxed/relaxed; d=iol.unh.edu; s=unh-iol; t=1763207583; x=1763812383; darn=dpdk.org; h=cc:to:from:subject:message-id:date:from:to:cc:subject:date :message-id:reply-to; bh=pXuy+tpoUwDbdmH686paC3iNnVEz+tUbvvhigdLFvuU=; b=i1qc61XvSfrvnZ4X1GwLexk4N11T/69hm37ANA1ypOjS32s6V9zy1UGlRrJ2KxNYrQ Ylwm5mLiNq4If32ZVHvbvXLa3e4erw5IfbZW4jXLfLMz6+IPx8NbKtRQGACe9d5WFqr2 8pNxbK+DHrfig4i2RTGb0h+qHa3At3XQTKboU= X-Google-DKIM-Signature: v=1; a=rsa-sha256; c=relaxed/relaxed; d=1e100.net; s=20230601; t=1763207583; x=1763812383; h=cc:to:from:subject:message-id:date:x-gm-gg:x-gm-message-state:from :to:cc:subject:date:message-id:reply-to; bh=pXuy+tpoUwDbdmH686paC3iNnVEz+tUbvvhigdLFvuU=; b=oI+TNSHk8LfRf1JKT3poXdl7SHiK13cdn3GDKymAQ25uZeNrpnUhcPKikJmpTjAJMR 1diNQCRevC+LabCOSgsK6lQF2lSjZtC6cfkZQ1WLsk16mox7MEZqNS+ViuEG1xNd/JBg IjYSmQhBbtYPOxHQY1iccNtyLt543LSWXkxMpcIzGCe0+VNpyBjUv1PMqMinL7vJaccE 9h5J7ZgBw7JX4rlM71qv/UQWtFIMjaoJct3ot985Cd+95A0uGwftrB6hV2eGwEZLlt8t R7ghh0nYh2V+55F1qos6ZIM0ElC2oH8abpT+1t07l7obnJxXSwPPqclVVlwvb20sz/6J +g4Q== X-Gm-Message-State: AOJu0YyedwvmnJ7UGOEE9szSirLacuV36Gb4cLX6xk3Ta7FAhoUstFn1 KbSqpKU/WWuyRLzYD8CaiUvls5dnDOrkTzgHlc7gGgCYxECSMH+uQjeatx2tLekCO3UaTH8zFFS Z1UfO51U1ZXQKCzVz0a1/mT4mhHGd0+3T6TYT X-Gm-Gg: ASbGncsh/ga0TmGw05PDQmPdmEyQwW8XFAIkeeI4WBkuboJw1T4/3PFmmN1Iks0ztx6 Uvuzn/9utzR3ikSxBEudGEWPmPj/niwgmpRP5JExqgnqE3Q2xjC/2s2adQw+Hn/DWU4qWOsejCP 1aBJ7zOn6RQMMAR1wKZ2SeY+uShK2y01iU1X7UT1DzdEr+wzCPfnq5RWZ/+yu06ERSWVWACBrCH dTOeoJClXqhZ6fvm8b91ZEZnU9Q8qasOgQH7BAcCC5tLwmwJdprOs7VtLnMKLm3SEMRZ4ZquM+k iUo67XYTd+8/kP/jkXf9WiR5piYwC0TjBebKzE7LObQ8mO+IvP7vxvuYWBEYvhSz0F6XjieoP1A MUkyktZrdwKgnf2eTY6Rhplxpf5V9QJY= X-Google-Smtp-Source: AGHT+IH8vFQNB7huX28t2o81wzRdGo+MLaLJkZGXJ6WgGuYdPn8RnV+F0aDabNIPLiSJirMls3znUX6RchuI X-Received: by 2002:a05:6870:1693:b0:3e8:8e57:a7a3 with SMTP id 586e51a60fabf-3e88e57bd61mr605408fac.54.1763207583215; Sat, 15 Nov 2025 03:53:03 -0800 (PST) Received: from postal.iol.unh.edu (postal.iol.unh.edu. [132.177.123.84]) by smtp-relay.gmail.com with ESMTPS id 586e51a60fabf-3e85200d466sm712387fac.5.2025.11.15.03.53.03 (version=TLS1_2 cipher=ECDHE-ECDSA-AES128-GCM-SHA256 bits=128/128); Sat, 15 Nov 2025 03:53:03 -0800 (PST) X-Relaying-Domain: iol.unh.edu Date: Sat, 15 Nov 2025 03:53:03 -0800 (PST) Message-ID: <6918699f.050a0220.114e80.26f4SMTPIN_ADDED_MISSING@mx.google.com> Received: from [172.21.0.2] (unknown [172.18.0.240]) by postal.iol.unh.edu (Postfix) with ESMTP id CAC0B6051830; Sat, 15 Nov 2025 06:53:02 -0500 (EST) Subject: |SUCCESS| [GIT MASTER] 0bd935abcb823f581ce53986986aa54eaf6f8140 From: dpdklab@iol.unh.edu To: Test Report Cc: dpdk-test-reports@iol.unh.edu, Xueming Li , Christian Ehrhardt , Kevin Traynor , Luca Boccassi Content-Type: text/plain X-BeenThere: test-report@dpdk.org X-Mailman-Version: 2.1.29 Precedence: list List-Id: automatic DPDK test reports List-Unsubscribe: , List-Archive: List-Post: List-Help: List-Subscribe: , Errors-To: test-report-bounces@dpdk.org _Testing PASS_ Branch: tags/v24.11 0bd935abcb823f581ce53986986aa54eaf6f8140 --> testing pass Upstream job id: Generic-VM-Unit-Test-DPDK#32597 Test environment and result as below: +-------------------------------+----------------+ | Environment | dpdk_unit_test | +===============================+================+ | CentOS Stream 9 | PASS | +-------------------------------+----------------+ | CentOS Stream 10 | PASS | +-------------------------------+----------------+ | Debian GNU/Linux 12 | PASS | +-------------------------------+----------------+ | Fedora Linux 40 | PASS | +-------------------------------+----------------+ | Fedora Linux 41 | PASS | +-------------------------------+----------------+ | Fedora Linux 42 | PASS | +-------------------------------+----------------+ | Ubuntu 20.04 | PASS | +-------------------------------+----------------+ | Red Hat Enterprise Linux 8.10 | PASS | +-------------------------------+----------------+ | Ubuntu 22.04 | PASS | +-------------------------------+----------------+ | Red Hat Enterprise Linux 9.5 | PASS | +-------------------------------+----------------+ | Ubuntu 24.04 | PASS | +-------------------------------+----------------+ | Windows Server 2022 | PASS | +-------------------------------+----------------+ CentOS Stream 9 Kernel: 5.15 Compiler: gcc gcc (GCC) 11.5.0 20240719 (Red Hat 11.5.0-11) CentOS Stream 10 Kernel: 5.15 Compiler: gcc gcc (GCC) 14.2.1 20250110 (Red Hat 14.2.1-8) Debian GNU/Linux 12 Kernel: 5.15 Compiler: gcc gcc (Debian 12.2.0-14+deb12u1) 12.2.0 Fedora Linux 40 Kernel: 5.15 Compiler: gcc gcc (GCC) 14.2.1 20240912 (Red Hat 14.2.1-3) Fedora Linux 41 Kernel: 5.15 Compiler: clang gcc (GCC) 14.3.1 20250523 (Red Hat 14.3.1-1) Fedora Linux 42 Kernel: 5.15 Compiler: gcc gcc (GCC) 15.2.1 20250808 (Red Hat 15.2.1-1) Ubuntu 20.04 Kernel: 5.15 Compiler: gcc gcc (Ubuntu 9.4.0-1ubuntu1~20.04.2) 9.4.0 Red Hat Enterprise Linux 8.10 Kernel: 5.15 Compiler: gcc gcc (GCC) 8.5.0 20210514 (Red Hat 8.5.0-22) Ubuntu 22.04 Kernel: 5.15 Compiler: gcc gcc (Ubuntu 11.4.0-1ubuntu1~22.04) 11.4.0 Red Hat Enterprise Linux 9.5 Kernel: 5.15 Compiler: gcc gcc (GCC) 11.5.0 20240719 (Red Hat 11.5.0-2) Ubuntu 24.04 Kernel: 5.15 Compiler: gcc gcc (Ubuntu 13.3.0-6ubuntu2~24.04) 13.3.0 Windows Server 2022 Kernel: 10.0.20348.2031 Compiler: clang 15.0.7, gcc 14.1.0 (MinGW), and MSVC VS 19.39.33521 To view detailed results, visit: https://lab.dpdk.org/results/dashboard/tarballs/35608/ UNH-IOL DPDK Community Lab To manage your email subscriptions, visit: https://lab.dpdk.org/results/dashboard/preferences/subscriptions/