From mboxrd@z Thu Jan 1 00:00:00 1970 Return-Path: Received: from mails.dpdk.org (mails.dpdk.org [217.70.189.124]) by inbox.dpdk.org (Postfix) with ESMTP id 97D6548B19 for ; Sat, 15 Nov 2025 12:57:17 +0100 (CET) Received: from mails.dpdk.org (localhost [127.0.0.1]) by mails.dpdk.org (Postfix) with ESMTP id 80CAE40A80; Sat, 15 Nov 2025 12:57:17 +0100 (CET) Received: from mail-pl1-f225.google.com (mail-pl1-f225.google.com [209.85.214.225]) by mails.dpdk.org (Postfix) with ESMTP id D521840A80 for ; Sat, 15 Nov 2025 12:57:16 +0100 (CET) Received: by mail-pl1-f225.google.com with SMTP id d9443c01a7336-29806bd47b5so18721695ad.3 for ; Sat, 15 Nov 2025 03:57:16 -0800 (PST) DKIM-Signature: v=1; a=rsa-sha256; c=relaxed/relaxed; d=iol.unh.edu; s=unh-iol; t=1763207836; x=1763812636; darn=dpdk.org; h=references:in-reply-to:cc:to:from:subject:message-id:date:from:to :cc:subject:date:message-id:reply-to; bh=j9h0iqB3s2c71GD9eR7SDy2dvTMCUF2gmmsCcuqk7Ms=; b=cuFHbdIufzfxIoRFxduyY3dcif7A416xH3kA19hVp3gYLHf88nx2ugGLARrHkvCNnx 7iFesgP64u4uj48RtXA23EuSRxPSnA6a4CIGJQY5kMyt5pU228ucb/4+dkIkr8OlTa4T IT24+HjlfKvpVFkzve3Aljmki0kIFiDZvVi+8= X-Google-DKIM-Signature: v=1; a=rsa-sha256; c=relaxed/relaxed; d=1e100.net; s=20230601; t=1763207836; x=1763812636; h=references:in-reply-to:cc:to:from:subject:message-id:date:x-gm-gg :x-gm-message-state:from:to:cc:subject:date:message-id:reply-to; bh=j9h0iqB3s2c71GD9eR7SDy2dvTMCUF2gmmsCcuqk7Ms=; b=AO++GDyCPh1te8UxhQzX6rhwkjI6xE5Bz1VFCbLW83g0TMkisBvUHwQfR7P5hyGHSI YpnaWU8sk5S2zIQg2UQZw8cbwt+pQ8yBHrzLCrp23wjGY8/2RXF1tetIS6Supx160ys9 rpAW8eJHNAI97KXJ5M238e6BgconCWpRWsNtwnRi8+XOGI+UbBCRoS63vxMy7f0i6y6/ GQ+qCWFHuRXP/geFKQoDFxZP13Iw9kOyd5oRJEkVgjT/cUvIm0M6brC3eJRTefbuSldR hfCsRthryix+jtIn/lI9Zdh/2b1hCBnyhpP7JdcNo5V/o6UMImccB6opfQf9Erw9R2zN k7/Q== X-Gm-Message-State: AOJu0YwDY+ZZLzLwBP8CLt2mOlCP6wzJaQucnzDoqDHkPQn3h7rB2j5m NEjE//U277pTenaBJYw0EmPSKnL7Jk3FW17AWwP97Z05iBb+ej6mfyCc3baLHNBPRoqcl+G+WFM 6JI+589U+/hLej2Hk27YpeRZcOIye7UvIF+LjrwweJeYi X-Gm-Gg: ASbGncsdiVJxu1lwNY8BwrUW4UeH07pSgqGTYiy4XBhyxUbzgLKJB4TmYmBQE3ca56j vgNOf1TKFcC2XIMJsOsa/H+z673lrfTP4ruwVDV42qiouLv78/tfleDynmSV/eUlaBWIy9+5E6j QHkeabwL3wFRGu9DBHk1ZoY+zOZRyHe7ClD65FoAFJbSjFIYQepX9pkEk0WgEmsAUSzqRhmUoHb xbq7joH/YoYRO6G8usc9clF/oLwuk5AH0xn9TVC6PBLan1Egx4VQshAhaSfLYAIpQXqlu28N/0O YYBOsTxMHKZBtpYXLulZyvl8NKQ8pdYPhZeVGDyPi1xleZjlgKaE97pL1PVCFzDNYolLyoPENYI rT0rYeASvIHQrfKEEOjWOBueuYU7zEv0= X-Google-Smtp-Source: AGHT+IH3buEO1nwz5VNsz+iBVsxPnzGYEEP9kqQbnRcxeRxiC8N7CGNNWqBt9oywaw8SFPdbaGQ31iHJB/kj X-Received: by 2002:a17:902:ccc3:b0:24c:7b94:2f53 with SMTP id d9443c01a7336-2986a6b8528mr75121525ad.6.1763207835953; Sat, 15 Nov 2025 03:57:15 -0800 (PST) Received: from postal.iol.unh.edu (postal.iol.unh.edu. [132.177.123.84]) by smtp-relay.gmail.com with ESMTPS id d9443c01a7336-2986181be8dsm7413935ad.13.2025.11.15.03.57.15 (version=TLS1_2 cipher=ECDHE-ECDSA-AES128-GCM-SHA256 bits=128/128); Sat, 15 Nov 2025 03:57:15 -0800 (PST) X-Relaying-Domain: iol.unh.edu Date: Sat, 15 Nov 2025 03:57:15 -0800 (PST) Message-ID: <69186a9b.170a0220.d5672.401eSMTPIN_ADDED_MISSING@mx.google.com> Received: from [172.21.0.2] (unknown [172.18.0.240]) by postal.iol.unh.edu (Postfix) with ESMTP id 2B2FA6051830; Sat, 15 Nov 2025 06:57:15 -0500 (EST) Subject: |SUCCESS| pw158780-158781 [PATCH] [2/2] dts: shorten a too long line From: dpdklab@iol.unh.edu To: Test Report Cc: dpdk-test-reports@iol.unh.edu In-Reply-To: <20251113232954.273454-3-probb@iol.unh.edu> References: <20251113232954.273454-3-probb@iol.unh.edu> Content-Type: text/plain X-BeenThere: test-report@dpdk.org X-Mailman-Version: 2.1.29 Precedence: list List-Id: automatic DPDK test reports List-Unsubscribe: , List-Archive: List-Post: List-Help: List-Subscribe: , Errors-To: test-report-bounces@dpdk.org Test-Label: iol-compile-amd64-testing Test-Status: SUCCESS http://dpdk.org/patch/158781 _Testing PASS_ Submitter: Patrick Robb Date: Thursday, November 13 2025 23:29:54 DPDK git baseline: Repo:dpdk-next-dts Branch: master CommitID:8dcc93a520b22330e0ad59d360a4594b854f9ddd 158780-158781 --> testing pass Upstream job id: Windows-Compile-DPDK-Native#32393 Test environment and result as below: +-------------------------------+--------------------+------------------+-------------------+-------------------------+ | Environment | dpdk_meson_compile | dpdk_compile_ovs | dpdk_msvc_compile | dpdk_llvm_clang_compile | +===============================+====================+==================+===================+=========================+ | Ubuntu 20.04 | PASS | SKIPPED | SKIPPED | SKIPPED | +-------------------------------+--------------------+------------------+-------------------+-------------------------+ | FreeBSD 14.2 | PASS | SKIPPED | SKIPPED | SKIPPED | +-------------------------------+--------------------+------------------+-------------------+-------------------------+ | CentOS Stream 9 | PASS | SKIPPED | SKIPPED | SKIPPED | +-------------------------------+--------------------+------------------+-------------------+-------------------------+ | CentOS Stream 10 | PASS | SKIPPED | SKIPPED | SKIPPED | +-------------------------------+--------------------+------------------+-------------------+-------------------------+ | Debian GNU/Linux 12 | PASS | SKIPPED | SKIPPED | SKIPPED | +-------------------------------+--------------------+------------------+-------------------+-------------------------+ | Fedora Linux 42 | PASS | PASS | SKIPPED | SKIPPED | +-------------------------------+--------------------+------------------+-------------------+-------------------------+ | openSUSE Leap 15.6 | PASS | SKIPPED | SKIPPED | SKIPPED | +-------------------------------+--------------------+------------------+-------------------+-------------------------+ | Red Hat Enterprise Linux 8.10 | PASS | SKIPPED | SKIPPED | SKIPPED | +-------------------------------+--------------------+------------------+-------------------+-------------------------+ | Red Hat Enterprise Linux 9.5 | PASS | SKIPPED | SKIPPED | SKIPPED | +-------------------------------+--------------------+------------------+-------------------+-------------------------+ | Ubuntu 22.04 | PASS | SKIPPED | SKIPPED | SKIPPED | +-------------------------------+--------------------+------------------+-------------------+-------------------------+ | Ubuntu 24.04 | PASS | PASS | SKIPPED | SKIPPED | +-------------------------------+--------------------+------------------+-------------------+-------------------------+ | Alpine Linux 3.22.0 | PASS | SKIPPED | SKIPPED | SKIPPED | +-------------------------------+--------------------+------------------+-------------------+-------------------------+ | Windows Server 2022 | SKIPPED | SKIPPED | PASS | PASS | +-------------------------------+--------------------+------------------+-------------------+-------------------------+ Ubuntu 20.04 Kernel: 4.19 Compiler: gcc gcc (Ubuntu 9.4.0-1ubuntu1~20.04.2) 9.4.0 FreeBSD 14.2 Kernel: 14.2-RELEASE Compiler: clang 18.1.6 CentOS Stream 9 Kernel: 5.15 Compiler: gcc gcc (GCC) 11.5.0 20240719 (Red Hat 11.5.0-11) CentOS Stream 10 Kernel: 5.15 Compiler: gcc gcc (GCC) 14.2.1 20250110 (Red Hat 14.2.1-8) Debian GNU/Linux 12 Kernel: 5.15 Compiler: gcc gcc (Debian 12.2.0-14+deb12u1) 12.2.0 Fedora Linux 42 Kernel: 5.15 Compiler: clang gcc (GCC) 15.2.1 20250808 (Red Hat 15.2.1-1) openSUSE Leap 15.6 Kernel: 5.15 Compiler: gcc gcc (SUSE Linux) 7.5.0 Red Hat Enterprise Linux 8.10 Kernel: 5.15 Compiler: gcc gcc (GCC) 8.5.0 20210514 (Red Hat 8.5.0-22) Red Hat Enterprise Linux 9.5 Kernel: 5.15 Compiler: gcc gcc (GCC) 11.5.0 20240719 (Red Hat 11.5.0-2) Ubuntu 22.04 Kernel: 5.15 Compiler: gcc gcc (Ubuntu 11.4.0-1ubuntu1~22.04) 11.4.0 Ubuntu 24.04 Kernel: 5.15 Compiler: gcc gcc (Ubuntu 13.3.0-6ubuntu2~24.04) 13.3.0 Alpine Linux 3.22.0 Kernel: 5.15 Compiler: gcc gcc (Alpine 14.2.0) 14.2.0 Windows Server 2022 Kernel: 10.0.20348.2031 Compiler: clang 15.0.7, gcc 14.1.0 (MinGW), and MSVC VS 19.39.33521 To view detailed results, visit: https://lab.dpdk.org/results/dashboard/patchsets/34586/ UNH-IOL DPDK Community Lab To manage your email subscriptions, visit: https://lab.dpdk.org/results/dashboard/preferences/subscriptions/