From mboxrd@z Thu Jan 1 00:00:00 1970 Return-Path: Received: from mails.dpdk.org (mails.dpdk.org [217.70.189.124]) by inbox.dpdk.org (Postfix) with ESMTP id C53D248B19 for ; Sat, 15 Nov 2025 12:58:48 +0100 (CET) Received: from mails.dpdk.org (localhost [127.0.0.1]) by mails.dpdk.org (Postfix) with ESMTP id C13F240A80; Sat, 15 Nov 2025 12:58:48 +0100 (CET) Received: from mail-qv1-f100.google.com (mail-qv1-f100.google.com [209.85.219.100]) by mails.dpdk.org (Postfix) with ESMTP id 6845F40A80 for ; Sat, 15 Nov 2025 12:58:48 +0100 (CET) Received: by mail-qv1-f100.google.com with SMTP id 6a1803df08f44-88242fc32c9so30012036d6.1 for ; Sat, 15 Nov 2025 03:58:48 -0800 (PST) DKIM-Signature: v=1; a=rsa-sha256; c=relaxed/relaxed; d=iol.unh.edu; s=unh-iol; t=1763207928; x=1763812728; darn=dpdk.org; h=references:in-reply-to:cc:to:from:subject:message-id:date:from:to :cc:subject:date:message-id:reply-to; bh=yGnStgKoSHBv8+G/tjypmpxqWlTW24Conue2VkXf6us=; b=VhkUNXDSm8w76lCpndP/Yt9AR0IV/cSgKxTUm9k0HdYCqmmSQIC75FCwjReRMfc0HO 5AArW3EeYJsEwFMTQJvS5Sn06ULrpI8uPqPTfko8MmQZY1hFJPLTkj2T1drlAnD6F0DU DUGCiB02gcekr+mXd/SHJfnoz30izhC9D7DWI= X-Google-DKIM-Signature: v=1; a=rsa-sha256; c=relaxed/relaxed; d=1e100.net; s=20230601; t=1763207928; x=1763812728; h=references:in-reply-to:cc:to:from:subject:message-id:date:x-gm-gg :x-gm-message-state:from:to:cc:subject:date:message-id:reply-to; bh=yGnStgKoSHBv8+G/tjypmpxqWlTW24Conue2VkXf6us=; b=hjT5kJ01SBO3w6zOp/s22WPPgdNMgW5RacGxVChNY595ysD5oj4guTUqvhL+58uNwL VUV3fZP/yr7bNHRBMT+tWvtOxl5mxbJXoli9zyrXVep3NP+JJmwcPFQfKcmLOGVwd+oF jy0VCl2bOlruvz//G/YyX0W0oMpuuXaRBLUHwkg1ZmmSR+kqR10IOzLtQj0caigK/Zqd JUZHqzdCKwcJJ3behZSYjTua7mH10270gsAne5hh1b2mxcDoxKLg1LDW0H/RzG3E/8Vq wlJZlXR0C7Dvz0g5LsciMMeHhz06a2JAzHGqyvQ843AMwDHMsf70uVKZq0R+RRtQRlWo +a6Q== X-Gm-Message-State: AOJu0Yxd8Cy/sQRQLnsGODcxyqfyhgyY1dWMDeBjmz/Ggi1n1qHqBHgG +PVCq9qBvk3CTp/cU9S985j9VplHx4J8aTG51wnXCNJHS6J92sFQ/ITcB9SybUwh5ZrkTpWfm+6 YXTLsIdbEMG9Vvu/SU2qCSRji1AmwEbtC8R49i1yHsISt X-Gm-Gg: ASbGncvqSGqYRsEJh7c0+sIMoW7BRE0HUrKovC/aG2fe21zJL3+EaAfk5KcMK2IpmsZ 4ghDXeGDdZ6EKP03WLJx3hkCaoGYwMXotxcB2d4tGByspELOVZlaTZDrKap2y7hei033OL1MT+/ 3lBXvkqc8KvW5gm2dXMGXns+fjG4jGiQ13S8KW0xeUWb1ISLZW25iBQXswxvgJ1u5sVsyVJtBBO /4cEoVc1hmlbRvhSINtMQrJZKL2e2ejTX2zhzqmcCUhSbpBf55ReTbwcgPCrfTCQBwyfcuL8u0D 6nL9YwN3RSOzItJMo4C/SjNS8Z9WHxoMl5JV+4Qd/e2tU8bTBzXbXrWz6mtgCCj3sXmKKZW4Pjn 8zdUUExHeub4yowKTNXQfkEwNOmaAiIQ= X-Google-Smtp-Source: AGHT+IEtYE/veWT9t0Kq1zarw+kVrjPJDkLDE6i4X+Yph+aeQ77sTZpTedLzLC08NZpeXvl0Wrl6DILQge7k X-Received: by 2002:a05:6214:1cc6:b0:880:49f2:38be with SMTP id 6a1803df08f44-882925ed31fmr93057626d6.8.1763207927781; Sat, 15 Nov 2025 03:58:47 -0800 (PST) Received: from postal.iol.unh.edu (postal.iol.unh.edu. [132.177.123.84]) by smtp-relay.gmail.com with ESMTPS id 6a1803df08f44-882865a59besm9011626d6.29.2025.11.15.03.58.47 (version=TLS1_2 cipher=ECDHE-ECDSA-AES128-GCM-SHA256 bits=128/128); Sat, 15 Nov 2025 03:58:47 -0800 (PST) X-Relaying-Domain: iol.unh.edu Date: Sat, 15 Nov 2025 03:58:47 -0800 (PST) Message-ID: <69186af7.050a0220.a869c.ba35SMTPIN_ADDED_MISSING@mx.google.com> Received: from [172.21.0.2] (unknown [172.18.0.240]) by postal.iol.unh.edu (Postfix) with ESMTP id 7D5636051830; Sat, 15 Nov 2025 06:58:47 -0500 (EST) Subject: |SUCCESS| pw158780-158781 [PATCH] [2/2] dts: shorten a too long line From: dpdklab@iol.unh.edu To: Test Report Cc: dpdk-test-reports@iol.unh.edu In-Reply-To: <20251113232954.273454-3-probb@iol.unh.edu> References: <20251113232954.273454-3-probb@iol.unh.edu> Content-Type: text/plain X-BeenThere: test-report@dpdk.org X-Mailman-Version: 2.1.29 Precedence: list List-Id: automatic DPDK test reports List-Unsubscribe: , List-Archive: List-Post: List-Help: List-Subscribe: , Errors-To: test-report-bounces@dpdk.org Test-Label: iol-compile-amd64-testing Test-Status: SUCCESS http://dpdk.org/patch/158781 _Testing PASS_ Submitter: Patrick Robb Date: Thursday, November 13 2025 23:29:54 DPDK git baseline: Repo:dpdk-next-dts Branch: master CommitID:8dcc93a520b22330e0ad59d360a4594b854f9ddd 158780-158781 --> testing pass Upstream job id: Windows-Compile-DPDK-Native#32394 Test environment and result as below: +-------------------------------+--------------------+------------------+-------------------+-------------------------+----------------------+ | Environment | dpdk_meson_compile | dpdk_compile_ovs | dpdk_msvc_compile | dpdk_llvm_clang_compile | dpdk_mingw64_compile | +===============================+====================+==================+===================+=========================+======================+ | Ubuntu 20.04 | PASS | SKIPPED | SKIPPED | SKIPPED | SKIPPED | +-------------------------------+--------------------+------------------+-------------------+-------------------------+----------------------+ | FreeBSD 14.2 | PASS | SKIPPED | SKIPPED | SKIPPED | SKIPPED | +-------------------------------+--------------------+------------------+-------------------+-------------------------+----------------------+ | CentOS Stream 9 | PASS | SKIPPED | SKIPPED | SKIPPED | SKIPPED | +-------------------------------+--------------------+------------------+-------------------+-------------------------+----------------------+ | CentOS Stream 10 | PASS | SKIPPED | SKIPPED | SKIPPED | SKIPPED | +-------------------------------+--------------------+------------------+-------------------+-------------------------+----------------------+ | Debian GNU/Linux 12 | PASS | SKIPPED | SKIPPED | SKIPPED | SKIPPED | +-------------------------------+--------------------+------------------+-------------------+-------------------------+----------------------+ | Fedora Linux 42 | PASS | PASS | SKIPPED | SKIPPED | SKIPPED | +-------------------------------+--------------------+------------------+-------------------+-------------------------+----------------------+ | openSUSE Leap 15.6 | PASS | SKIPPED | SKIPPED | SKIPPED | SKIPPED | +-------------------------------+--------------------+------------------+-------------------+-------------------------+----------------------+ | Red Hat Enterprise Linux 8.10 | PASS | SKIPPED | SKIPPED | SKIPPED | SKIPPED | +-------------------------------+--------------------+------------------+-------------------+-------------------------+----------------------+ | Red Hat Enterprise Linux 9.5 | PASS | SKIPPED | SKIPPED | SKIPPED | SKIPPED | +-------------------------------+--------------------+------------------+-------------------+-------------------------+----------------------+ | Ubuntu 22.04 | PASS | SKIPPED | SKIPPED | SKIPPED | SKIPPED | +-------------------------------+--------------------+------------------+-------------------+-------------------------+----------------------+ | Ubuntu 24.04 | PASS | PASS | SKIPPED | SKIPPED | SKIPPED | +-------------------------------+--------------------+------------------+-------------------+-------------------------+----------------------+ | Alpine Linux 3.22.0 | PASS | SKIPPED | SKIPPED | SKIPPED | SKIPPED | +-------------------------------+--------------------+------------------+-------------------+-------------------------+----------------------+ | Windows Server 2022 | SKIPPED | SKIPPED | PASS | PASS | PASS | +-------------------------------+--------------------+------------------+-------------------+-------------------------+----------------------+ Ubuntu 20.04 Kernel: 4.19 Compiler: gcc gcc (Ubuntu 9.4.0-1ubuntu1~20.04.2) 9.4.0 FreeBSD 14.2 Kernel: 14.2-RELEASE Compiler: clang 18.1.6 CentOS Stream 9 Kernel: 5.15 Compiler: gcc gcc (GCC) 11.5.0 20240719 (Red Hat 11.5.0-11) CentOS Stream 10 Kernel: 5.15 Compiler: gcc gcc (GCC) 14.2.1 20250110 (Red Hat 14.2.1-8) Debian GNU/Linux 12 Kernel: 5.15 Compiler: gcc gcc (Debian 12.2.0-14+deb12u1) 12.2.0 Fedora Linux 42 Kernel: 5.15 Compiler: clang gcc (GCC) 15.2.1 20250808 (Red Hat 15.2.1-1) openSUSE Leap 15.6 Kernel: 5.15 Compiler: gcc gcc (SUSE Linux) 7.5.0 Red Hat Enterprise Linux 8.10 Kernel: 5.15 Compiler: gcc gcc (GCC) 8.5.0 20210514 (Red Hat 8.5.0-22) Red Hat Enterprise Linux 9.5 Kernel: 5.15 Compiler: gcc gcc (GCC) 11.5.0 20240719 (Red Hat 11.5.0-2) Ubuntu 22.04 Kernel: 5.15 Compiler: gcc gcc (Ubuntu 11.4.0-1ubuntu1~22.04) 11.4.0 Ubuntu 24.04 Kernel: 5.15 Compiler: gcc gcc (Ubuntu 13.3.0-6ubuntu2~24.04) 13.3.0 Alpine Linux 3.22.0 Kernel: 5.15 Compiler: gcc gcc (Alpine 14.2.0) 14.2.0 Windows Server 2022 Kernel: 10.0.20348.2031 Compiler: clang 15.0.7, gcc 14.1.0 (MinGW), and MSVC VS 19.39.33521 To view detailed results, visit: https://lab.dpdk.org/results/dashboard/patchsets/34586/ UNH-IOL DPDK Community Lab To manage your email subscriptions, visit: https://lab.dpdk.org/results/dashboard/preferences/subscriptions/