From mboxrd@z Thu Jan 1 00:00:00 1970 Return-Path: Received: from mails.dpdk.org (mails.dpdk.org [217.70.189.124]) by inbox.dpdk.org (Postfix) with ESMTP id E139C48B19 for ; Sat, 15 Nov 2025 12:59:44 +0100 (CET) Received: from mails.dpdk.org (localhost [127.0.0.1]) by mails.dpdk.org (Postfix) with ESMTP id DC09E40A80; Sat, 15 Nov 2025 12:59:44 +0100 (CET) Received: from mail-pj1-f100.google.com (mail-pj1-f100.google.com [209.85.216.100]) by mails.dpdk.org (Postfix) with ESMTP id 7E6CB40A80 for ; Sat, 15 Nov 2025 12:59:44 +0100 (CET) Received: by mail-pj1-f100.google.com with SMTP id 98e67ed59e1d1-34381ec9197so2631262a91.1 for ; Sat, 15 Nov 2025 03:59:44 -0800 (PST) DKIM-Signature: v=1; a=rsa-sha256; c=relaxed/relaxed; d=iol.unh.edu; s=unh-iol; t=1763207983; x=1763812783; darn=dpdk.org; h=cc:to:from:subject:message-id:date:from:to:cc:subject:date :message-id:reply-to; bh=zSseNrrVyjqP0CBWjuqajK1kd0dkG0fQzExIWSYwymg=; b=iZerwc+Am8MxamKuMM4fK2wYgNlHOwgkEepvLsYCSz15rK8XSLIOTYJ20CBr1b8D7r 11a4c45pEWHTNVFIkQx+8p3OHe9N3VAx1E4OzpmQpomyorz7ae2ogdAmEDQw1n6OgJEM nMC1o/qJpSnzI6fnf19pZCAjZo7CcM50fqZ8A= X-Google-DKIM-Signature: v=1; a=rsa-sha256; c=relaxed/relaxed; d=1e100.net; s=20230601; t=1763207983; x=1763812783; h=cc:to:from:subject:message-id:date:x-gm-gg:x-gm-message-state:from :to:cc:subject:date:message-id:reply-to; bh=zSseNrrVyjqP0CBWjuqajK1kd0dkG0fQzExIWSYwymg=; b=l1U1Ck2xYwrsZw2t64frQPb0AJs4jaN+3QUqapDxCKh734Q1H33gXYdplBYGLe6t4g voc6GZpFFnRTg140yX2zSOfx2XSd1YufwIkBAHVatMrextMbABQjAfUpZn4Kjbz/+qMi WFHuOGlkpzsa9DUwcUdYUlwXoXyFF4IVRNppPxWvMEKP4h41Z0MkGG0GEdvjfAAgiTWX gJxKPZnvya31ItAF75OY3pXzjKH3Oiv3AwWoPFCFXcvKfsLJCp+unvYXBTIHZM4Iqub4 5gTE0ez31J+sE2c8/YXY9Nsmy82WfdoR5519wXDdR+CRmfXJYIAyXXAom0423B7gHTJP Cc3g== X-Gm-Message-State: AOJu0Yzos4XJRkFABxspKVSheJoVNbdH391mNAlu6fifbbo5N3FnIFPG 5l0+icsW9ABT8orJv75TMI+HuI0pz9s1alw8I0KVXIHfsmYIMjgP7g1ck3KSTA2jbBnfKPLt6oI lZledz21w61Xc3tEdP5ToAGL7SwK1Z5J5QvoHkRn7Uw4PzV1Ly1kS X-Gm-Gg: ASbGncucMlxCJr9DrOBaDA5t6glABTvQF+CBavBfIccFf76bzf2h2HCWDpy4g2c9C66 ailD8ozEi1Y4Mf+0gnG6XlllxadWv+xM7eHowykC9RXUkgp7BEb90RwXxedNEm0iluCTWBKiBaB RQzwhue9jAuGJ3SHdCtjKZMO7cJhkp7McqBRHykvTvzi4mM11sMIoId/2/9Q1QXy5lBtQJu0pPC iZOiqDqKkFBp1deOAcIKT3YKeAh+zTOB/PjxcHV+xHjFzHw1PyiZfojM9AqN5gS33irTcZOdW6A MRw4w9ZD+2+b8frqWxBzbSW2HTup3ETIdbRjcSsAMA5YZWlKxOCENSC0DA+E33rFdAK9houvFaU PGF9u/APy X-Google-Smtp-Source: AGHT+IF/72yCcSySSZ3mJnC4n3QV+eO+qmzMSQPBk2bSGDQsLQaQ/kkYUEjxHUHMitG++A3V9GIuC7OX3YrR X-Received: by 2002:a17:90b:4b04:b0:340:d578:f2a2 with SMTP id 98e67ed59e1d1-343f9d906c9mr7015199a91.6.1763207983596; Sat, 15 Nov 2025 03:59:43 -0800 (PST) Received: from postal.iol.unh.edu (postal.iol.unh.edu. [2606:4100:3880:1234::84]) by smtp-relay.gmail.com with ESMTPS id 98e67ed59e1d1-343ed58c5absm934667a91.7.2025.11.15.03.59.43 (version=TLS1_2 cipher=ECDHE-ECDSA-AES128-GCM-SHA256 bits=128/128); Sat, 15 Nov 2025 03:59:43 -0800 (PST) X-Relaying-Domain: iol.unh.edu Date: Sat, 15 Nov 2025 03:59:43 -0800 (PST) Message-ID: <69186b2f.170a0220.2c42d3.df46SMTPIN_ADDED_MISSING@mx.google.com> Received: from [172.21.0.3] (unknown [172.18.0.240]) by postal.iol.unh.edu (Postfix) with ESMTP id D925B6051830; Sat, 15 Nov 2025 06:59:42 -0500 (EST) Subject: |SUCCESS| [GIT MASTER] 0bd935abcb823f581ce53986986aa54eaf6f8140 From: dpdklab@iol.unh.edu To: Test Report Cc: dpdk-test-reports@iol.unh.edu, Xueming Li , Christian Ehrhardt , Kevin Traynor , Luca Boccassi Content-Type: text/plain X-BeenThere: test-report@dpdk.org X-Mailman-Version: 2.1.29 Precedence: list List-Id: automatic DPDK test reports List-Unsubscribe: , List-Archive: List-Post: List-Help: List-Subscribe: , Errors-To: test-report-bounces@dpdk.org _Testing PASS_ Branch: tags/v24.11 0bd935abcb823f581ce53986986aa54eaf6f8140 --> testing pass Upstream job id: Generic-VM-Unit-Test-DPDK#32598 Test environment and result as below: +-------------------------------+----------------+ | Environment | dpdk_unit_test | +===============================+================+ | CentOS Stream 9 | PASS | +-------------------------------+----------------+ | CentOS Stream 10 | PASS | +-------------------------------+----------------+ | Debian GNU/Linux 12 | PASS | +-------------------------------+----------------+ | Fedora Linux 40 | PASS | +-------------------------------+----------------+ | Fedora Linux 41 | PASS | +-------------------------------+----------------+ | Fedora Linux 42 | PASS | +-------------------------------+----------------+ | Ubuntu 20.04 | PASS | +-------------------------------+----------------+ | Red Hat Enterprise Linux 8.10 | PASS | +-------------------------------+----------------+ | Ubuntu 22.04 | PASS | +-------------------------------+----------------+ | Red Hat Enterprise Linux 9.5 | PASS | +-------------------------------+----------------+ | Ubuntu 24.04 | PASS | +-------------------------------+----------------+ | Windows Server 2022 | PASS | +-------------------------------+----------------+ CentOS Stream 9 Kernel: 5.15 Compiler: gcc gcc (GCC) 11.5.0 20240719 (Red Hat 11.5.0-11) CentOS Stream 10 Kernel: 5.15 Compiler: gcc gcc (GCC) 14.2.1 20250110 (Red Hat 14.2.1-8) Debian GNU/Linux 12 Kernel: 5.15 Compiler: gcc gcc (Debian 12.2.0-14+deb12u1) 12.2.0 Fedora Linux 40 Kernel: 5.15 Compiler: gcc gcc (GCC) 14.2.1 20240912 (Red Hat 14.2.1-3) Fedora Linux 41 Kernel: 5.15 Compiler: clang gcc (GCC) 14.3.1 20250523 (Red Hat 14.3.1-1) Fedora Linux 42 Kernel: 5.15 Compiler: gcc gcc (GCC) 15.2.1 20250808 (Red Hat 15.2.1-1) Ubuntu 20.04 Kernel: 5.15 Compiler: gcc gcc (Ubuntu 9.4.0-1ubuntu1~20.04.2) 9.4.0 Red Hat Enterprise Linux 8.10 Kernel: 5.15 Compiler: gcc gcc (GCC) 8.5.0 20210514 (Red Hat 8.5.0-22) Ubuntu 22.04 Kernel: 5.15 Compiler: gcc gcc (Ubuntu 11.4.0-1ubuntu1~22.04) 11.4.0 Red Hat Enterprise Linux 9.5 Kernel: 5.15 Compiler: gcc gcc (GCC) 11.5.0 20240719 (Red Hat 11.5.0-2) Ubuntu 24.04 Kernel: 5.15 Compiler: gcc gcc (Ubuntu 13.3.0-6ubuntu2~24.04) 13.3.0 Windows Server 2022 Kernel: 10.0.20348.2031 Compiler: clang 15.0.7, gcc 14.1.0 (MinGW), and MSVC VS 19.39.33521 To view detailed results, visit: https://lab.dpdk.org/results/dashboard/tarballs/35608/ UNH-IOL DPDK Community Lab To manage your email subscriptions, visit: https://lab.dpdk.org/results/dashboard/preferences/subscriptions/