From mboxrd@z Thu Jan 1 00:00:00 1970 Return-Path: Received: from mails.dpdk.org (mails.dpdk.org [217.70.189.124]) by inbox.dpdk.org (Postfix) with ESMTP id 5155348B19 for ; Sat, 15 Nov 2025 13:03:20 +0100 (CET) Received: from mails.dpdk.org (localhost [127.0.0.1]) by mails.dpdk.org (Postfix) with ESMTP id 3293D40A80; Sat, 15 Nov 2025 13:03:20 +0100 (CET) Received: from mail-pg1-f225.google.com (mail-pg1-f225.google.com [209.85.215.225]) by mails.dpdk.org (Postfix) with ESMTP id C2B0140A80 for ; Sat, 15 Nov 2025 13:03:18 +0100 (CET) Received: by mail-pg1-f225.google.com with SMTP id 41be03b00d2f7-b98983bae8eso1744376a12.0 for ; Sat, 15 Nov 2025 04:03:18 -0800 (PST) DKIM-Signature: v=1; a=rsa-sha256; c=relaxed/relaxed; d=iol.unh.edu; s=unh-iol; t=1763208198; x=1763812998; darn=dpdk.org; h=cc:to:from:subject:message-id:date:from:to:cc:subject:date :message-id:reply-to; bh=sxYYdlGxdiseIutRt/M29lBe8s8nuH6meYEY1fJSsbw=; b=Nh8Ee8ihr1qouOYfSqbQsWk5A+UggUDtyzoq00lYgu/bkFhM0wtv5o0iYbBuKUVx4Y GlEXC5bC1Me5hlllo6OmVF+tQKTsyTBo1HrAMneTNb0seZaxy3RFzlULKJ2rHzdCWlSZ FzIvv5/NSBOeEwEXccNxrp5PJmfEIkEe+nw+A= X-Google-DKIM-Signature: v=1; a=rsa-sha256; c=relaxed/relaxed; d=1e100.net; s=20230601; t=1763208198; x=1763812998; h=cc:to:from:subject:message-id:date:x-gm-gg:x-gm-message-state:from :to:cc:subject:date:message-id:reply-to; bh=sxYYdlGxdiseIutRt/M29lBe8s8nuH6meYEY1fJSsbw=; b=Y6Au44w0easUzirnKKLKrKmjuQpaH4v0OaPE6rCPZKZOU3aTa6cV6coYFFnbOaCO2U H5CxsaF761znChyMTd3aI+besGot4wc3TP/f011wnbw02KNVWSnza2ayUDBOWbTdaOXe qHdrPHOaMehQ1x/8/jx0ibDjFkLFZdgOdBgW0BslE9bpgmsLyy1ieAmsRu+YTJFdgGED uGzR6pY7cTFJcTTQ5SMNd0olfj19/FNihF8S8zFw3C+KrDJqmRpH4FgKtLuI19yhUCej 2jVMa6D+ZjuijS4Fgw7uWRwHWnESJCn1WdQYpQ7QPntDthfs+Wkdaft55ZcXs+hIGxpw SfPA== X-Gm-Message-State: AOJu0YxoGEFP/29h0+66Ap4iJ3JMwCDOIP7NyqZqNTN8ofU2iH+HYsBX TlhBGMxSNDXZ19FwucuFFCS8bnfCynnapT/qrZCOUCBDeD7IINqX8eXpbmJAojB/ginW8PNTN1B 0jk96sYj6XHjuwn5ZeKxzz6c7U9oF3q7a9kZH X-Gm-Gg: ASbGncunQW0lj5kfOyYI/CQu+I4US6fYKFQnsMcoCh2Z2WUvHhsL4uW1r3ychuz00sN ZX9MDKh5BD2dZ3C269N0e6XENCQ/kGiO1/QoW0WG1UFYfbFA8IVepE2bEBIFqYcK19bjK3AAYN6 5FYFdXeQ5WKFgt34NsoZcfp7P71ILh6Z6B8lAS20x4xZNEAqlsfCuWL1eBcqYZYAueoVZTxCLIb VlPftnB+21nnwYCaWMX4NDACP3IcESfHv+MlwcLiln61J4EkqbfWYE0WFLELC5f3QTUuOFaqvDr Ef2Mmw26xTuDFlaAuEA+8nQhCKhAOQaPnmuEyTE+R9W+JEZ2GKJ97J9uNJUtVvZkoQ7OEwMZA4J 9Q/BltfEsaDkBo1fPzyU9b6SbFFg1O1o= X-Google-Smtp-Source: AGHT+IEnmUz1Vjqkxxnp5+kV5vN9Tb+q84PsBE4P+nb9lhI9iSvoOI7PmAgkc1yZc3lvcgg7a/gfiTcK0RIC X-Received: by 2002:a05:7300:cc10:b0:2a4:3592:cf65 with SMTP id 5a478bee46e88-2a4ab8798b4mr2415311eec.9.1763208197787; Sat, 15 Nov 2025 04:03:17 -0800 (PST) Received: from postal.iol.unh.edu (postal.iol.unh.edu. [132.177.123.84]) by smtp-relay.gmail.com with ESMTPS id 5a478bee46e88-2a49daf833fsm612050eec.3.2025.11.15.04.03.17 (version=TLS1_2 cipher=ECDHE-ECDSA-AES128-GCM-SHA256 bits=128/128); Sat, 15 Nov 2025 04:03:17 -0800 (PST) X-Relaying-Domain: iol.unh.edu Date: Sat, 15 Nov 2025 04:03:17 -0800 (PST) Message-ID: <69186c05.050a0220.3017b6.dff4SMTPIN_ADDED_MISSING@mx.google.com> Received: from [172.21.0.2] (unknown [172.18.0.240]) by postal.iol.unh.edu (Postfix) with ESMTP id 989F96051830; Sat, 15 Nov 2025 07:03:16 -0500 (EST) Subject: |SUCCESS| [GIT MASTER] 9784db2c5af1eecd02fc21132b59b5b266039b87 From: dpdklab@iol.unh.edu To: Test Report Cc: dpdk-test-reports@iol.unh.edu, Xueming Li , Christian Ehrhardt , Kevin Traynor , Luca Boccassi Content-Type: text/plain X-BeenThere: test-report@dpdk.org X-Mailman-Version: 2.1.29 Precedence: list List-Id: automatic DPDK test reports List-Unsubscribe: , List-Archive: List-Post: List-Help: List-Subscribe: , Errors-To: test-report-bounces@dpdk.org _Testing PASS_ Branch: tags/v22.11 9784db2c5af1eecd02fc21132b59b5b266039b87 --> testing pass Upstream job id: Windows-Compile-DPDK-Native#32395 Test environment and result as below: +-------------------------------+--------------------+-------------------------+ | Environment | dpdk_meson_compile | dpdk_llvm_clang_compile | +===============================+====================+=========================+ | Ubuntu 20.04 | PASS | SKIPPED | +-------------------------------+--------------------+-------------------------+ | FreeBSD 14.2 | PASS | SKIPPED | +-------------------------------+--------------------+-------------------------+ | CentOS Stream 9 | PASS | SKIPPED | +-------------------------------+--------------------+-------------------------+ | CentOS Stream 10 | PASS | SKIPPED | +-------------------------------+--------------------+-------------------------+ | Debian GNU/Linux 12 | PASS | SKIPPED | +-------------------------------+--------------------+-------------------------+ | Fedora Linux 42 | PASS | SKIPPED | +-------------------------------+--------------------+-------------------------+ | openSUSE Leap 15.6 | PASS | SKIPPED | +-------------------------------+--------------------+-------------------------+ | Red Hat Enterprise Linux 8.10 | PASS | SKIPPED | +-------------------------------+--------------------+-------------------------+ | Red Hat Enterprise Linux 9.5 | PASS | SKIPPED | +-------------------------------+--------------------+-------------------------+ | Ubuntu 22.04 | PASS | SKIPPED | +-------------------------------+--------------------+-------------------------+ | Ubuntu 24.04 | PASS | SKIPPED | +-------------------------------+--------------------+-------------------------+ | Windows Server 2022 | SKIPPED | PASS | +-------------------------------+--------------------+-------------------------+ Ubuntu 20.04 Kernel: 4.19 Compiler: gcc gcc (Ubuntu 9.4.0-1ubuntu1~20.04.2) 9.4.0 FreeBSD 14.2 Kernel: 14.2-RELEASE Compiler: clang 18.1.6 CentOS Stream 9 Kernel: 5.15 Compiler: gcc gcc (GCC) 11.5.0 20240719 (Red Hat 11.5.0-11) CentOS Stream 10 Kernel: 5.15 Compiler: gcc gcc (GCC) 14.2.1 20250110 (Red Hat 14.2.1-8) Debian GNU/Linux 12 Kernel: 5.15 Compiler: gcc gcc (Debian 12.2.0-14+deb12u1) 12.2.0 Fedora Linux 42 Kernel: 5.15 Compiler: clang gcc (GCC) 15.2.1 20250808 (Red Hat 15.2.1-1) openSUSE Leap 15.6 Kernel: 5.15 Compiler: gcc gcc (SUSE Linux) 7.5.0 Red Hat Enterprise Linux 8.10 Kernel: 5.15 Compiler: gcc gcc (GCC) 8.5.0 20210514 (Red Hat 8.5.0-22) Red Hat Enterprise Linux 9.5 Kernel: 5.15 Compiler: gcc gcc (GCC) 11.5.0 20240719 (Red Hat 11.5.0-2) Ubuntu 22.04 Kernel: 5.15 Compiler: gcc gcc (Ubuntu 11.4.0-1ubuntu1~22.04) 11.4.0 Ubuntu 24.04 Kernel: 5.15 Compiler: gcc gcc (Ubuntu 13.3.0-6ubuntu2~24.04) 13.3.0 Windows Server 2022 Kernel: 10.0.20348.2031 Compiler: clang 15.0.7, gcc 14.1.0 (MinGW), and MSVC VS 19.39.33521 To view detailed results, visit: https://lab.dpdk.org/results/dashboard/tarballs/35592/ UNH-IOL DPDK Community Lab To manage your email subscriptions, visit: https://lab.dpdk.org/results/dashboard/preferences/subscriptions/