From mboxrd@z Thu Jan 1 00:00:00 1970 Return-Path: Received: from mails.dpdk.org (mails.dpdk.org [217.70.189.124]) by inbox.dpdk.org (Postfix) with ESMTP id A9AA848B19 for ; Sat, 15 Nov 2025 13:08:04 +0100 (CET) Received: from mails.dpdk.org (localhost [127.0.0.1]) by mails.dpdk.org (Postfix) with ESMTP id 93A4540A80; Sat, 15 Nov 2025 13:08:04 +0100 (CET) Received: from mail-pl1-f226.google.com (mail-pl1-f226.google.com [209.85.214.226]) by mails.dpdk.org (Postfix) with ESMTP id 507D440A80 for ; Sat, 15 Nov 2025 13:08:03 +0100 (CET) Received: by mail-pl1-f226.google.com with SMTP id d9443c01a7336-295548467c7so33432285ad.2 for ; Sat, 15 Nov 2025 04:08:03 -0800 (PST) DKIM-Signature: v=1; a=rsa-sha256; c=relaxed/relaxed; d=iol.unh.edu; s=unh-iol; t=1763208482; x=1763813282; darn=dpdk.org; h=cc:to:from:subject:message-id:date:from:to:cc:subject:date :message-id:reply-to; bh=AyvYPtO8/0e3LDUzGRQgsX6S5l+7xYmjlMZK56bM7Vg=; b=EWb93dkMB0LbJF507GxBFinZmG+hA9/9P2VMqhdlfUpCDFXjW9neVnucp10iiK8Z2v 1F90X3vGMvF524y3JiVM4FDzq4RXo3m+BGUJkGGZV3LPNnzo+CYGbgdREBX2iRMCcLBn mxcvgEEPhHWMqOcEnbc+kd5sopwEwnHUZCNsg= X-Google-DKIM-Signature: v=1; a=rsa-sha256; c=relaxed/relaxed; d=1e100.net; s=20230601; t=1763208482; x=1763813282; h=cc:to:from:subject:message-id:date:x-gm-gg:x-gm-message-state:from :to:cc:subject:date:message-id:reply-to; bh=AyvYPtO8/0e3LDUzGRQgsX6S5l+7xYmjlMZK56bM7Vg=; b=NbuynhOAiixcrd1EPC/Sygl/7Gs0HQLWQ2KZdMePmemBLol+bJoiwUk+3kGyf5T4iF 7SDaC5472kVJ7Wh8JNsTa5TqP/fj0o1ks9wHuRZbN2XTIP2QEesqDg0pVinMhsHco0f2 g0t2uXPTHrmFuXZXmsVu7X4CYVeASSX0IO2qRxP+K4/MPbcR/S1d3VLpZIvAGE6vIiuL lktaQFlDFAQg4qcfcrXfptbWfjVwfnXTQqPJiTfkzFrg4H99FyDxSpf6qDKF7FuRw35l EvdGR5lEpk35lwrYJF/JQrxnQOhOJA8iRCqSm3GNPBsOuMBU20nvfbMFOYbvjZ5UMZk+ 8eNA== X-Gm-Message-State: AOJu0YwXRBaf5MjUTfQcOUvTEovaz32vdMAS2OTskx8MH76LTHCbGUHB T4VPWsqqVoqXplrVLQO48/Aar8MRzxAL2kXiGXxOFxRr2zvGHGYpxAcarFJ+kZhpA1Qu2AJiJFr BTp0QFoDcglzB+ONRTyE1E+1FePRldyQ2GOz5 X-Gm-Gg: ASbGncsIVOQ6ozUKkFZljakiX78jIjb36v9Ztcug53VeR8Q8WZkMnGGtlKpGJsh8aof rW13qtVr/JYMiZ/7uT0C4h/Tw6TBPy0lvzSuO+B7Yz7RtpTgGoMgG3L+eqNKhFADqqvtudQDPN/ +zi2pAoL/yWXpRSnhR/XZX4thyAaAiAMDkhGy4D4AA1XDZITisqF0GYn/h3Py3O9ji0Yh4NHlIe lmjcrBw27wok/rSrKD7cDAEOiBFKXsEYSs+oNoNjCEsbJlh+8Ba/88vVZ9sQ97rEty2qkk4dMrR UQtl6RrJ3QGJ884Ghj2M3bJQf/3f10pDRrcuYaO7mCp9t/azUlE1SknQNvKnRce5gszuySzXAN6 f07cSPENOuSUiNTdzCLeyRF5NCsGm06E= X-Google-Smtp-Source: AGHT+IE79FPtFD+I2eoOK3qXdkmJ8O3RwVMg7w8/TdfmnUnantxMis6p4CAhuMAmLRdSDWzT0k8R18W80Usj X-Received: by 2002:a17:903:1c9:b0:295:82c6:dac0 with SMTP id d9443c01a7336-2986a72e375mr73551665ad.36.1763208482480; Sat, 15 Nov 2025 04:08:02 -0800 (PST) Received: from postal.iol.unh.edu (postal.iol.unh.edu. [132.177.123.84]) by smtp-relay.gmail.com with ESMTPS id d9443c01a7336-2985c2b8725sm8466445ad.53.2025.11.15.04.08.02 (version=TLS1_2 cipher=ECDHE-ECDSA-AES128-GCM-SHA256 bits=128/128); Sat, 15 Nov 2025 04:08:02 -0800 (PST) X-Relaying-Domain: iol.unh.edu Date: Sat, 15 Nov 2025 04:08:02 -0800 (PST) Message-ID: <69186d22.170a0220.347d56.93d3SMTPIN_ADDED_MISSING@mx.google.com> Received: from [172.21.0.2] (unknown [172.18.0.240]) by postal.iol.unh.edu (Postfix) with ESMTP id 9AA546051830; Sat, 15 Nov 2025 07:08:01 -0500 (EST) Subject: |SUCCESS| [GIT MASTER] 9784db2c5af1eecd02fc21132b59b5b266039b87 From: dpdklab@iol.unh.edu To: Test Report Cc: dpdk-test-reports@iol.unh.edu, Xueming Li , Christian Ehrhardt , Kevin Traynor , Luca Boccassi Content-Type: text/plain X-BeenThere: test-report@dpdk.org X-Mailman-Version: 2.1.29 Precedence: list List-Id: automatic DPDK test reports List-Unsubscribe: , List-Archive: List-Post: List-Help: List-Subscribe: , Errors-To: test-report-bounces@dpdk.org _Testing PASS_ Branch: tags/v22.11 9784db2c5af1eecd02fc21132b59b5b266039b87 --> testing pass Upstream job id: Windows-Compile-DPDK-Native#32396 Test environment and result as below: +-------------------------------+--------------------+-------------------------+----------------------+ | Environment | dpdk_meson_compile | dpdk_llvm_clang_compile | dpdk_mingw64_compile | +===============================+====================+=========================+======================+ | Ubuntu 20.04 | PASS | SKIPPED | SKIPPED | +-------------------------------+--------------------+-------------------------+----------------------+ | FreeBSD 14.2 | PASS | SKIPPED | SKIPPED | +-------------------------------+--------------------+-------------------------+----------------------+ | CentOS Stream 9 | PASS | SKIPPED | SKIPPED | +-------------------------------+--------------------+-------------------------+----------------------+ | CentOS Stream 10 | PASS | SKIPPED | SKIPPED | +-------------------------------+--------------------+-------------------------+----------------------+ | Debian GNU/Linux 12 | PASS | SKIPPED | SKIPPED | +-------------------------------+--------------------+-------------------------+----------------------+ | Fedora Linux 42 | PASS | SKIPPED | SKIPPED | +-------------------------------+--------------------+-------------------------+----------------------+ | openSUSE Leap 15.6 | PASS | SKIPPED | SKIPPED | +-------------------------------+--------------------+-------------------------+----------------------+ | Red Hat Enterprise Linux 8.10 | PASS | SKIPPED | SKIPPED | +-------------------------------+--------------------+-------------------------+----------------------+ | Red Hat Enterprise Linux 9.5 | PASS | SKIPPED | SKIPPED | +-------------------------------+--------------------+-------------------------+----------------------+ | Ubuntu 22.04 | PASS | SKIPPED | SKIPPED | +-------------------------------+--------------------+-------------------------+----------------------+ | Ubuntu 24.04 | PASS | SKIPPED | SKIPPED | +-------------------------------+--------------------+-------------------------+----------------------+ | Windows Server 2022 | SKIPPED | PASS | PASS | +-------------------------------+--------------------+-------------------------+----------------------+ Ubuntu 20.04 Kernel: 4.19 Compiler: gcc gcc (Ubuntu 9.4.0-1ubuntu1~20.04.2) 9.4.0 FreeBSD 14.2 Kernel: 14.2-RELEASE Compiler: clang 18.1.6 CentOS Stream 9 Kernel: 5.15 Compiler: gcc gcc (GCC) 11.5.0 20240719 (Red Hat 11.5.0-11) CentOS Stream 10 Kernel: 5.15 Compiler: gcc gcc (GCC) 14.2.1 20250110 (Red Hat 14.2.1-8) Debian GNU/Linux 12 Kernel: 5.15 Compiler: gcc gcc (Debian 12.2.0-14+deb12u1) 12.2.0 Fedora Linux 42 Kernel: 5.15 Compiler: clang gcc (GCC) 15.2.1 20250808 (Red Hat 15.2.1-1) openSUSE Leap 15.6 Kernel: 5.15 Compiler: gcc gcc (SUSE Linux) 7.5.0 Red Hat Enterprise Linux 8.10 Kernel: 5.15 Compiler: gcc gcc (GCC) 8.5.0 20210514 (Red Hat 8.5.0-22) Red Hat Enterprise Linux 9.5 Kernel: 5.15 Compiler: gcc gcc (GCC) 11.5.0 20240719 (Red Hat 11.5.0-2) Ubuntu 22.04 Kernel: 5.15 Compiler: gcc gcc (Ubuntu 11.4.0-1ubuntu1~22.04) 11.4.0 Ubuntu 24.04 Kernel: 5.15 Compiler: gcc gcc (Ubuntu 13.3.0-6ubuntu2~24.04) 13.3.0 Windows Server 2022 Kernel: 10.0.20348.2031 Compiler: clang 15.0.7, gcc 14.1.0 (MinGW), and MSVC VS 19.39.33521 To view detailed results, visit: https://lab.dpdk.org/results/dashboard/tarballs/35592/ UNH-IOL DPDK Community Lab To manage your email subscriptions, visit: https://lab.dpdk.org/results/dashboard/preferences/subscriptions/