From mboxrd@z Thu Jan 1 00:00:00 1970 Return-Path: Received: from mails.dpdk.org (mails.dpdk.org [217.70.189.124]) by inbox.dpdk.org (Postfix) with ESMTP id 6B93548B19 for ; Sat, 15 Nov 2025 13:16:45 +0100 (CET) Received: from mails.dpdk.org (localhost [127.0.0.1]) by mails.dpdk.org (Postfix) with ESMTP id 669EE40A80; Sat, 15 Nov 2025 13:16:45 +0100 (CET) Received: from mail-pf1-f228.google.com (mail-pf1-f228.google.com [209.85.210.228]) by mails.dpdk.org (Postfix) with ESMTP id 11C2E40A80 for ; Sat, 15 Nov 2025 13:16:44 +0100 (CET) Received: by mail-pf1-f228.google.com with SMTP id d2e1a72fcca58-7aad4823079so2572097b3a.0 for ; Sat, 15 Nov 2025 04:16:43 -0800 (PST) DKIM-Signature: v=1; a=rsa-sha256; c=relaxed/relaxed; d=iol.unh.edu; s=unh-iol; t=1763209003; x=1763813803; darn=dpdk.org; h=references:in-reply-to:cc:to:from:subject:message-id:date:from:to :cc:subject:date:message-id:reply-to; bh=F9xEZcS9HjOMpvYJNI/PoDi03xilC2XqVwqBKA6YSF0=; b=aYCvKloioxarT10ViPSGqfTMms8iKSeZWYPURqn7Yf2MKlfh9/a356lGVxAKU8O0v3 pEy/Qm4ByWjRzHcZgTKJs5AAUBEQ+407uLNTzz4sCEBRxNNEA0MTIBUXmyXNcrNssMMB LF9+8vPv61wgxW/TAe2dd2MLCRrwAfNsrympA= X-Google-DKIM-Signature: v=1; a=rsa-sha256; c=relaxed/relaxed; d=1e100.net; s=20230601; t=1763209003; x=1763813803; h=references:in-reply-to:cc:to:from:subject:message-id:date:x-gm-gg :x-gm-message-state:from:to:cc:subject:date:message-id:reply-to; bh=F9xEZcS9HjOMpvYJNI/PoDi03xilC2XqVwqBKA6YSF0=; b=vu+HN/21ftW5XevmKhsVU752xBvC1/s64b2fTqrDQ86qTu97KQmTaKvlfkBWpcM1+1 BkYBDCsoKNpyWLnI6IAVrWg1M7KvKgpqrCmbWo1wXJ1UxjCkpV+HRVgolE3Tlou2bXE/ C/fokE6f6IdSpFkhkJQxBSLhwk77IUNe22dfmrLMv2pI69vDuno0Xk9zGbSIlakhZXaX 57JjAGfrNkYdSEWk+9pgC/7Sz8Cu68Sl2ORUi+lJ8NQVqF6iY5s906fcXSTQ3mwQO7r3 bFpaM1JbEMPsbh3AUaOoJsHTvIwK2Vd4760q+fF/NU4+K5GWiMfqfV1sYSqnDTzYN/IE Nolw== X-Gm-Message-State: AOJu0YwyR5C1Hnh9uS9UL5gYKdxPEmDv4noS50v+dllHGlZ/lCRY24gy 5BeCOheqwjx4mTg1uO2quw1hus8kSbSKMiIYBzmgfVLWjQdS+HEQRW8RUKSo1yWonGIdnr+MlR0 03Mqnf5EQLdGfdwwOXF8alIeMkRzvu9ZjVDYDaM7MHQjn X-Gm-Gg: ASbGncsVmeVcx/ThTammUF+e61PbT8hEv7iUHvmRJUNO3DffE+YceOaommOAbhvU/we Ol6Ax/G/86i/Y57Bp9K57dbtfso/TGS2/FZD9+tez9MPQNoKfy83xIAxio9Q5lbls5iwAcWwIzd Rs/1JYxjlkkorVXudLfY7gpe5UQclLlM5j935E5t4Wptk4+bpiQls/0ol8Qr+FR66a6Au+YwsXl RPTJ0mh6rksFaUkZQbhHPY5s7T+AeDXhsdsBdYh5iAztBYIRDAZBM/VnxDnNlHtUL+z2vscKCli dYziO54Ni7WdiDyJCxgD/Tm1cvU69kjcJvzPqO3+hrFjKksEshWkrJHTL9AV2F6t9LkTLIosKm+ YZrI2DhlUp9v0MS1QF4l7fnJNBxfxTuw= X-Google-Smtp-Source: AGHT+IFdUsYn+RXnrIwM5/BPMNQ0woxLUMQyr6X8OpHopaf77cRQUphtrFkQS3homst680+Imgo88nrZ6aAy X-Received: by 2002:a05:6a20:158a:b0:35b:9b91:a4a1 with SMTP id adf61e73a8af0-35ba32546efmr7618008637.60.1763209003116; Sat, 15 Nov 2025 04:16:43 -0800 (PST) Received: from postal.iol.unh.edu (postal.iol.unh.edu. [132.177.123.84]) by smtp-relay.gmail.com with ESMTPS id d2e1a72fcca58-7b92268018dsm741824b3a.0.2025.11.15.04.16.43 (version=TLS1_2 cipher=ECDHE-ECDSA-AES128-GCM-SHA256 bits=128/128); Sat, 15 Nov 2025 04:16:43 -0800 (PST) X-Relaying-Domain: iol.unh.edu Date: Sat, 15 Nov 2025 04:16:43 -0800 (PST) Message-ID: <69186f2b.050a0220.1d4c58.4104SMTPIN_ADDED_MISSING@mx.google.com> Received: from [172.21.0.3] (unknown [172.18.0.240]) by postal.iol.unh.edu (Postfix) with ESMTP id 888496051830; Sat, 15 Nov 2025 07:16:42 -0500 (EST) Subject: |SUCCESS| pw158821 [PATCH] net/mlx5: fix higher flow tag indexes sup From: dpdklab@iol.unh.edu To: Test Report Cc: dpdk-test-reports@iol.unh.edu In-Reply-To: <20251114201720.1639238-1-dsosnowski@nvidia.com> References: <20251114201720.1639238-1-dsosnowski@nvidia.com> Content-Type: text/plain X-BeenThere: test-report@dpdk.org X-Mailman-Version: 2.1.29 Precedence: list List-Id: automatic DPDK test reports List-Unsubscribe: , List-Archive: List-Post: List-Help: List-Subscribe: , Errors-To: test-report-bounces@dpdk.org Test-Label: iol-unit-amd64-testing Test-Status: SUCCESS http://dpdk.org/patch/158821 _Testing PASS_ Submitter: Dariusz Sosnowski Date: Friday, November 14 2025 20:17:20 DPDK git baseline: Repo:dpdk-next-net-mlx Branch: master CommitID:ae657d56b1f0ea979b3f611edf28d773efc2ddcf 158821 --> testing pass Upstream job id: Generic-VM-Unit-Test-DPDK#32599 Test environment and result as below: +-------------------------------+----------------+ | Environment | dpdk_unit_test | +===============================+================+ | Fedora Linux 40 | PASS | +-------------------------------+----------------+ | Debian GNU/Linux 12 | PASS | +-------------------------------+----------------+ | Fedora Linux 41 | PASS | +-------------------------------+----------------+ | Fedora Linux 42 | PASS | +-------------------------------+----------------+ | CentOS Stream 9 | PASS | +-------------------------------+----------------+ | Red Hat Enterprise Linux 9.5 | PASS | +-------------------------------+----------------+ | CentOS Stream 10 | PASS | +-------------------------------+----------------+ | Ubuntu 20.04 | PASS | +-------------------------------+----------------+ | Ubuntu 24.04 | PASS | +-------------------------------+----------------+ | Red Hat Enterprise Linux 8.10 | PASS | +-------------------------------+----------------+ | Ubuntu 22.04 | PASS | +-------------------------------+----------------+ | Windows Server 2022 | PASS | +-------------------------------+----------------+ Fedora Linux 40 Kernel: 5.15 Compiler: gcc gcc (GCC) 14.2.1 20240912 (Red Hat 14.2.1-3) Debian GNU/Linux 12 Kernel: 5.15 Compiler: gcc gcc (Debian 12.2.0-14+deb12u1) 12.2.0 Fedora Linux 41 Kernel: 5.15 Compiler: gcc gcc (GCC) 14.3.1 20250523 (Red Hat 14.3.1-1) Fedora Linux 42 Kernel: 5.15 Compiler: clang gcc (GCC) 15.2.1 20250808 (Red Hat 15.2.1-1) CentOS Stream 9 Kernel: 5.15 Compiler: gcc gcc (GCC) 11.5.0 20240719 (Red Hat 11.5.0-11) Red Hat Enterprise Linux 9.5 Kernel: 5.15 Compiler: gcc gcc (GCC) 11.5.0 20240719 (Red Hat 11.5.0-2) CentOS Stream 10 Kernel: 5.15 Compiler: gcc gcc (GCC) 14.2.1 20250110 (Red Hat 14.2.1-8) Ubuntu 20.04 Kernel: 5.15 Compiler: gcc gcc (Ubuntu 9.4.0-1ubuntu1~20.04.2) 9.4.0 Ubuntu 24.04 Kernel: 5.15 Compiler: gcc gcc (Ubuntu 13.3.0-6ubuntu2~24.04) 13.3.0 Red Hat Enterprise Linux 8.10 Kernel: 5.15 Compiler: gcc gcc (GCC) 8.5.0 20210514 (Red Hat 8.5.0-22) Ubuntu 22.04 Kernel: 5.15 Compiler: gcc gcc (Ubuntu 11.4.0-1ubuntu1~22.04) 11.4.0 Windows Server 2022 Kernel: 10.0.20348.2031 Compiler: clang 15.0.7, gcc 14.1.0 (MinGW), and MSVC VS 19.39.33521 To view detailed results, visit: https://lab.dpdk.org/results/dashboard/patchsets/34603/ UNH-IOL DPDK Community Lab To manage your email subscriptions, visit: https://lab.dpdk.org/results/dashboard/preferences/subscriptions/