From mboxrd@z Thu Jan 1 00:00:00 1970 Return-Path: Received: from mails.dpdk.org (mails.dpdk.org [217.70.189.124]) by inbox.dpdk.org (Postfix) with ESMTP id 3AA7948B19 for ; Sat, 15 Nov 2025 13:23:14 +0100 (CET) Received: from mails.dpdk.org (localhost [127.0.0.1]) by mails.dpdk.org (Postfix) with ESMTP id 20FF340A80; Sat, 15 Nov 2025 13:23:14 +0100 (CET) Received: from mail-qt1-f225.google.com (mail-qt1-f225.google.com [209.85.160.225]) by mails.dpdk.org (Postfix) with ESMTP id BF64F40A80 for ; Sat, 15 Nov 2025 13:23:12 +0100 (CET) Received: by mail-qt1-f225.google.com with SMTP id d75a77b69052e-4ed66b5abf7so43327131cf.1 for ; Sat, 15 Nov 2025 04:23:12 -0800 (PST) DKIM-Signature: v=1; a=rsa-sha256; c=relaxed/relaxed; d=iol.unh.edu; s=unh-iol; t=1763209392; x=1763814192; darn=dpdk.org; h=cc:to:from:subject:message-id:date:from:to:cc:subject:date :message-id:reply-to; bh=klk3tNwf2HNUqsjDTsz19u0w5/WUbTqFhqzeu+kVkMc=; b=PrAnzB3IPHaxok85AI/CmsNKAg885JMhjPP+APByrkKuP66ZIK7Oy5hDLB6pIjT4/N th4HaztXde8VHCxp4U0iICVFEDDwvqeabqEC9wn9dhK5RZ1qnYKqnhF2wFH5daU8Y3Sk Yby9mi5aAiKsihX+OLd/1O8HVce8Lbi4c8lJI= X-Google-DKIM-Signature: v=1; a=rsa-sha256; c=relaxed/relaxed; d=1e100.net; s=20230601; t=1763209392; x=1763814192; h=cc:to:from:subject:message-id:date:x-gm-gg:x-gm-message-state:from :to:cc:subject:date:message-id:reply-to; bh=klk3tNwf2HNUqsjDTsz19u0w5/WUbTqFhqzeu+kVkMc=; b=N5DwOZ4iE2OJCvx3WDH3SuFJMVmxQJvW5qIHO+HlbM9FgJ6f3i/S/146Kwf+ceINSg Ccb4xifIR8JMijT1c+qywsX/tfm4qrr69AbSDfoP7+V03SimPumf4BVsKpwHoKh4TZ9F zniMWJkIhN+8hkNmRdLo01ciAobeGDV6vXDGBmWuqkTQ9UjaG+x3sEVhHAt5M+zrelRz FPJXnNT1/opHQaaNroxtQQ4Ff3WJfyC0NW/gXfxK7Eqp5ZlWHRfCjX6icPmTfuqkHb8R 3YeERJzpGOf2dhyuKEy7Ms6qnNXCL5/TWFgIy9qTVA8X8AIK8Gz6EuUVcrL9sfUgjbWZ 3+Cw== X-Gm-Message-State: AOJu0YwTJYCFatRdYVLe+dB7mDFPCPYw6EBUVf8lwlFFdmiuLDoujKew Ly/ciX1p8ZWeM3LCoaT+/bK7YFt2HtrDojyn1fXYP3ad0kMXoaW1xRFMgJGC5E5Mf6vMIrn2G4i Bwrq18EbKUNVMG9+x6W3JW3jiwPbfPPfvAJO3hvIqkwEgWLeDYLvW X-Gm-Gg: ASbGncval801+2g3xM9+DMPd2H954nVSc0I2uQix59Erx+4Vh1ML5egyskpLCh0ZhkD 6JFj5EG7lc66C1ePmqKmxi/7AXrEFtDlPUJXRDMLE2wzX5A+9wqn5EJyxW1X/6NwjLOF+sAAmLD Oyzn/GPinWrELFfcaAzGN0HE3hWpDQp9kjVWCh1cA5nhdb92iOWokXcypOtZOrNSSTFtFVQoFWD Yb/NfHlw/VW1nqvsocaE4Z0nGr+w7cG/CMLHgaFmn5P6vfFu+WUIyHrldlNkrwb7+kM6E9sutC6 8Llib+9DyZfEWBVjnfg01jTC/3kd8i5oo+/h97TDNMyea/92tyJ4CkQ5vjQ06oaZnPV26NPy8eM FMhT/hSme X-Google-Smtp-Source: AGHT+IFFtzNy1zQZ4iDnHGbYed7iyd7W4KKYr/FmgRwLSRYCiyqQxHsZzUNqbK9UOC+x/pmmpfo9RRM4Us50 X-Received: by 2002:ac8:5916:0:b0:4ee:bac:e3aa with SMTP id d75a77b69052e-4ee0bace88bmr13697141cf.35.1763209391951; Sat, 15 Nov 2025 04:23:11 -0800 (PST) Received: from postal.iol.unh.edu (postal.iol.unh.edu. [2606:4100:3880:1234::84]) by smtp-relay.gmail.com with ESMTPS id 6a1803df08f44-8828657c69fsm8875866d6.27.2025.11.15.04.23.11 (version=TLS1_2 cipher=ECDHE-ECDSA-AES128-GCM-SHA256 bits=128/128); Sat, 15 Nov 2025 04:23:11 -0800 (PST) X-Relaying-Domain: iol.unh.edu Date: Sat, 15 Nov 2025 04:23:11 -0800 (PST) Message-ID: <691870af.050a0220.37eec2.b79cSMTPIN_ADDED_MISSING@mx.google.com> Received: from [172.21.0.3] (unknown [172.18.0.240]) by postal.iol.unh.edu (Postfix) with ESMTP id 850676051830; Sat, 15 Nov 2025 07:23:11 -0500 (EST) Subject: |SUCCESS| [GIT MASTER] 0bd935abcb823f581ce53986986aa54eaf6f8140 From: dpdklab@iol.unh.edu To: Test Report Cc: dpdk-test-reports@iol.unh.edu, Xueming Li , Christian Ehrhardt , Kevin Traynor , Luca Boccassi Content-Type: text/plain X-BeenThere: test-report@dpdk.org X-Mailman-Version: 2.1.29 Precedence: list List-Id: automatic DPDK test reports List-Unsubscribe: , List-Archive: List-Post: List-Help: List-Subscribe: , Errors-To: test-report-bounces@dpdk.org _Testing PASS_ Branch: tags/v24.11 0bd935abcb823f581ce53986986aa54eaf6f8140 --> testing pass Upstream job id: Windows-Compile-DPDK-Native#32399 Test environment and result as below: +-------------------------------+--------------------+------------------+-------------------+-------------------------+ | Environment | dpdk_meson_compile | dpdk_compile_ovs | dpdk_msvc_compile | dpdk_llvm_clang_compile | +===============================+====================+==================+===================+=========================+ | FreeBSD 14.2 | PASS | SKIPPED | SKIPPED | SKIPPED | +-------------------------------+--------------------+------------------+-------------------+-------------------------+ | Ubuntu 20.04 | PASS | SKIPPED | SKIPPED | SKIPPED | +-------------------------------+--------------------+------------------+-------------------+-------------------------+ | CentOS Stream 10 | PASS | SKIPPED | SKIPPED | SKIPPED | +-------------------------------+--------------------+------------------+-------------------+-------------------------+ | CentOS Stream 9 | PASS | SKIPPED | SKIPPED | SKIPPED | +-------------------------------+--------------------+------------------+-------------------+-------------------------+ | Debian GNU/Linux 12 | PASS | SKIPPED | SKIPPED | SKIPPED | +-------------------------------+--------------------+------------------+-------------------+-------------------------+ | Fedora Linux 42 | PASS | PASS | SKIPPED | SKIPPED | +-------------------------------+--------------------+------------------+-------------------+-------------------------+ | openSUSE Leap 15.6 | PASS | SKIPPED | SKIPPED | SKIPPED | +-------------------------------+--------------------+------------------+-------------------+-------------------------+ | Red Hat Enterprise Linux 8.10 | PASS | SKIPPED | SKIPPED | SKIPPED | +-------------------------------+--------------------+------------------+-------------------+-------------------------+ | Red Hat Enterprise Linux 9.5 | PASS | SKIPPED | SKIPPED | SKIPPED | +-------------------------------+--------------------+------------------+-------------------+-------------------------+ | Ubuntu 22.04 | PASS | SKIPPED | SKIPPED | SKIPPED | +-------------------------------+--------------------+------------------+-------------------+-------------------------+ | Ubuntu 24.04 | PASS | PASS | SKIPPED | SKIPPED | +-------------------------------+--------------------+------------------+-------------------+-------------------------+ | Alpine Linux 3.22.0 | PASS | SKIPPED | SKIPPED | SKIPPED | +-------------------------------+--------------------+------------------+-------------------+-------------------------+ | Windows Server 2022 | SKIPPED | SKIPPED | PASS | PASS | +-------------------------------+--------------------+------------------+-------------------+-------------------------+ FreeBSD 14.2 Kernel: 14.2-RELEASE Compiler: clang 18.1.6 Ubuntu 20.04 Kernel: 4.19 Compiler: gcc gcc (Ubuntu 9.4.0-1ubuntu1~20.04.2) 9.4.0 CentOS Stream 10 Kernel: 5.15 Compiler: gcc gcc (GCC) 14.2.1 20250110 (Red Hat 14.2.1-8) CentOS Stream 9 Kernel: 5.15 Compiler: gcc gcc (GCC) 11.5.0 20240719 (Red Hat 11.5.0-11) Debian GNU/Linux 12 Kernel: 5.15 Compiler: gcc gcc (Debian 12.2.0-14+deb12u1) 12.2.0 Fedora Linux 42 Kernel: 5.15 Compiler: clang gcc (GCC) 15.2.1 20250808 (Red Hat 15.2.1-1) openSUSE Leap 15.6 Kernel: 5.15 Compiler: gcc gcc (SUSE Linux) 7.5.0 Red Hat Enterprise Linux 8.10 Kernel: 5.15 Compiler: gcc gcc (GCC) 8.5.0 20210514 (Red Hat 8.5.0-22) Red Hat Enterprise Linux 9.5 Kernel: 5.15 Compiler: gcc gcc (GCC) 11.5.0 20240719 (Red Hat 11.5.0-2) Ubuntu 22.04 Kernel: 5.15 Compiler: gcc gcc (Ubuntu 11.4.0-1ubuntu1~22.04) 11.4.0 Ubuntu 24.04 Kernel: 5.15 Compiler: gcc gcc (Ubuntu 13.3.0-6ubuntu2~24.04) 13.3.0 Alpine Linux 3.22.0 Kernel: 5.15 Compiler: gcc gcc (Alpine 14.2.0) 14.2.0 Windows Server 2022 Kernel: 10.0.20348.2031 Compiler: clang 15.0.7, gcc 14.1.0 (MinGW), and MSVC VS 19.39.33521 To view detailed results, visit: https://lab.dpdk.org/results/dashboard/tarballs/35594/ UNH-IOL DPDK Community Lab To manage your email subscriptions, visit: https://lab.dpdk.org/results/dashboard/preferences/subscriptions/