From mboxrd@z Thu Jan 1 00:00:00 1970 Return-Path: Received: from mails.dpdk.org (mails.dpdk.org [217.70.189.124]) by inbox.dpdk.org (Postfix) with ESMTP id 6AA8F48B19 for ; Sat, 15 Nov 2025 13:24:54 +0100 (CET) Received: from mails.dpdk.org (localhost [127.0.0.1]) by mails.dpdk.org (Postfix) with ESMTP id 56DB440A80; Sat, 15 Nov 2025 13:24:54 +0100 (CET) Received: from mail-pl1-f225.google.com (mail-pl1-f225.google.com [209.85.214.225]) by mails.dpdk.org (Postfix) with ESMTP id 8220840A80 for ; Sat, 15 Nov 2025 13:24:53 +0100 (CET) Received: by mail-pl1-f225.google.com with SMTP id d9443c01a7336-29516a36affso30957855ad.3 for ; Sat, 15 Nov 2025 04:24:53 -0800 (PST) DKIM-Signature: v=1; a=rsa-sha256; c=relaxed/relaxed; d=iol.unh.edu; s=unh-iol; t=1763209493; x=1763814293; darn=dpdk.org; h=cc:to:from:subject:message-id:date:from:to:cc:subject:date :message-id:reply-to; bh=2l3MVh5OR6+p0ZeodCL81aq8wDuNufsHZQLneYagKks=; b=Av/Ke3RyaSPRGIobfgZ5xgBpwnUvrQdTH+g1c/w1Apymn1oeHFaakLRGci4y8Fi7QQ zgg7NS99CtG7TirQzUYpJOwMYbkmcnGwm0UlCDdpPGmvOjNoy5mFUgGy489fUYFcJHJ0 nFYUF76jYib3qlzg6ioWXt71N+/ClusnaE1VA= X-Google-DKIM-Signature: v=1; a=rsa-sha256; c=relaxed/relaxed; d=1e100.net; s=20230601; t=1763209493; x=1763814293; h=cc:to:from:subject:message-id:date:x-gm-gg:x-gm-message-state:from :to:cc:subject:date:message-id:reply-to; bh=2l3MVh5OR6+p0ZeodCL81aq8wDuNufsHZQLneYagKks=; b=UQull+pHf7x4NgrUuXkCkzsmQRpChGugfcAzsa14DjKhzWSZQXGwmNncKXCcTPnhXi eii7nxttat6AZhUtcNS8At0DZWk85+rdvHCblXbvrCjRT/ncZl1hZWERDeuFk94Li5ND FxzAHquxSIDk348Mjtx8g5STLHVNr9bYEUWfLm6a/ov/pmiKThMV2MYb6d4hMJrpwdVp 5qpQJK5cXkjrbibbp8qaz6fpWUxipR559drLjzjB1hqhgWmbDoFcMUqjj0MCSYAJuL+V JmlE3dx7ZoqdHCD2or1ER5cdQgq97KCHJSRjhp34aYX5VLePf5riZNmt93Otf/HIXsqH sE9g== X-Gm-Message-State: AOJu0YwAjiqDV/crI43siHAkJeK+mj8TjxmZ22YKXrZRNNR6lW8TV69b y5dMWYWnrOPtFeOzcMWfnwexfjnrka4YcY/QYweVkyqBnveSyM1GKlc0ON0Rs/7fm996tMou2u1 4uWSV34q7aUz10mDrPSXCkVUkFMhu5DysryR4 X-Gm-Gg: ASbGnctfSfwni1KbLFyf59FldBd7PeUGr31OZl8rA3FEQM0Wx4J5L27p+51z3DzbsD0 njQBrmzExz/YbODgnb4PaCxhuHJLRUW3YK+bLVoWEsABNmxV6A+ROvBMKKEfPGvPMBDhQxSPxaH BOwqZj5EHxITIsf3YMvmIRhF6TOvW7dlqxPYIgHpVf1hZjYS9K2UOxHi5O7i65uUk//BkvmRKfm l2YTULCNDsSQ2BHVlpYgMNL/lnfGPlxbM5yIwjrojNwjx/fr0cLPz3dwnNyyjTykuFWfEnzLCer ToWtAO3a2j+8i4SoYdicVUMVDSZiVOOOrKOHXgIaJ483zgotaRoWGW1hPAqfTVmYFRH1YdxN6Xr t5wDMBOCEdtdV7xDY1qER6cOSJDQGN0E= X-Google-Smtp-Source: AGHT+IGJAcLMd/V6msqls62lZwsFM7wKo30aq0XryXxQgjWtEfa08hFFidpUxh8eZvySlR42JzBgleYnFSOQ X-Received: by 2002:a17:902:f68c:b0:269:8d1b:40c3 with SMTP id d9443c01a7336-2986a6abde6mr78620955ad.12.1763209492667; Sat, 15 Nov 2025 04:24:52 -0800 (PST) Received: from postal.iol.unh.edu (postal.iol.unh.edu. [132.177.123.84]) by smtp-relay.gmail.com with ESMTPS id 98e67ed59e1d1-343ed5b06c4sm911162a91.8.2025.11.15.04.24.52 (version=TLS1_2 cipher=ECDHE-ECDSA-AES128-GCM-SHA256 bits=128/128); Sat, 15 Nov 2025 04:24:52 -0800 (PST) X-Relaying-Domain: iol.unh.edu Date: Sat, 15 Nov 2025 04:24:52 -0800 (PST) Message-ID: <69187114.170a0220.1e1ddb.c5e8SMTPIN_ADDED_MISSING@mx.google.com> Received: from [172.21.0.3] (unknown [172.18.0.240]) by postal.iol.unh.edu (Postfix) with ESMTP id D84DB6051830; Sat, 15 Nov 2025 07:24:51 -0500 (EST) Subject: |SUCCESS| [GIT MASTER] 0bd935abcb823f581ce53986986aa54eaf6f8140 From: dpdklab@iol.unh.edu To: Test Report Cc: dpdk-test-reports@iol.unh.edu, Xueming Li , Christian Ehrhardt , Kevin Traynor , Luca Boccassi Content-Type: text/plain X-BeenThere: test-report@dpdk.org X-Mailman-Version: 2.1.29 Precedence: list List-Id: automatic DPDK test reports List-Unsubscribe: , List-Archive: List-Post: List-Help: List-Subscribe: , Errors-To: test-report-bounces@dpdk.org _Testing PASS_ Branch: tags/v24.11 0bd935abcb823f581ce53986986aa54eaf6f8140 --> testing pass Upstream job id: Windows-Compile-DPDK-Native#32400 Test environment and result as below: +-------------------------------+--------------------+------------------+-------------------+-------------------------+----------------------+ | Environment | dpdk_meson_compile | dpdk_compile_ovs | dpdk_msvc_compile | dpdk_llvm_clang_compile | dpdk_mingw64_compile | +===============================+====================+==================+===================+=========================+======================+ | FreeBSD 14.2 | PASS | SKIPPED | SKIPPED | SKIPPED | SKIPPED | +-------------------------------+--------------------+------------------+-------------------+-------------------------+----------------------+ | Ubuntu 20.04 | PASS | SKIPPED | SKIPPED | SKIPPED | SKIPPED | +-------------------------------+--------------------+------------------+-------------------+-------------------------+----------------------+ | CentOS Stream 10 | PASS | SKIPPED | SKIPPED | SKIPPED | SKIPPED | +-------------------------------+--------------------+------------------+-------------------+-------------------------+----------------------+ | CentOS Stream 9 | PASS | SKIPPED | SKIPPED | SKIPPED | SKIPPED | +-------------------------------+--------------------+------------------+-------------------+-------------------------+----------------------+ | Debian GNU/Linux 12 | PASS | SKIPPED | SKIPPED | SKIPPED | SKIPPED | +-------------------------------+--------------------+------------------+-------------------+-------------------------+----------------------+ | Fedora Linux 42 | PASS | PASS | SKIPPED | SKIPPED | SKIPPED | +-------------------------------+--------------------+------------------+-------------------+-------------------------+----------------------+ | openSUSE Leap 15.6 | PASS | SKIPPED | SKIPPED | SKIPPED | SKIPPED | +-------------------------------+--------------------+------------------+-------------------+-------------------------+----------------------+ | Red Hat Enterprise Linux 8.10 | PASS | SKIPPED | SKIPPED | SKIPPED | SKIPPED | +-------------------------------+--------------------+------------------+-------------------+-------------------------+----------------------+ | Red Hat Enterprise Linux 9.5 | PASS | SKIPPED | SKIPPED | SKIPPED | SKIPPED | +-------------------------------+--------------------+------------------+-------------------+-------------------------+----------------------+ | Ubuntu 22.04 | PASS | SKIPPED | SKIPPED | SKIPPED | SKIPPED | +-------------------------------+--------------------+------------------+-------------------+-------------------------+----------------------+ | Ubuntu 24.04 | PASS | PASS | SKIPPED | SKIPPED | SKIPPED | +-------------------------------+--------------------+------------------+-------------------+-------------------------+----------------------+ | Alpine Linux 3.22.0 | PASS | SKIPPED | SKIPPED | SKIPPED | SKIPPED | +-------------------------------+--------------------+------------------+-------------------+-------------------------+----------------------+ | Windows Server 2022 | SKIPPED | SKIPPED | PASS | PASS | PASS | +-------------------------------+--------------------+------------------+-------------------+-------------------------+----------------------+ FreeBSD 14.2 Kernel: 14.2-RELEASE Compiler: clang 18.1.6 Ubuntu 20.04 Kernel: 4.19 Compiler: gcc gcc (Ubuntu 9.4.0-1ubuntu1~20.04.2) 9.4.0 CentOS Stream 10 Kernel: 5.15 Compiler: gcc gcc (GCC) 14.2.1 20250110 (Red Hat 14.2.1-8) CentOS Stream 9 Kernel: 5.15 Compiler: gcc gcc (GCC) 11.5.0 20240719 (Red Hat 11.5.0-11) Debian GNU/Linux 12 Kernel: 5.15 Compiler: gcc gcc (Debian 12.2.0-14+deb12u1) 12.2.0 Fedora Linux 42 Kernel: 5.15 Compiler: clang gcc (GCC) 15.2.1 20250808 (Red Hat 15.2.1-1) openSUSE Leap 15.6 Kernel: 5.15 Compiler: gcc gcc (SUSE Linux) 7.5.0 Red Hat Enterprise Linux 8.10 Kernel: 5.15 Compiler: gcc gcc (GCC) 8.5.0 20210514 (Red Hat 8.5.0-22) Red Hat Enterprise Linux 9.5 Kernel: 5.15 Compiler: gcc gcc (GCC) 11.5.0 20240719 (Red Hat 11.5.0-2) Ubuntu 22.04 Kernel: 5.15 Compiler: gcc gcc (Ubuntu 11.4.0-1ubuntu1~22.04) 11.4.0 Ubuntu 24.04 Kernel: 5.15 Compiler: gcc gcc (Ubuntu 13.3.0-6ubuntu2~24.04) 13.3.0 Alpine Linux 3.22.0 Kernel: 5.15 Compiler: gcc gcc (Alpine 14.2.0) 14.2.0 Windows Server 2022 Kernel: 10.0.20348.2031 Compiler: clang 15.0.7, gcc 14.1.0 (MinGW), and MSVC VS 19.39.33521 To view detailed results, visit: https://lab.dpdk.org/results/dashboard/tarballs/35594/ UNH-IOL DPDK Community Lab To manage your email subscriptions, visit: https://lab.dpdk.org/results/dashboard/preferences/subscriptions/