From mboxrd@z Thu Jan 1 00:00:00 1970 Return-Path: Received: from mails.dpdk.org (mails.dpdk.org [217.70.189.124]) by inbox.dpdk.org (Postfix) with ESMTP id 123DE48B19 for ; Sat, 15 Nov 2025 13:31:19 +0100 (CET) Received: from mails.dpdk.org (localhost [127.0.0.1]) by mails.dpdk.org (Postfix) with ESMTP id 0DC7440A80; Sat, 15 Nov 2025 13:31:19 +0100 (CET) Received: from mail-qk1-f226.google.com (mail-qk1-f226.google.com [209.85.222.226]) by mails.dpdk.org (Postfix) with ESMTP id 1C9B540A80 for ; Sat, 15 Nov 2025 13:31:18 +0100 (CET) Received: by mail-qk1-f226.google.com with SMTP id af79cd13be357-8b21fc25ae1so295020985a.1 for ; Sat, 15 Nov 2025 04:31:18 -0800 (PST) DKIM-Signature: v=1; a=rsa-sha256; c=relaxed/relaxed; d=iol.unh.edu; s=unh-iol; t=1763209877; x=1763814677; darn=dpdk.org; h=references:in-reply-to:cc:to:from:subject:message-id:date:from:to :cc:subject:date:message-id:reply-to; bh=ZnmvlDkj9O0q03Fl6sWKOIOZNxz1+Y8QRLCjdAwParU=; b=Q7eNVuspPGbheKw7QOqsP7BSEQXbyeauxb9KQAYD9c+TZHmvjfoBAppKQAzlBF32mh oCFG/IqRkD0T6WgD4uFqFGJKIguckUA+iPl9cFbf9S4gGf0EeY4aM5E8okegaWj5MNXQ TWEEJJnrZGnHZn2qixQO7Jw3BODLEJbj1fapg= X-Google-DKIM-Signature: v=1; a=rsa-sha256; c=relaxed/relaxed; d=1e100.net; s=20230601; t=1763209877; x=1763814677; h=references:in-reply-to:cc:to:from:subject:message-id:date:x-gm-gg :x-gm-message-state:from:to:cc:subject:date:message-id:reply-to; bh=ZnmvlDkj9O0q03Fl6sWKOIOZNxz1+Y8QRLCjdAwParU=; b=hYi1MQfpEi7P+jVpLx8Hspi3nw71PbjiUQMymLNomq3JqDI399Ecam+omjL1B4dcML XMTbm1zBN4gCA22QKz9QmtZ+pmVi5ZIpe4HOJMafrxH77s/O742T0MjQDv2bj/UsRcPN Di6xElqDQxr56G7kYse5H+RBaoAIZoAz0UOcT75fFDYrvCWpM2PBa3q8tpc+s/mURbJF hNgXElHpQOzthwJ7nk7RMv7HNd2KCYf2j0+VR1FwQjKnyxTDIDEqBazdoybqlfN41CJX ObjGBqjnQg0vcpyQ4C9EXRmqPc6rvC4FVLYcAJUp/VUcgiaMkJpzsSjw07AQuOhGksp6 cniQ== X-Gm-Message-State: AOJu0Yzqams96RGDw5gcVhzt/QNCj8iVtAV8aXF5oUyjsbgWF9tKjuZg 121gm0AET+3VvY3Q9fdQcbqEFx4tFdJ+d9Oo3j4wbojpvxTVji7wuJ6qfPcd8fSIfDhdAkPj2na 8iFu1Mxg4GZFCwnab0qOGVKAkmggRQwTJtBYUfnUpsvdRcE1WGEm8VQkl9YiU X-Gm-Gg: ASbGncvpbrpPvFjYeBsVumct/3zT7K1CFPDtSnRgN8oslpEozzbBBScMySxlvGUa4EO Fpazvt2PbuDD4Je/a1lMbsIr3y9eEZW9DxAzEduZk4mJ+tAemYkYtXQ/kp7HbHyxC4xfBH1jXLK 9nb80mtIdVGehdJsqonPL+lxIjCmCkihVAiAIWXtpExAyNfXGTr5rGkvslIowlNE/gFO2SRETZf BQFq2dSrX4x8TrqN2LJeR1ECJMKl5jSZhBbnpTq/Viy2QkxvuHplLJSV2br6EOFyDSk5dirhKQd yfrPFOeWxCegel5DSiKeWRYCRWtT80BKhsULDcb41zkAV0rAACI/qYSEdYqQEDM6Lo9VmeNTlOP OfOohPTv7 X-Google-Smtp-Source: AGHT+IFWSo6e8tyhaMGNmaqIaMofhQaOdxDjgdhyYWNZjdpW0oRAJIkojKuHfkOQg++rwF6X4EAbh4Jutjgc X-Received: by 2002:a05:620a:4614:b0:8b2:745c:f751 with SMTP id af79cd13be357-8b2c31c1f10mr837415085a.48.1763209877395; Sat, 15 Nov 2025 04:31:17 -0800 (PST) Received: from postal.iol.unh.edu (postal.iol.unh.edu. [2606:4100:3880:1234::84]) by smtp-relay.gmail.com with ESMTPS id af79cd13be357-8b2aef0ce51sm74336785a.5.2025.11.15.04.31.17 (version=TLS1_2 cipher=ECDHE-ECDSA-AES128-GCM-SHA256 bits=128/128); Sat, 15 Nov 2025 04:31:17 -0800 (PST) X-Relaying-Domain: iol.unh.edu Date: Sat, 15 Nov 2025 04:31:17 -0800 (PST) Message-ID: <69187295.050a0220.3b1750.3f22SMTPIN_ADDED_MISSING@mx.google.com> Received: from [172.21.0.3] (unknown [172.18.0.240]) by postal.iol.unh.edu (Postfix) with ESMTP id F18446051830; Sat, 15 Nov 2025 07:31:16 -0500 (EST) Subject: |SUCCESS| pw158821 [PATCH] net/mlx5: fix higher flow tag indexes sup From: dpdklab@iol.unh.edu To: Test Report Cc: dpdk-test-reports@iol.unh.edu In-Reply-To: <20251114201720.1639238-1-dsosnowski@nvidia.com> References: <20251114201720.1639238-1-dsosnowski@nvidia.com> Content-Type: text/plain X-BeenThere: test-report@dpdk.org X-Mailman-Version: 2.1.29 Precedence: list List-Id: automatic DPDK test reports List-Unsubscribe: , List-Archive: List-Post: List-Help: List-Subscribe: , Errors-To: test-report-bounces@dpdk.org Test-Label: iol-unit-amd64-testing Test-Status: SUCCESS http://dpdk.org/patch/158821 _Testing PASS_ Submitter: Dariusz Sosnowski Date: Friday, November 14 2025 20:17:20 DPDK git baseline: Repo:dpdk-next-net-mlx Branch: master CommitID:ae657d56b1f0ea979b3f611edf28d773efc2ddcf 158821 --> testing pass Upstream job id: Generic-VM-Unit-Test-DPDK#32600 Test environment and result as below: +-------------------------------+----------------+ | Environment | dpdk_unit_test | +===============================+================+ | Fedora Linux 40 | PASS | +-------------------------------+----------------+ | Debian GNU/Linux 12 | PASS | +-------------------------------+----------------+ | Fedora Linux 41 | PASS | +-------------------------------+----------------+ | Fedora Linux 42 | PASS | +-------------------------------+----------------+ | CentOS Stream 9 | PASS | +-------------------------------+----------------+ | Red Hat Enterprise Linux 9.5 | PASS | +-------------------------------+----------------+ | CentOS Stream 10 | PASS | +-------------------------------+----------------+ | Ubuntu 20.04 | PASS | +-------------------------------+----------------+ | Ubuntu 24.04 | PASS | +-------------------------------+----------------+ | Red Hat Enterprise Linux 8.10 | PASS | +-------------------------------+----------------+ | Ubuntu 22.04 | PASS | +-------------------------------+----------------+ | Windows Server 2022 | PASS | +-------------------------------+----------------+ Fedora Linux 40 Kernel: 5.15 Compiler: gcc gcc (GCC) 14.2.1 20240912 (Red Hat 14.2.1-3) Debian GNU/Linux 12 Kernel: 5.15 Compiler: gcc gcc (Debian 12.2.0-14+deb12u1) 12.2.0 Fedora Linux 41 Kernel: 5.15 Compiler: gcc gcc (GCC) 14.3.1 20250523 (Red Hat 14.3.1-1) Fedora Linux 42 Kernel: 5.15 Compiler: clang gcc (GCC) 15.2.1 20250808 (Red Hat 15.2.1-1) CentOS Stream 9 Kernel: 5.15 Compiler: gcc gcc (GCC) 11.5.0 20240719 (Red Hat 11.5.0-11) Red Hat Enterprise Linux 9.5 Kernel: 5.15 Compiler: gcc gcc (GCC) 11.5.0 20240719 (Red Hat 11.5.0-2) CentOS Stream 10 Kernel: 5.15 Compiler: gcc gcc (GCC) 14.2.1 20250110 (Red Hat 14.2.1-8) Ubuntu 20.04 Kernel: 5.15 Compiler: gcc gcc (Ubuntu 9.4.0-1ubuntu1~20.04.2) 9.4.0 Ubuntu 24.04 Kernel: 5.15 Compiler: gcc gcc (Ubuntu 13.3.0-6ubuntu2~24.04) 13.3.0 Red Hat Enterprise Linux 8.10 Kernel: 5.15 Compiler: gcc gcc (GCC) 8.5.0 20210514 (Red Hat 8.5.0-22) Ubuntu 22.04 Kernel: 5.15 Compiler: gcc gcc (Ubuntu 11.4.0-1ubuntu1~22.04) 11.4.0 Windows Server 2022 Kernel: 10.0.20348.2031 Compiler: clang 15.0.7, gcc 14.1.0 (MinGW), and MSVC VS 19.39.33521 To view detailed results, visit: https://lab.dpdk.org/results/dashboard/patchsets/34603/ UNH-IOL DPDK Community Lab To manage your email subscriptions, visit: https://lab.dpdk.org/results/dashboard/preferences/subscriptions/