From mboxrd@z Thu Jan 1 00:00:00 1970 Return-Path: Received: from mails.dpdk.org (mails.dpdk.org [217.70.189.124]) by inbox.dpdk.org (Postfix) with ESMTP id ADE7E48B19 for ; Sat, 15 Nov 2025 13:37:42 +0100 (CET) Received: from mails.dpdk.org (localhost [127.0.0.1]) by mails.dpdk.org (Postfix) with ESMTP id 8F0AF402A2; Sat, 15 Nov 2025 13:37:42 +0100 (CET) Received: from mail-qk1-f227.google.com (mail-qk1-f227.google.com [209.85.222.227]) by mails.dpdk.org (Postfix) with ESMTP id D4516402A2 for ; Sat, 15 Nov 2025 13:37:40 +0100 (CET) Received: by mail-qk1-f227.google.com with SMTP id af79cd13be357-8b28f983333so294153885a.3 for ; Sat, 15 Nov 2025 04:37:40 -0800 (PST) DKIM-Signature: v=1; a=rsa-sha256; c=relaxed/relaxed; d=iol.unh.edu; s=unh-iol; t=1763210260; x=1763815060; darn=dpdk.org; h=references:in-reply-to:cc:to:from:subject:message-id:date:from:to :cc:subject:date:message-id:reply-to; bh=Y5w1NC+RxUWvQnXXyoIJaZCHmfrt2RpsUeIEYyvU810=; b=WTqadNJ1L1PK0lsUEXt4ITLRGIv2T52MmhIANRpFJdIVfkiVcSO+uvMdwIIEzU9U2/ PCn6MtVuh1FKp31kf95b+93uXHxy8U8v+qV6o9D9fea9VMqEi92R5qSZuAkYYCflt9NG nPDG7CDOvfBYu5TANUESthNI9WSdWyi0EpiOc= X-Google-DKIM-Signature: v=1; a=rsa-sha256; c=relaxed/relaxed; d=1e100.net; s=20230601; t=1763210260; x=1763815060; h=references:in-reply-to:cc:to:from:subject:message-id:date:x-gm-gg :x-gm-message-state:from:to:cc:subject:date:message-id:reply-to; bh=Y5w1NC+RxUWvQnXXyoIJaZCHmfrt2RpsUeIEYyvU810=; b=pwQ4KzzaYXMpYGwUzKVrnuPLtgjAKBkW7lRGjH3oYoHw7upPy27fSHs5tg/E3TrOPd 9ngdslVnvA0itc9KeozlPvqeMZOS+A0PNjyOxiZC6DvRVm/n2mjEhcOoFO3/yW8SiwR3 ReG86fSLbS2u5XKpCEaO/6m6Z/lRBIXWf08xlI2raoxd8JZXSbv6OLe4yCl8IT7XfB/Z VMWg0BlGz0KhrIaGi+rZkvEr7qT6ZA+J0M6WotVS/IPmsS340TF1WPf23RcnksYy0Z1f JhmwygX4c3yZrzZ0NOpqd0NpmZddFjChZqWXHDDk2wIaRi5y4uzEHr/scOGg+0HeqQpO YWyg== X-Gm-Message-State: AOJu0YypjxGYmXyGMf3PWnvluDUFDRJHazx659Ga738hutzWyatpDEhi kTRjDlSFKIksdkEaZVWtqRsAZdAMvv7GF25/peh+T5rzR8VSgtl80rFSYR9i4ShS7jnfPUXuRT/ X8hfaeIfqZ/Ah2jwYPnsOSIo0mIAuPGrBYhJKP/dT9oIk X-Gm-Gg: ASbGncvcI7+2NkeRdMGZbxjyBhjZ3Ca1NMhbfDf1EO2nWIjgvDC+BqKd7Bthq6A/Qye vd5eCnMCIa6vu7sav2d6T8g7X4vo9KaF6EIUaqvqOZc42EBmwwU4BrVCllbOLjlzFSmFC3xGNx7 MK58VkLofGE7RWBNW0peH/o8cUy2/2hli0yrNq2s+iLswzYV8xzseu33tiC1nkgn+8khWopH2bS jQRr/HHD3VAdPxuTEegX7KRL8DntRqY4g4zMFMQeLlg4FQeSyR2kTb9jO3LRLX22uYC80PKiKlk +ehJyCdFeKNKlkyeb5M4OYK493rga2+Ud7aLn8qR8RzlHeP/Q3jNCc5s5hHUQE9v74OliNiJ7ic 86dvg27fXmJeRnr5QmQ8zfmyRskJ+4rg= X-Google-Smtp-Source: AGHT+IFiw+gPlNaPzob/je9z09yGPF71UeOTFDO9tiInWtS81SXZN9weO6tPyk/ARg759HGs5CtnApU4t7KV X-Received: by 2002:a05:6214:19c3:b0:785:aa57:b5bb with SMTP id 6a1803df08f44-88292680ec5mr79264236d6.43.1763210260000; Sat, 15 Nov 2025 04:37:40 -0800 (PST) Received: from postal.iol.unh.edu (postal.iol.unh.edu. [132.177.123.84]) by smtp-relay.gmail.com with ESMTPS id 6a1803df08f44-8828657c69fsm8909986d6.27.2025.11.15.04.37.39 (version=TLS1_2 cipher=ECDHE-ECDSA-AES128-GCM-SHA256 bits=128/128); Sat, 15 Nov 2025 04:37:39 -0800 (PST) X-Relaying-Domain: iol.unh.edu Date: Sat, 15 Nov 2025 04:37:39 -0800 (PST) Message-ID: <69187413.050a0220.37eec2.ba87SMTPIN_ADDED_MISSING@mx.google.com> Received: from [172.21.0.3] (unknown [172.18.0.240]) by postal.iol.unh.edu (Postfix) with ESMTP id 9F9A76051830; Sat, 15 Nov 2025 07:37:39 -0500 (EST) Subject: |SUCCESS| pw158783 [PATCH] [v2] ethdev: add GENEVE encapsulation and From: dpdklab@iol.unh.edu To: Test Report Cc: dpdk-test-reports@iol.unh.edu, Stephen Hemminger In-Reply-To: <20251114061917.20948-1-sunyang.wu@jaguarmicro.com> References: <20251114061917.20948-1-sunyang.wu@jaguarmicro.com> Content-Type: text/plain X-BeenThere: test-report@dpdk.org X-Mailman-Version: 2.1.29 Precedence: list List-Id: automatic DPDK test reports List-Unsubscribe: , List-Archive: List-Post: List-Help: List-Subscribe: , Errors-To: test-report-bounces@dpdk.org Test-Label: iol-compile-amd64-testing Test-Status: SUCCESS http://dpdk.org/patch/158783 _Testing PASS_ Submitter: Sunyang Wu Date: Friday, November 14 2025 06:19:17 DPDK git baseline: Repo:dpdk-next-net Branch: master CommitID:fca6f2910345c25a5050a0b586e0d324ca616cbb 158783 --> testing pass Upstream job id: Windows-Compile-DPDK-Native#32402 Test environment and result as below: +-------------------------------+--------------------+------------------+-------------------+-------------------------+----------------------+ | Environment | dpdk_meson_compile | dpdk_compile_ovs | dpdk_msvc_compile | dpdk_llvm_clang_compile | dpdk_mingw64_compile | +===============================+====================+==================+===================+=========================+======================+ | Ubuntu 20.04 | PASS | SKIPPED | SKIPPED | SKIPPED | SKIPPED | +-------------------------------+--------------------+------------------+-------------------+-------------------------+----------------------+ | FreeBSD 14.2 | PASS | SKIPPED | SKIPPED | SKIPPED | SKIPPED | +-------------------------------+--------------------+------------------+-------------------+-------------------------+----------------------+ | Ubuntu 22.04 | PASS | SKIPPED | SKIPPED | SKIPPED | SKIPPED | +-------------------------------+--------------------+------------------+-------------------+-------------------------+----------------------+ | CentOS Stream 9 | PASS | SKIPPED | SKIPPED | SKIPPED | SKIPPED | +-------------------------------+--------------------+------------------+-------------------+-------------------------+----------------------+ | CentOS Stream 10 | PASS | SKIPPED | SKIPPED | SKIPPED | SKIPPED | +-------------------------------+--------------------+------------------+-------------------+-------------------------+----------------------+ | Fedora Linux 42 | PASS | PASS | SKIPPED | SKIPPED | SKIPPED | +-------------------------------+--------------------+------------------+-------------------+-------------------------+----------------------+ | Debian GNU/Linux 12 | PASS | SKIPPED | SKIPPED | SKIPPED | SKIPPED | +-------------------------------+--------------------+------------------+-------------------+-------------------------+----------------------+ | Red Hat Enterprise Linux 8.10 | PASS | SKIPPED | SKIPPED | SKIPPED | SKIPPED | +-------------------------------+--------------------+------------------+-------------------+-------------------------+----------------------+ | openSUSE Leap 15.6 | PASS | SKIPPED | SKIPPED | SKIPPED | SKIPPED | +-------------------------------+--------------------+------------------+-------------------+-------------------------+----------------------+ | Red Hat Enterprise Linux 9.5 | PASS | SKIPPED | SKIPPED | SKIPPED | SKIPPED | +-------------------------------+--------------------+------------------+-------------------+-------------------------+----------------------+ | Ubuntu 24.04 | PASS | PASS | SKIPPED | SKIPPED | SKIPPED | +-------------------------------+--------------------+------------------+-------------------+-------------------------+----------------------+ | Alpine Linux 3.22.0 | PASS | SKIPPED | SKIPPED | SKIPPED | SKIPPED | +-------------------------------+--------------------+------------------+-------------------+-------------------------+----------------------+ | Windows Server 2022 | SKIPPED | SKIPPED | PASS | PASS | PASS | +-------------------------------+--------------------+------------------+-------------------+-------------------------+----------------------+ Ubuntu 20.04 Kernel: 4.19 Compiler: gcc gcc (Ubuntu 9.4.0-1ubuntu1~20.04.2) 9.4.0 FreeBSD 14.2 Kernel: 14.2-RELEASE Compiler: clang 18.1.6 Ubuntu 22.04 Kernel: 5.15 Compiler: gcc gcc (Ubuntu 11.4.0-1ubuntu1~22.04) 11.4.0 CentOS Stream 9 Kernel: 5.15 Compiler: gcc gcc (GCC) 11.5.0 20240719 (Red Hat 11.5.0-11) CentOS Stream 10 Kernel: 5.15 Compiler: gcc gcc (GCC) 14.2.1 20250110 (Red Hat 14.2.1-8) Fedora Linux 42 Kernel: 5.15 Compiler: clang gcc (GCC) 15.2.1 20250808 (Red Hat 15.2.1-1) Debian GNU/Linux 12 Kernel: 5.15 Compiler: gcc gcc (Debian 12.2.0-14+deb12u1) 12.2.0 Red Hat Enterprise Linux 8.10 Kernel: 5.15 Compiler: gcc gcc (GCC) 8.5.0 20210514 (Red Hat 8.5.0-22) openSUSE Leap 15.6 Kernel: 5.15 Compiler: gcc gcc (SUSE Linux) 7.5.0 Red Hat Enterprise Linux 9.5 Kernel: 5.15 Compiler: gcc gcc (GCC) 11.5.0 20240719 (Red Hat 11.5.0-2) Ubuntu 24.04 Kernel: 5.15 Compiler: gcc gcc (Ubuntu 13.3.0-6ubuntu2~24.04) 13.3.0 Alpine Linux 3.22.0 Kernel: 5.15 Compiler: gcc gcc (Alpine 14.2.0) 14.2.0 Windows Server 2022 Kernel: 10.0.20348.2031 Compiler: clang 15.0.7, gcc 14.1.0 (MinGW), and MSVC VS 19.39.33521 To view detailed results, visit: https://lab.dpdk.org/results/dashboard/patchsets/34587/ UNH-IOL DPDK Community Lab To manage your email subscriptions, visit: https://lab.dpdk.org/results/dashboard/preferences/subscriptions/