From mboxrd@z Thu Jan 1 00:00:00 1970 Return-Path: Received: from mails.dpdk.org (mails.dpdk.org [217.70.189.124]) by inbox.dpdk.org (Postfix) with ESMTP id 1C6E648B19 for ; Sat, 15 Nov 2025 13:43:02 +0100 (CET) Received: from mails.dpdk.org (localhost [127.0.0.1]) by mails.dpdk.org (Postfix) with ESMTP id 19208402A2; Sat, 15 Nov 2025 13:43:02 +0100 (CET) Received: from mail-pl1-f227.google.com (mail-pl1-f227.google.com [209.85.214.227]) by mails.dpdk.org (Postfix) with ESMTP id 49304402A2 for ; Sat, 15 Nov 2025 13:43:00 +0100 (CET) Received: by mail-pl1-f227.google.com with SMTP id d9443c01a7336-297e239baecso36019715ad.1 for ; Sat, 15 Nov 2025 04:43:00 -0800 (PST) DKIM-Signature: v=1; a=rsa-sha256; c=relaxed/relaxed; d=iol.unh.edu; s=unh-iol; t=1763210579; x=1763815379; darn=dpdk.org; h=references:in-reply-to:cc:to:from:subject:message-id:date:from:to :cc:subject:date:message-id:reply-to; bh=TD/k7WSBXPlXivsAr2aP/Z8LBOjnFNT/G/ivZHnkhgk=; b=Y+jR+7NmDFBWczV+LBGzScuctIR7S8fBp8UYaxaEaCkoUUVHaBG/QCo9lA0S1rfhnP VcdGhpkwd3rDoIhEnKFbRa4rflh0l5zrpYak4wBjTyozxfztPdaChWe8HeuOOLQFFhB/ /VqdpxSR2CLnWhiKgccNlXEwCfqES1k/JQBdI= X-Google-DKIM-Signature: v=1; a=rsa-sha256; c=relaxed/relaxed; d=1e100.net; s=20230601; t=1763210579; x=1763815379; h=references:in-reply-to:cc:to:from:subject:message-id:date:x-gm-gg :x-gm-message-state:from:to:cc:subject:date:message-id:reply-to; bh=TD/k7WSBXPlXivsAr2aP/Z8LBOjnFNT/G/ivZHnkhgk=; b=gwzTq06q5UQqkNIwd9VrfRxTo/SIBprcUU2lM1QzIMkp/Smiw/dC3s60qOzp7lmxVC vpWUf9L4uhXOf423ncWbJ0qNnmEFdB9s+wgXQiHYCZLS6XWaWjLcwApss6oK1kLQr/ML c3rCoti5HrF3SogklRCpWfjV/bJf/I66U47MOV2iAj2AJx4kOwzM7+ONvikcgSyVetUS VFMjEAntGFlPt5ordEn3ztdookBWMRYW7QAZUA7ZG7JgoMTMaScVrlrF5asJaQHMw42n Vl3bWzyni7/PnLoa8MFQ+enWEF/kVrS5RsmRRkLGj3kmKqSAHmwmw+XcVW9UNsLpKkH9 uNEw== X-Gm-Message-State: AOJu0YywhmL6nVNgzghqqHm+vUJQ5zzHZ7IO6/PodYgOeZL/ape73Mgq AN6qWhM7YemLI+soMJBGkJBVolzFmg3J9Hudy/+awndZ95UVUIiHUND40ZBa3cqoot5SlpSjg4y +K2oHF4JCmt9YssRSrcAlZua2uInhfQFu48VRxCmF/IiI X-Gm-Gg: ASbGncvOjCV6er60dHhh1sZpwEzFjUX9G7xW/TwVekKsu+vFiTa5rx/4qgsqEPJqKS9 /q0gYbaW8fIc9Uf1vo7IwNgMSQlGdCPiDiRq7SZnhjE2hbFf2L0fkFC+FhZ5rrDOQCZduckdtkR 1q8zY5zWjHpm19Cjvzl+8hCd9mBuCaA51f8a0bDhRM7z0pNzqfNQl2l47GcSEXN3+aA+grB2Z9P yIrFX68+GQhpYSfy8X7UY7ueGXxoU+F6hfVrchiGmfS62eqR+CPL7Dkn3yKz+V7L3TFbnHiue16 BBPqpVLL0ot+g1xOWJBZlIFi2xWFaX4WJybRo/Xdpdh607c7xxPzPlT2rrvLGsw2q5TAujEzyUB Vt7Kgx8mRt2QkUN+mPfwMAj3eEK/je/Q= X-Google-Smtp-Source: AGHT+IGcZz8CiyyvCfVJiganwxQrvRjq8joLs6KAt+HMNbR9gfWkKPj2QLzAOHCFCQhZ9zVZAgwtB1Kuu9L6 X-Received: by 2002:a17:902:cec1:b0:296:547a:4bf2 with SMTP id d9443c01a7336-2986801646fmr68694345ad.27.1763210579401; Sat, 15 Nov 2025 04:42:59 -0800 (PST) Received: from postal.iol.unh.edu (postal.iol.unh.edu. [132.177.123.84]) by smtp-relay.gmail.com with ESMTPS id d9443c01a7336-2985c241beasm8673055ad.19.2025.11.15.04.42.59 (version=TLS1_2 cipher=ECDHE-ECDSA-AES128-GCM-SHA256 bits=128/128); Sat, 15 Nov 2025 04:42:59 -0800 (PST) X-Relaying-Domain: iol.unh.edu Date: Sat, 15 Nov 2025 04:42:59 -0800 (PST) Message-ID: <69187553.170a0220.3ca2a9.a99cSMTPIN_ADDED_MISSING@mx.google.com> Received: from [172.21.0.4] (unknown [172.18.0.240]) by postal.iol.unh.edu (Postfix) with ESMTP id A58526051830; Sat, 15 Nov 2025 07:42:58 -0500 (EST) Subject: |SUCCESS| pw158782 [PATCH] examples/ipsec-secgw: add support for SM4 From: dpdklab@iol.unh.edu To: Test Report Cc: dpdk-test-reports@iol.unh.edu In-Reply-To: <20251114014616.43476-1-sunyang.wu@jaguarmicro.com> References: <20251114014616.43476-1-sunyang.wu@jaguarmicro.com> Content-Type: text/plain X-BeenThere: test-report@dpdk.org X-Mailman-Version: 2.1.29 Precedence: list List-Id: automatic DPDK test reports List-Unsubscribe: , List-Archive: List-Post: List-Help: List-Subscribe: , Errors-To: test-report-bounces@dpdk.org Test-Label: iol-compile-amd64-testing Test-Status: SUCCESS http://dpdk.org/patch/158782 _Testing PASS_ Submitter: Sunyang Wu Date: Friday, November 14 2025 01:46:16 DPDK git baseline: Repo:dpdk Branch: master CommitID:be0112878b4fc3a1b918370ed2fe615c52039d77 158782 --> testing pass Upstream job id: Windows-Compile-DPDK-Native#32403 Test environment and result as below: +-------------------------------+--------------------+-------------------+------------------+-------------------------+ | Environment | dpdk_meson_compile | dpdk_msvc_compile | dpdk_compile_ovs | dpdk_llvm_clang_compile | +===============================+====================+===================+==================+=========================+ | Ubuntu 20.04 | PASS | SKIPPED | SKIPPED | SKIPPED | +-------------------------------+--------------------+-------------------+------------------+-------------------------+ | FreeBSD 14.2 | PASS | SKIPPED | SKIPPED | SKIPPED | +-------------------------------+--------------------+-------------------+------------------+-------------------------+ | CentOS Stream 9 | PASS | SKIPPED | SKIPPED | SKIPPED | +-------------------------------+--------------------+-------------------+------------------+-------------------------+ | CentOS Stream 10 | PASS | SKIPPED | SKIPPED | SKIPPED | +-------------------------------+--------------------+-------------------+------------------+-------------------------+ | Debian GNU/Linux 12 | PASS | SKIPPED | SKIPPED | SKIPPED | +-------------------------------+--------------------+-------------------+------------------+-------------------------+ | Fedora Linux 42 | PASS | SKIPPED | PASS | SKIPPED | +-------------------------------+--------------------+-------------------+------------------+-------------------------+ | openSUSE Leap 15.6 | PASS | SKIPPED | SKIPPED | SKIPPED | +-------------------------------+--------------------+-------------------+------------------+-------------------------+ | Red Hat Enterprise Linux 8.10 | PASS | SKIPPED | SKIPPED | SKIPPED | +-------------------------------+--------------------+-------------------+------------------+-------------------------+ | Ubuntu 24.04 | PASS | SKIPPED | PASS | SKIPPED | +-------------------------------+--------------------+-------------------+------------------+-------------------------+ | Red Hat Enterprise Linux 9.5 | PASS | SKIPPED | SKIPPED | SKIPPED | +-------------------------------+--------------------+-------------------+------------------+-------------------------+ | Ubuntu 22.04 | PASS | SKIPPED | SKIPPED | SKIPPED | +-------------------------------+--------------------+-------------------+------------------+-------------------------+ | Alpine Linux 3.22.0 | PASS | SKIPPED | SKIPPED | SKIPPED | +-------------------------------+--------------------+-------------------+------------------+-------------------------+ | Windows Server 2022 | SKIPPED | PASS | SKIPPED | PASS | +-------------------------------+--------------------+-------------------+------------------+-------------------------+ Ubuntu 20.04 Kernel: 4.19 Compiler: gcc gcc (Ubuntu 9.4.0-1ubuntu1~20.04.2) 9.4.0 FreeBSD 14.2 Kernel: 14.2-RELEASE Compiler: clang 18.1.6 CentOS Stream 9 Kernel: 5.15 Compiler: gcc gcc (GCC) 11.5.0 20240719 (Red Hat 11.5.0-11) CentOS Stream 10 Kernel: 5.15 Compiler: gcc gcc (GCC) 14.2.1 20250110 (Red Hat 14.2.1-8) Debian GNU/Linux 12 Kernel: 5.15 Compiler: gcc gcc (Debian 12.2.0-14+deb12u1) 12.2.0 Fedora Linux 42 Kernel: 5.15 Compiler: clang gcc (GCC) 15.2.1 20250808 (Red Hat 15.2.1-1) openSUSE Leap 15.6 Kernel: 5.15 Compiler: gcc gcc (SUSE Linux) 7.5.0 Red Hat Enterprise Linux 8.10 Kernel: 5.15 Compiler: gcc gcc (GCC) 8.5.0 20210514 (Red Hat 8.5.0-22) Ubuntu 24.04 Kernel: 5.15 Compiler: gcc gcc (Ubuntu 13.3.0-6ubuntu2~24.04) 13.3.0 Red Hat Enterprise Linux 9.5 Kernel: 5.15 Compiler: gcc gcc (GCC) 11.5.0 20240719 (Red Hat 11.5.0-2) Ubuntu 22.04 Kernel: 5.15 Compiler: gcc gcc (Ubuntu 11.4.0-1ubuntu1~22.04) 11.4.0 Alpine Linux 3.22.0 Kernel: 5.15 Compiler: gcc gcc (Alpine 14.2.0) 14.2.0 Windows Server 2022 Kernel: 10.0.20348.2031 Compiler: clang 15.0.7, gcc 14.1.0 (MinGW), and MSVC VS 19.39.33521 To view detailed results, visit: https://lab.dpdk.org/results/dashboard/patchsets/34588/ UNH-IOL DPDK Community Lab To manage your email subscriptions, visit: https://lab.dpdk.org/results/dashboard/preferences/subscriptions/