From mboxrd@z Thu Jan 1 00:00:00 1970 Return-Path: Received: from mails.dpdk.org (mails.dpdk.org [217.70.189.124]) by inbox.dpdk.org (Postfix) with ESMTP id 6DB9348B19 for ; Sat, 15 Nov 2025 13:45:00 +0100 (CET) Received: from mails.dpdk.org (localhost [127.0.0.1]) by mails.dpdk.org (Postfix) with ESMTP id 45AF5402A2; Sat, 15 Nov 2025 13:45:00 +0100 (CET) Received: from mail-pl1-f225.google.com (mail-pl1-f225.google.com [209.85.214.225]) by mails.dpdk.org (Postfix) with ESMTP id 4D18E402A2 for ; Sat, 15 Nov 2025 13:44:58 +0100 (CET) Received: by mail-pl1-f225.google.com with SMTP id d9443c01a7336-29808a9a96aso27870585ad.1 for ; Sat, 15 Nov 2025 04:44:58 -0800 (PST) DKIM-Signature: v=1; a=rsa-sha256; c=relaxed/relaxed; d=iol.unh.edu; s=unh-iol; t=1763210697; x=1763815497; darn=dpdk.org; h=references:in-reply-to:cc:to:from:subject:message-id:date:from:to :cc:subject:date:message-id:reply-to; bh=f4wc+K7HxKCanrlDaXjSde1yBJyQkq3rxRa2OYCddrg=; b=ITUNBzHomx4hD96EZf+49wm6KJ+nnPyq/NKmHaF1QTdARWjY7X050rCof/3p4TbpXc 4erojpRKDPOPD98od/9jF4iTpDfy2JfbR2DJ/7pkkjO4WGDpBycnIdj2mkHVUPoDCHkp Sq+2x3FRfpfcC6bU2CLbdXGyxEnF/bvPAZ79k= X-Google-DKIM-Signature: v=1; a=rsa-sha256; c=relaxed/relaxed; d=1e100.net; s=20230601; t=1763210697; x=1763815497; h=references:in-reply-to:cc:to:from:subject:message-id:date:x-gm-gg :x-gm-message-state:from:to:cc:subject:date:message-id:reply-to; bh=f4wc+K7HxKCanrlDaXjSde1yBJyQkq3rxRa2OYCddrg=; b=v69BajV9v5UYWq7sGlHUVLjua18ge5yHecftDPY7F6F+XUwnURHq5e5eu3PeGsGD7E Glz9DmAK5y9ShM6GnZqcdFRlG+PtsjJ4oAc4+qGqZ8DTJ43tv/RVteDjOScxWcOA6wAg QVqKC2BcNhKZYcmV3rcQtu3Qz8TF2PZa0cm73zrMqzVmpNceYE6FQbY/vyk8HsyR/IAh a/1j1S4ww8PQ4Iu9Zfbtv6CmDsybJWxYEQHMKstM7Oo4UjDI0bdqtZWMYcKNnhoc8z1s +9kmnKf+QL9IbxevOEct+XoP80N5BasE2V6FHuh2WGxFjwwd09f9gQ8Vyik1iXisYQJs mfWg== X-Gm-Message-State: AOJu0YxqIiXZVPew5KXwUq1TysLQ2Nnd8ediFAMwxhTyq5bKqtnCHFgi OI4SmjSXQJ8KI4VaMguqsp2VuV3oUpyW6rgy4qPyhgNvub9ErK8zebbVhLx11BYzpgL+iTVBfHA O47DHzrYdtH5bARCB3iEhgz3oWfDXdf1UJee0G6bg8qw8AIHHnRjz6AAn3YCm X-Gm-Gg: ASbGnct4uaA0JK+W0aOQfdQdQUh8DiUxkh6PmaEGpc+c0dTouSFIU/nWtCYex2YCT7B cfZjw5eHgJ3yCjuGXMd8S1aa7UiomhOmLmi8szZ1kN6z6eHdFu1CM7KlqUaWg8gxn7Z3Trx7R8O fIo9tRz1d2UBV5FjDiwUGG4hKFP1z9jPlwij8MQJUAL0k1TN7H/mk5BDZmdkFSxPu2cWaVhM0r1 xvYWCVcu5rGClpjq6xu93BMqqiqxOEHj7xCB2CwNgDhPdZ4CQf4PxXicWXzCLEjgCCtRcmnX3gT YwZ/GHuG2td0w6UieWWZcZJWgauYUJPW99DobzaAPgz0sceUOYcNTwIEDC+dMCod5j/DlCQSTch Oj50CwCmd X-Google-Smtp-Source: AGHT+IG1C2Piq8dlHpDqPj7rJI4MirdtgQf0Hpf48M3m+wOw7CXnvtn/aRMDBRm4wp+Kp8HxN3F0KPMxfWc7 X-Received: by 2002:a17:903:2b10:b0:295:915d:1eed with SMTP id d9443c01a7336-2986a752d2dmr74057405ad.47.1763210697433; Sat, 15 Nov 2025 04:44:57 -0800 (PST) Received: from postal.iol.unh.edu (postal.iol.unh.edu. [2606:4100:3880:1234::84]) by smtp-relay.gmail.com with ESMTPS id d9443c01a7336-2985c2b88efsm8765715ad.54.2025.11.15.04.44.57 (version=TLS1_2 cipher=ECDHE-ECDSA-AES128-GCM-SHA256 bits=128/128); Sat, 15 Nov 2025 04:44:57 -0800 (PST) X-Relaying-Domain: iol.unh.edu Date: Sat, 15 Nov 2025 04:44:57 -0800 (PST) Message-ID: <691875c9.170a0220.44026.b41eSMTPIN_ADDED_MISSING@mx.google.com> Received: from [172.21.0.3] (unknown [172.18.0.240]) by postal.iol.unh.edu (Postfix) with ESMTP id 908446051830; Sat, 15 Nov 2025 07:44:56 -0500 (EST) Subject: |SUCCESS| pw158782 [PATCH] examples/ipsec-secgw: add support for SM4 From: dpdklab@iol.unh.edu To: Test Report Cc: dpdk-test-reports@iol.unh.edu In-Reply-To: <20251114014616.43476-1-sunyang.wu@jaguarmicro.com> References: <20251114014616.43476-1-sunyang.wu@jaguarmicro.com> Content-Type: text/plain X-BeenThere: test-report@dpdk.org X-Mailman-Version: 2.1.29 Precedence: list List-Id: automatic DPDK test reports List-Unsubscribe: , List-Archive: List-Post: List-Help: List-Subscribe: , Errors-To: test-report-bounces@dpdk.org Test-Label: iol-compile-amd64-testing Test-Status: SUCCESS http://dpdk.org/patch/158782 _Testing PASS_ Submitter: Sunyang Wu Date: Friday, November 14 2025 01:46:16 DPDK git baseline: Repo:dpdk Branch: master CommitID:be0112878b4fc3a1b918370ed2fe615c52039d77 158782 --> testing pass Upstream job id: Windows-Compile-DPDK-Native#32404 Test environment and result as below: +-------------------------------+--------------------+-------------------+------------------+-------------------------+----------------------+ | Environment | dpdk_meson_compile | dpdk_msvc_compile | dpdk_compile_ovs | dpdk_llvm_clang_compile | dpdk_mingw64_compile | +===============================+====================+===================+==================+=========================+======================+ | Ubuntu 20.04 | PASS | SKIPPED | SKIPPED | SKIPPED | SKIPPED | +-------------------------------+--------------------+-------------------+------------------+-------------------------+----------------------+ | FreeBSD 14.2 | PASS | SKIPPED | SKIPPED | SKIPPED | SKIPPED | +-------------------------------+--------------------+-------------------+------------------+-------------------------+----------------------+ | CentOS Stream 9 | PASS | SKIPPED | SKIPPED | SKIPPED | SKIPPED | +-------------------------------+--------------------+-------------------+------------------+-------------------------+----------------------+ | CentOS Stream 10 | PASS | SKIPPED | SKIPPED | SKIPPED | SKIPPED | +-------------------------------+--------------------+-------------------+------------------+-------------------------+----------------------+ | Debian GNU/Linux 12 | PASS | SKIPPED | SKIPPED | SKIPPED | SKIPPED | +-------------------------------+--------------------+-------------------+------------------+-------------------------+----------------------+ | Fedora Linux 42 | PASS | SKIPPED | PASS | SKIPPED | SKIPPED | +-------------------------------+--------------------+-------------------+------------------+-------------------------+----------------------+ | openSUSE Leap 15.6 | PASS | SKIPPED | SKIPPED | SKIPPED | SKIPPED | +-------------------------------+--------------------+-------------------+------------------+-------------------------+----------------------+ | Red Hat Enterprise Linux 8.10 | PASS | SKIPPED | SKIPPED | SKIPPED | SKIPPED | +-------------------------------+--------------------+-------------------+------------------+-------------------------+----------------------+ | Ubuntu 24.04 | PASS | SKIPPED | PASS | SKIPPED | SKIPPED | +-------------------------------+--------------------+-------------------+------------------+-------------------------+----------------------+ | Red Hat Enterprise Linux 9.5 | PASS | SKIPPED | SKIPPED | SKIPPED | SKIPPED | +-------------------------------+--------------------+-------------------+------------------+-------------------------+----------------------+ | Ubuntu 22.04 | PASS | SKIPPED | SKIPPED | SKIPPED | SKIPPED | +-------------------------------+--------------------+-------------------+------------------+-------------------------+----------------------+ | Alpine Linux 3.22.0 | PASS | SKIPPED | SKIPPED | SKIPPED | SKIPPED | +-------------------------------+--------------------+-------------------+------------------+-------------------------+----------------------+ | Windows Server 2022 | SKIPPED | PASS | SKIPPED | PASS | PASS | +-------------------------------+--------------------+-------------------+------------------+-------------------------+----------------------+ Ubuntu 20.04 Kernel: 4.19 Compiler: gcc gcc (Ubuntu 9.4.0-1ubuntu1~20.04.2) 9.4.0 FreeBSD 14.2 Kernel: 14.2-RELEASE Compiler: clang 18.1.6 CentOS Stream 9 Kernel: 5.15 Compiler: gcc gcc (GCC) 11.5.0 20240719 (Red Hat 11.5.0-11) CentOS Stream 10 Kernel: 5.15 Compiler: gcc gcc (GCC) 14.2.1 20250110 (Red Hat 14.2.1-8) Debian GNU/Linux 12 Kernel: 5.15 Compiler: gcc gcc (Debian 12.2.0-14+deb12u1) 12.2.0 Fedora Linux 42 Kernel: 5.15 Compiler: clang gcc (GCC) 15.2.1 20250808 (Red Hat 15.2.1-1) openSUSE Leap 15.6 Kernel: 5.15 Compiler: gcc gcc (SUSE Linux) 7.5.0 Red Hat Enterprise Linux 8.10 Kernel: 5.15 Compiler: gcc gcc (GCC) 8.5.0 20210514 (Red Hat 8.5.0-22) Ubuntu 24.04 Kernel: 5.15 Compiler: gcc gcc (Ubuntu 13.3.0-6ubuntu2~24.04) 13.3.0 Red Hat Enterprise Linux 9.5 Kernel: 5.15 Compiler: gcc gcc (GCC) 11.5.0 20240719 (Red Hat 11.5.0-2) Ubuntu 22.04 Kernel: 5.15 Compiler: gcc gcc (Ubuntu 11.4.0-1ubuntu1~22.04) 11.4.0 Alpine Linux 3.22.0 Kernel: 5.15 Compiler: gcc gcc (Alpine 14.2.0) 14.2.0 Windows Server 2022 Kernel: 10.0.20348.2031 Compiler: clang 15.0.7, gcc 14.1.0 (MinGW), and MSVC VS 19.39.33521 To view detailed results, visit: https://lab.dpdk.org/results/dashboard/patchsets/34588/ UNH-IOL DPDK Community Lab To manage your email subscriptions, visit: https://lab.dpdk.org/results/dashboard/preferences/subscriptions/