From mboxrd@z Thu Jan 1 00:00:00 1970 Return-Path: Received: from mails.dpdk.org (mails.dpdk.org [217.70.189.124]) by inbox.dpdk.org (Postfix) with ESMTP id D14E548B19 for ; Sat, 15 Nov 2025 13:49:59 +0100 (CET) Received: from mails.dpdk.org (localhost [127.0.0.1]) by mails.dpdk.org (Postfix) with ESMTP id CC6DC402A2; Sat, 15 Nov 2025 13:49:59 +0100 (CET) Received: from mail-qv1-f98.google.com (mail-qv1-f98.google.com [209.85.219.98]) by mails.dpdk.org (Postfix) with ESMTP id BDE72402A2 for ; Sat, 15 Nov 2025 13:49:58 +0100 (CET) Received: by mail-qv1-f98.google.com with SMTP id 6a1803df08f44-88244d1559eso35032126d6.0 for ; Sat, 15 Nov 2025 04:49:58 -0800 (PST) DKIM-Signature: v=1; a=rsa-sha256; c=relaxed/relaxed; d=iol.unh.edu; s=unh-iol; t=1763210998; x=1763815798; darn=dpdk.org; h=references:in-reply-to:cc:to:from:subject:message-id:date:from:to :cc:subject:date:message-id:reply-to; bh=dbNXF5EIs7c1RoieZJXStLmvXEOmySLuwd+VP8oR7s0=; b=b9JBs3GQZTTdrrvXgUFEbkuX+tYTksvTicIcMDDI3mn0WdLb/jHzd+KcFRDwCpzCNE i1hml/5B7tPeh7QtpDHWpqLGr3k+oz4FkSJjepYE5nBYxBXuxcuj5SrC+tPiwxwIfbCZ W4E4QHvELSIp3kmD8AG5+k4NI9lde/e6ywZQQ= X-Google-DKIM-Signature: v=1; a=rsa-sha256; c=relaxed/relaxed; d=1e100.net; s=20230601; t=1763210998; x=1763815798; h=references:in-reply-to:cc:to:from:subject:message-id:date:x-gm-gg :x-gm-message-state:from:to:cc:subject:date:message-id:reply-to; bh=dbNXF5EIs7c1RoieZJXStLmvXEOmySLuwd+VP8oR7s0=; b=AR1A5b61ggwKDy3L1xUxiU1APuDJN/4DIEcYm+odMUJf1i0OgqV7lO6u7xMe9OSc7u PT60pcin7TxjOVDqR/2DWm2/aGprQiRkh+naJQDMlmXihQxAYolZnOsNOxAstRmD96gM Zvt3JRh0n1wUoidKT02no/ZAGtG50PcosRIJvvxlyRSpSOZyqI9QU49WC9rSGFcUreDM cMnOiG0HWg1i2zrQv+EJHB/CjVOR4JZsl0AwXMEiSOXXsWUqTtlZPa7/6EHP5Oe2wkX4 K6dWa12NItYLn/+ZnkYe7W9WbweIVl/vX8IMyxLTW/BUEd5ByLf1kQRtrH72Tzdv1qus 4l5w== X-Gm-Message-State: AOJu0YyYi7/JtoVcNvyOyZf/dlD11g+Rpe3o2GrVVdPaPRVT3SDPhOzP ilSl4QrnwzCh+JhyM5jdKb5j4a0nzhEfHJhn8tygG/ImEX27ftrIyUWM7N30F3Q7EPW5HcwxYy8 7i/o8xlf5fcP67/hqgqXq+60xwpe77m0IsLQ/6xR3Z1dDSD2ErtcKuNq3fQNB X-Gm-Gg: ASbGncskgJThqg1gHCvptx61k1XUrfa0KRVFhTWetkizpzS8SYIRMdLljD7E4Qu7TKA 96Do13Tr0JJMJSADT2DT3yMa8QBp1VdtkuVsZQYy1byc+hmn+PYJ5ExF5MwnRH6i+hskH9W2U78 Tg1zGJeqG4mJBr2t2fX63HPQdPgPg1hwkblJm6d7mx/7RiHqL1E7LRdT1Ky1lCRr0pEiWJ2oPRo P9amSPAbvQ1PrpBv7PxdoYqLRkHT+GRlkpID0JUlk+tunelr7qEv3PkVCWBhXcjeuNVrEC15k/a PgBsazPQ91MHpDqxBSuXTmH+ArEwPz7OuX76/PzYaIW4ZFACRGoKLuubmMiy9Mw6oZKYPjMy8DU enGWqkNN1 X-Google-Smtp-Source: AGHT+IGWXRaORG7FOnW4nF+cXdA0mauBIgGue9EopCEy2iUOTZZN9fK4IQkJBLSkyJLOTr2zM3B0BvBCcEnq X-Received: by 2002:a05:6214:f07:b0:882:3654:5768 with SMTP id 6a1803df08f44-88281820252mr155928206d6.15.1763210998110; Sat, 15 Nov 2025 04:49:58 -0800 (PST) Received: from postal.iol.unh.edu (postal.iol.unh.edu. [2606:4100:3880:1234::84]) by smtp-relay.gmail.com with ESMTPS id 6a1803df08f44-88286342d97sm9172746d6.13.2025.11.15.04.49.58 (version=TLS1_2 cipher=ECDHE-ECDSA-AES128-GCM-SHA256 bits=128/128); Sat, 15 Nov 2025 04:49:58 -0800 (PST) X-Relaying-Domain: iol.unh.edu Date: Sat, 15 Nov 2025 04:49:58 -0800 (PST) Message-ID: <691876f6.d40a0220.1fd167.c980SMTPIN_ADDED_MISSING@mx.google.com> Received: from [172.21.0.2] (unknown [172.18.0.240]) by postal.iol.unh.edu (Postfix) with ESMTP id D16B66051830; Sat, 15 Nov 2025 07:49:57 -0500 (EST) Subject: |SUCCESS| pw158784-158787 [PATCH] [v5,4/4] bus/fslmc: add support fo From: dpdklab@iol.unh.edu To: Test Report Cc: dpdk-test-reports@iol.unh.edu, Stephen Hemminger In-Reply-To: <20251114062454.2731559-4-hemant.agrawal@nxp.com> References: <20251114062454.2731559-4-hemant.agrawal@nxp.com> Content-Type: text/plain X-BeenThere: test-report@dpdk.org X-Mailman-Version: 2.1.29 Precedence: list List-Id: automatic DPDK test reports List-Unsubscribe: , List-Archive: List-Post: List-Help: List-Subscribe: , Errors-To: test-report-bounces@dpdk.org Test-Label: iol-compile-amd64-testing Test-Status: SUCCESS http://dpdk.org/patch/158787 _Testing PASS_ Submitter: Hemant Agrawal Date: Friday, November 14 2025 06:24:54 DPDK git baseline: Repo:dpdk-next-net Branch: master CommitID:fca6f2910345c25a5050a0b586e0d324ca616cbb 158784-158787 --> testing pass Upstream job id: Windows-Compile-DPDK-Native#32405 Test environment and result as below: +-------------------------------+--------------------+-------------------+------------------+-------------------------+ | Environment | dpdk_meson_compile | dpdk_msvc_compile | dpdk_compile_ovs | dpdk_llvm_clang_compile | +===============================+====================+===================+==================+=========================+ | Ubuntu 20.04 | PASS | SKIPPED | SKIPPED | SKIPPED | +-------------------------------+--------------------+-------------------+------------------+-------------------------+ | FreeBSD 14.2 | PASS | SKIPPED | SKIPPED | SKIPPED | +-------------------------------+--------------------+-------------------+------------------+-------------------------+ | CentOS Stream 9 | PASS | SKIPPED | SKIPPED | SKIPPED | +-------------------------------+--------------------+-------------------+------------------+-------------------------+ | CentOS Stream 10 | PASS | SKIPPED | SKIPPED | SKIPPED | +-------------------------------+--------------------+-------------------+------------------+-------------------------+ | Debian GNU/Linux 12 | PASS | SKIPPED | SKIPPED | SKIPPED | +-------------------------------+--------------------+-------------------+------------------+-------------------------+ | Fedora Linux 42 | PASS | SKIPPED | PASS | SKIPPED | +-------------------------------+--------------------+-------------------+------------------+-------------------------+ | openSUSE Leap 15.6 | PASS | SKIPPED | SKIPPED | SKIPPED | +-------------------------------+--------------------+-------------------+------------------+-------------------------+ | Red Hat Enterprise Linux 8.10 | PASS | SKIPPED | SKIPPED | SKIPPED | +-------------------------------+--------------------+-------------------+------------------+-------------------------+ | Red Hat Enterprise Linux 9.5 | PASS | SKIPPED | SKIPPED | SKIPPED | +-------------------------------+--------------------+-------------------+------------------+-------------------------+ | Ubuntu 22.04 | PASS | SKIPPED | SKIPPED | SKIPPED | +-------------------------------+--------------------+-------------------+------------------+-------------------------+ | Ubuntu 24.04 | PASS | SKIPPED | PASS | SKIPPED | +-------------------------------+--------------------+-------------------+------------------+-------------------------+ | Alpine Linux 3.22.0 | PASS | SKIPPED | SKIPPED | SKIPPED | +-------------------------------+--------------------+-------------------+------------------+-------------------------+ | Windows Server 2022 | SKIPPED | PASS | SKIPPED | PASS | +-------------------------------+--------------------+-------------------+------------------+-------------------------+ Ubuntu 20.04 Kernel: 4.19 Compiler: gcc gcc (Ubuntu 9.4.0-1ubuntu1~20.04.2) 9.4.0 FreeBSD 14.2 Kernel: 14.2-RELEASE Compiler: clang 18.1.6 CentOS Stream 9 Kernel: 5.15 Compiler: gcc gcc (GCC) 11.5.0 20240719 (Red Hat 11.5.0-11) CentOS Stream 10 Kernel: 5.15 Compiler: gcc gcc (GCC) 14.2.1 20250110 (Red Hat 14.2.1-8) Debian GNU/Linux 12 Kernel: 5.15 Compiler: gcc gcc (Debian 12.2.0-14+deb12u1) 12.2.0 Fedora Linux 42 Kernel: 5.15 Compiler: clang gcc (GCC) 15.2.1 20250808 (Red Hat 15.2.1-1) openSUSE Leap 15.6 Kernel: 5.15 Compiler: gcc gcc (SUSE Linux) 7.5.0 Red Hat Enterprise Linux 8.10 Kernel: 5.15 Compiler: gcc gcc (GCC) 8.5.0 20210514 (Red Hat 8.5.0-22) Red Hat Enterprise Linux 9.5 Kernel: 5.15 Compiler: gcc gcc (GCC) 11.5.0 20240719 (Red Hat 11.5.0-2) Ubuntu 22.04 Kernel: 5.15 Compiler: gcc gcc (Ubuntu 11.4.0-1ubuntu1~22.04) 11.4.0 Ubuntu 24.04 Kernel: 5.15 Compiler: gcc gcc (Ubuntu 13.3.0-6ubuntu2~24.04) 13.3.0 Alpine Linux 3.22.0 Kernel: 5.15 Compiler: gcc gcc (Alpine 14.2.0) 14.2.0 Windows Server 2022 Kernel: 10.0.20348.2031 Compiler: clang 15.0.7, gcc 14.1.0 (MinGW), and MSVC VS 19.39.33521 To view detailed results, visit: https://lab.dpdk.org/results/dashboard/patchsets/34589/ UNH-IOL DPDK Community Lab To manage your email subscriptions, visit: https://lab.dpdk.org/results/dashboard/preferences/subscriptions/