From mboxrd@z Thu Jan 1 00:00:00 1970 Return-Path: Received: from mails.dpdk.org (mails.dpdk.org [217.70.189.124]) by inbox.dpdk.org (Postfix) with ESMTP id 1EC3048B19 for ; Sat, 15 Nov 2025 13:52:05 +0100 (CET) Received: from mails.dpdk.org (localhost [127.0.0.1]) by mails.dpdk.org (Postfix) with ESMTP id 09EC4402A2; Sat, 15 Nov 2025 13:52:05 +0100 (CET) Received: from mail-io1-f100.google.com (mail-io1-f100.google.com [209.85.166.100]) by mails.dpdk.org (Postfix) with ESMTP id B9F6F402A2 for ; Sat, 15 Nov 2025 13:52:04 +0100 (CET) Received: by mail-io1-f100.google.com with SMTP id ca18e2360f4ac-948733e7810so110281539f.0 for ; Sat, 15 Nov 2025 04:52:04 -0800 (PST) DKIM-Signature: v=1; a=rsa-sha256; c=relaxed/relaxed; d=iol.unh.edu; s=unh-iol; t=1763211124; x=1763815924; darn=dpdk.org; h=references:in-reply-to:cc:to:from:subject:message-id:date:from:to :cc:subject:date:message-id:reply-to; bh=EiplvPWIid+mSL3Ql4t18+YNkWPNK8ZGb78kKGrijpw=; b=X9LckwtYst5TgT/1oUUNjggoXRMKw9YnMZiFZVNqDNNrHEexEQGlt3kez/tXttlRP7 mlvYeo7QaeXo2AdAWJrfJWgwmnvFkbvs6ClvZL9cRcCZ3S4dNbwtWTkOteJZkTEjalM4 ThNdZBXYGWHVlQCaKSDEmuTC6TWfDBS5+M4xk= X-Google-DKIM-Signature: v=1; a=rsa-sha256; c=relaxed/relaxed; d=1e100.net; s=20230601; t=1763211124; x=1763815924; h=references:in-reply-to:cc:to:from:subject:message-id:date:x-gm-gg :x-gm-message-state:from:to:cc:subject:date:message-id:reply-to; bh=EiplvPWIid+mSL3Ql4t18+YNkWPNK8ZGb78kKGrijpw=; b=eIbKhxCLPfYDyOop/rKOSVukspBnqJUQYHOwkvwAVGaN+oZWGjj5FL4QjZ5aFTheXY OsVI3iLlpLPxXMbJfm0m1+tuT9/gW65PCcN4QzXTllkujiWZQnmCF9G7bXg1j9HHRyE1 smcUAE3CSonw1CCPF1PJTqnV5gkoHN2GDHxaFuX81d4UNd3KDGDhNWcI6im/ycc6/iPP +cx6I08qdoKcJRVkvZiOO07WOWSqV0r18HSk4ENaLHQDbmGOT5s/J3MdhxnNB4LI5mhG XgdU1fBoB02p5E/2VvcDZ5KWKNNirDJcibu1xz1QG0Cd1rXjbpV81Na2crn/786fZmWk UWUg== X-Gm-Message-State: AOJu0YwNFxt3wCw0XmHhzUdmsF+TuksSoEzb5QtZCoCuCg37/pxBlHP1 uOUGJYZs/GcQBSsfkelKz8zhs1SPFBEy98726t7zL5DvvnWH84/GfS4wMd5JU7HCdKak1jmB1Gm e0HBARj+hEoMxv/I6bqeoYrtwcNNH7f5TRlR70vZrOFwN X-Gm-Gg: ASbGncsPIt/0wCyCadaWZ5eY8uAZgUZSGzFs3RVY8wdQ5/acz9xoeyhYwzikLrVN98X 5G00PORpdKLkmUYmBHQqnm8jY2kGDIHieD7rJLzyTTm9fEaTDqhmDL5iD8gtCAGriKiV9rGb5AF 7y6PPsS8Lqh5/L3XOfrOEcu9pJEEjvegMTcOzHWb4AUvfC3Z8qXjMs/FohUuVcuA7dviFlw03xW PSxUVQOb+7hlhpfevwlw8Y+ojUwuXeXpAHoR6mgLCYpBqc3aPviofCYdaJRWYLJMSN16UiwxuHT tWeou31zAJ23v98qWVO00lvoTeP1XidU9Pzey7XkQpr7iynd6q+xi8glOGtMnHCIsykzlgq3DZ/ IlfTGElwZCc+w+Gd4tSZ4ljLlYGRqX5Q= X-Google-Smtp-Source: AGHT+IEehX15d/VjpgMWhzholyyVSGLdBP03BtiHcJt/KzOXPapZ3i7Pv7c1qT15YFfkpG5vKCA5WUWeenvb X-Received: by 2002:a05:6602:6003:b0:948:c594:9a31 with SMTP id ca18e2360f4ac-948e0df456emr874431939f.12.1763211123942; Sat, 15 Nov 2025 04:52:03 -0800 (PST) Received: from postal.iol.unh.edu (postal.iol.unh.edu. [132.177.123.84]) by smtp-relay.gmail.com with ESMTPS id ca18e2360f4ac-948d2b64790sm33035739f.2.2025.11.15.04.52.03 (version=TLS1_2 cipher=ECDHE-ECDSA-AES128-GCM-SHA256 bits=128/128); Sat, 15 Nov 2025 04:52:03 -0800 (PST) X-Relaying-Domain: iol.unh.edu Date: Sat, 15 Nov 2025 04:52:03 -0800 (PST) Message-ID: <69187773.050a0220.1f2c54.041aSMTPIN_ADDED_MISSING@mx.google.com> Received: from [172.21.0.3] (unknown [172.18.0.240]) by postal.iol.unh.edu (Postfix) with ESMTP id 5A6566051830; Sat, 15 Nov 2025 07:52:03 -0500 (EST) Subject: |SUCCESS| pw158784-158787 [PATCH] [v5,4/4] bus/fslmc: add support fo From: dpdklab@iol.unh.edu To: Test Report Cc: dpdk-test-reports@iol.unh.edu, Stephen Hemminger In-Reply-To: <20251114062454.2731559-4-hemant.agrawal@nxp.com> References: <20251114062454.2731559-4-hemant.agrawal@nxp.com> Content-Type: text/plain X-BeenThere: test-report@dpdk.org X-Mailman-Version: 2.1.29 Precedence: list List-Id: automatic DPDK test reports List-Unsubscribe: , List-Archive: List-Post: List-Help: List-Subscribe: , Errors-To: test-report-bounces@dpdk.org Test-Label: iol-compile-amd64-testing Test-Status: SUCCESS http://dpdk.org/patch/158787 _Testing PASS_ Submitter: Hemant Agrawal Date: Friday, November 14 2025 06:24:54 DPDK git baseline: Repo:dpdk-next-net Branch: master CommitID:fca6f2910345c25a5050a0b586e0d324ca616cbb 158784-158787 --> testing pass Upstream job id: Windows-Compile-DPDK-Native#32406 Test environment and result as below: +-------------------------------+--------------------+-------------------+------------------+-------------------------+----------------------+ | Environment | dpdk_meson_compile | dpdk_msvc_compile | dpdk_compile_ovs | dpdk_llvm_clang_compile | dpdk_mingw64_compile | +===============================+====================+===================+==================+=========================+======================+ | Ubuntu 20.04 | PASS | SKIPPED | SKIPPED | SKIPPED | SKIPPED | +-------------------------------+--------------------+-------------------+------------------+-------------------------+----------------------+ | FreeBSD 14.2 | PASS | SKIPPED | SKIPPED | SKIPPED | SKIPPED | +-------------------------------+--------------------+-------------------+------------------+-------------------------+----------------------+ | CentOS Stream 9 | PASS | SKIPPED | SKIPPED | SKIPPED | SKIPPED | +-------------------------------+--------------------+-------------------+------------------+-------------------------+----------------------+ | CentOS Stream 10 | PASS | SKIPPED | SKIPPED | SKIPPED | SKIPPED | +-------------------------------+--------------------+-------------------+------------------+-------------------------+----------------------+ | Debian GNU/Linux 12 | PASS | SKIPPED | SKIPPED | SKIPPED | SKIPPED | +-------------------------------+--------------------+-------------------+------------------+-------------------------+----------------------+ | Fedora Linux 42 | PASS | SKIPPED | PASS | SKIPPED | SKIPPED | +-------------------------------+--------------------+-------------------+------------------+-------------------------+----------------------+ | openSUSE Leap 15.6 | PASS | SKIPPED | SKIPPED | SKIPPED | SKIPPED | +-------------------------------+--------------------+-------------------+------------------+-------------------------+----------------------+ | Red Hat Enterprise Linux 8.10 | PASS | SKIPPED | SKIPPED | SKIPPED | SKIPPED | +-------------------------------+--------------------+-------------------+------------------+-------------------------+----------------------+ | Red Hat Enterprise Linux 9.5 | PASS | SKIPPED | SKIPPED | SKIPPED | SKIPPED | +-------------------------------+--------------------+-------------------+------------------+-------------------------+----------------------+ | Ubuntu 22.04 | PASS | SKIPPED | SKIPPED | SKIPPED | SKIPPED | +-------------------------------+--------------------+-------------------+------------------+-------------------------+----------------------+ | Ubuntu 24.04 | PASS | SKIPPED | PASS | SKIPPED | SKIPPED | +-------------------------------+--------------------+-------------------+------------------+-------------------------+----------------------+ | Alpine Linux 3.22.0 | PASS | SKIPPED | SKIPPED | SKIPPED | SKIPPED | +-------------------------------+--------------------+-------------------+------------------+-------------------------+----------------------+ | Windows Server 2022 | SKIPPED | PASS | SKIPPED | PASS | PASS | +-------------------------------+--------------------+-------------------+------------------+-------------------------+----------------------+ Ubuntu 20.04 Kernel: 4.19 Compiler: gcc gcc (Ubuntu 9.4.0-1ubuntu1~20.04.2) 9.4.0 FreeBSD 14.2 Kernel: 14.2-RELEASE Compiler: clang 18.1.6 CentOS Stream 9 Kernel: 5.15 Compiler: gcc gcc (GCC) 11.5.0 20240719 (Red Hat 11.5.0-11) CentOS Stream 10 Kernel: 5.15 Compiler: gcc gcc (GCC) 14.2.1 20250110 (Red Hat 14.2.1-8) Debian GNU/Linux 12 Kernel: 5.15 Compiler: gcc gcc (Debian 12.2.0-14+deb12u1) 12.2.0 Fedora Linux 42 Kernel: 5.15 Compiler: clang gcc (GCC) 15.2.1 20250808 (Red Hat 15.2.1-1) openSUSE Leap 15.6 Kernel: 5.15 Compiler: gcc gcc (SUSE Linux) 7.5.0 Red Hat Enterprise Linux 8.10 Kernel: 5.15 Compiler: gcc gcc (GCC) 8.5.0 20210514 (Red Hat 8.5.0-22) Red Hat Enterprise Linux 9.5 Kernel: 5.15 Compiler: gcc gcc (GCC) 11.5.0 20240719 (Red Hat 11.5.0-2) Ubuntu 22.04 Kernel: 5.15 Compiler: gcc gcc (Ubuntu 11.4.0-1ubuntu1~22.04) 11.4.0 Ubuntu 24.04 Kernel: 5.15 Compiler: gcc gcc (Ubuntu 13.3.0-6ubuntu2~24.04) 13.3.0 Alpine Linux 3.22.0 Kernel: 5.15 Compiler: gcc gcc (Alpine 14.2.0) 14.2.0 Windows Server 2022 Kernel: 10.0.20348.2031 Compiler: clang 15.0.7, gcc 14.1.0 (MinGW), and MSVC VS 19.39.33521 To view detailed results, visit: https://lab.dpdk.org/results/dashboard/patchsets/34589/ UNH-IOL DPDK Community Lab To manage your email subscriptions, visit: https://lab.dpdk.org/results/dashboard/preferences/subscriptions/