From mboxrd@z Thu Jan 1 00:00:00 1970 Return-Path: Received: from mails.dpdk.org (mails.dpdk.org [217.70.189.124]) by inbox.dpdk.org (Postfix) with ESMTP id 94F0348B19 for ; Sat, 15 Nov 2025 13:57:38 +0100 (CET) Received: from mails.dpdk.org (localhost [127.0.0.1]) by mails.dpdk.org (Postfix) with ESMTP id 8F90A402A2; Sat, 15 Nov 2025 13:57:38 +0100 (CET) Received: from mail-il1-f228.google.com (mail-il1-f228.google.com [209.85.166.228]) by mails.dpdk.org (Postfix) with ESMTP id 742AA402A2 for ; Sat, 15 Nov 2025 13:57:37 +0100 (CET) Received: by mail-il1-f228.google.com with SMTP id e9e14a558f8ab-4330d78f935so23096395ab.2 for ; Sat, 15 Nov 2025 04:57:37 -0800 (PST) DKIM-Signature: v=1; a=rsa-sha256; c=relaxed/relaxed; d=iol.unh.edu; s=unh-iol; t=1763211457; x=1763816257; darn=dpdk.org; h=references:in-reply-to:cc:to:from:subject:message-id:date:from:to :cc:subject:date:message-id:reply-to; bh=DDhcSBAwJcl9yfiq5ziH2OUhq4D2fybChmHZndrep2M=; b=Z5IAhsgfq6xv3qvzvz4eWsO+HPx5xBjoI4e1zsUueX8v+w/1vPSNDTS3JfCt/zNyTH IEDs3pq3nL9zIRtozL/MPua5pXOvc2/+rZQP2YmUiYzDGobdO97/amRQl5Gg5bUkpQkX O9STeKnFUqgurQh1phvu68bNmNg2hl2CC6c60= X-Google-DKIM-Signature: v=1; a=rsa-sha256; c=relaxed/relaxed; d=1e100.net; s=20230601; t=1763211457; x=1763816257; h=references:in-reply-to:cc:to:from:subject:message-id:date:x-gm-gg :x-gm-message-state:from:to:cc:subject:date:message-id:reply-to; bh=DDhcSBAwJcl9yfiq5ziH2OUhq4D2fybChmHZndrep2M=; b=BvuQd+/JY82Sf9cC4Zo5pbKCZ6Q7r3qHICGhOvMF8UepeEBtqw2bdPZQTgkknMDCjk ni75jldqvbAOzDgXaKhVPUllr1hJfW5HqXzF+v6Xthr9lJq5LnHYoLO3wWxcrti53X1S zYHjadoUvFE4NupehGcdRR54G0LsBSYzf3SYUP1ggeJ2dVix0jIqP0PbWHZQrAsV8pF2 00UFkbyHZgXNQtqmBgaoMd0RP/ovKyzmnhfy5gdNi8V9ZQpPLGcYiVvC6T10nf9+ECCp 22svZxn3TpAu9/d/2DRMNyoSQulwngsZMw6IskDs83zCgnqBgVm02Qi+ZvmOUN2uvMXW g6Og== X-Gm-Message-State: AOJu0Ywq/S/QC+7HWbe500Hb0tjVLxTPLXmbgBoyDOAw+Ut7XXi8HyBS +L16FGFhMjfYufoVKEMN1IlWv/r7hp6lVM80Eeoq7U6LOh8eJMK+dYeD2W0qjFFgafG28tedB/z VVilXORJgyvkuyNt/AhJ0OsG2vqUG4v2tVbHG6G0zJjmc X-Gm-Gg: ASbGnctQSW9wsBnNGIDVrHcjA6MsEC2a1zl3Hlg/Z1POMYEtQCV7Zt0VKeLHWt/Bfcm FSeS8y76zUNYO31zbtloD37mHORszXwlwd3hzZ4B/kATswNw0559xF61JW1OopvPv6IM1T6x5uC JSXEemeVgjIK+pmTP8o6c9tGsBOKNY+lb16uKeJUY7wdCYL7Mv3nPxQG4QlUq/E7rKjB4KUvMn9 0S6KnFitdK14zJGLX8zw4/eMO9dj2M3AqL6x0xq7YsmwqS4+lvEgzAZ53JKUYmZr7CRxKdF2Lsr 9ikwEI1967LPGsVl8068Zp6AyBrNcztzA8ShCjdDSo3aBRd38qnHyTU2I8/2MD7rBQqsAvRb2qR wlDUmq2pUTJp/MjcDYNl3yJqa3DwGhFk= X-Google-Smtp-Source: AGHT+IH8zqq5K/tzvf7iRzM5oyErEqS7HhQTXeZm59aBuB63pQyX5oRYY8hK8vETJhw6Jmv1vXqOq+Q5wE+l X-Received: by 2002:a05:6e02:1c29:b0:433:7e03:3ecb with SMTP id e9e14a558f8ab-4348c8b69f4mr87549295ab.8.1763211456717; Sat, 15 Nov 2025 04:57:36 -0800 (PST) Received: from postal.iol.unh.edu (postal.iol.unh.edu. [132.177.123.84]) by smtp-relay.gmail.com with ESMTPS id 8926c6da1cb9f-5b7bd334958sm420752173.29.2025.11.15.04.57.36 (version=TLS1_2 cipher=ECDHE-ECDSA-AES128-GCM-SHA256 bits=128/128); Sat, 15 Nov 2025 04:57:36 -0800 (PST) X-Relaying-Domain: iol.unh.edu Date: Sat, 15 Nov 2025 04:57:36 -0800 (PST) Message-ID: <691878c0.050a0220.1043ee.400dSMTPIN_ADDED_MISSING@mx.google.com> Received: from [172.21.0.2] (unknown [172.18.0.240]) by postal.iol.unh.edu (Postfix) with ESMTP id 3BDB66051830; Sat, 15 Nov 2025 07:57:36 -0500 (EST) Subject: |SUCCESS| pw158788 [PATCH] net: ipv6 link local compliance with rfc From: dpdklab@iol.unh.edu To: Test Report Cc: dpdk-test-reports@iol.unh.edu In-Reply-To: <20251114105751.54802-3-rjarry@redhat.com> References: <20251114105751.54802-3-rjarry@redhat.com> Content-Type: text/plain X-BeenThere: test-report@dpdk.org X-Mailman-Version: 2.1.29 Precedence: list List-Id: automatic DPDK test reports List-Unsubscribe: , List-Archive: List-Post: List-Help: List-Subscribe: , Errors-To: test-report-bounces@dpdk.org Test-Label: iol-compile-amd64-testing Test-Status: SUCCESS http://dpdk.org/patch/158788 _Testing PASS_ Submitter: Robin Jarry Date: Friday, November 14 2025 10:57:53 DPDK git baseline: Repo:dpdk Branch: master CommitID:be0112878b4fc3a1b918370ed2fe615c52039d77 158788 --> testing pass Upstream job id: Windows-Compile-DPDK-Native#32407 Test environment and result as below: +-------------------------------+--------------------+-------------------+------------------+-------------------------+ | Environment | dpdk_meson_compile | dpdk_msvc_compile | dpdk_compile_ovs | dpdk_llvm_clang_compile | +===============================+====================+===================+==================+=========================+ | FreeBSD 14.2 | PASS | SKIPPED | SKIPPED | SKIPPED | +-------------------------------+--------------------+-------------------+------------------+-------------------------+ | Ubuntu 20.04 | PASS | SKIPPED | SKIPPED | SKIPPED | +-------------------------------+--------------------+-------------------+------------------+-------------------------+ | CentOS Stream 9 | PASS | SKIPPED | SKIPPED | SKIPPED | +-------------------------------+--------------------+-------------------+------------------+-------------------------+ | CentOS Stream 10 | PASS | SKIPPED | SKIPPED | SKIPPED | +-------------------------------+--------------------+-------------------+------------------+-------------------------+ | Debian GNU/Linux 12 | PASS | SKIPPED | SKIPPED | SKIPPED | +-------------------------------+--------------------+-------------------+------------------+-------------------------+ | Fedora Linux 42 | PASS | SKIPPED | PASS | SKIPPED | +-------------------------------+--------------------+-------------------+------------------+-------------------------+ | openSUSE Leap 15.6 | PASS | SKIPPED | SKIPPED | SKIPPED | +-------------------------------+--------------------+-------------------+------------------+-------------------------+ | Red Hat Enterprise Linux 8.10 | PASS | SKIPPED | SKIPPED | SKIPPED | +-------------------------------+--------------------+-------------------+------------------+-------------------------+ | Red Hat Enterprise Linux 9.5 | PASS | SKIPPED | SKIPPED | SKIPPED | +-------------------------------+--------------------+-------------------+------------------+-------------------------+ | Ubuntu 22.04 | PASS | SKIPPED | SKIPPED | SKIPPED | +-------------------------------+--------------------+-------------------+------------------+-------------------------+ | Ubuntu 24.04 | PASS | SKIPPED | PASS | SKIPPED | +-------------------------------+--------------------+-------------------+------------------+-------------------------+ | Alpine Linux 3.22.0 | PASS | SKIPPED | SKIPPED | SKIPPED | +-------------------------------+--------------------+-------------------+------------------+-------------------------+ | Windows Server 2022 | SKIPPED | PASS | SKIPPED | PASS | +-------------------------------+--------------------+-------------------+------------------+-------------------------+ FreeBSD 14.2 Kernel: 14.2-RELEASE Compiler: clang 18.1.6 Ubuntu 20.04 Kernel: 4.19 Compiler: gcc gcc (Ubuntu 9.4.0-1ubuntu1~20.04.2) 9.4.0 CentOS Stream 9 Kernel: 5.15 Compiler: gcc gcc (GCC) 11.5.0 20240719 (Red Hat 11.5.0-11) CentOS Stream 10 Kernel: 5.15 Compiler: gcc gcc (GCC) 14.2.1 20250110 (Red Hat 14.2.1-8) Debian GNU/Linux 12 Kernel: 5.15 Compiler: gcc gcc (Debian 12.2.0-14+deb12u1) 12.2.0 Fedora Linux 42 Kernel: 5.15 Compiler: clang gcc (GCC) 15.2.1 20250808 (Red Hat 15.2.1-1) openSUSE Leap 15.6 Kernel: 5.15 Compiler: gcc gcc (SUSE Linux) 7.5.0 Red Hat Enterprise Linux 8.10 Kernel: 5.15 Compiler: gcc gcc (GCC) 8.5.0 20210514 (Red Hat 8.5.0-22) Red Hat Enterprise Linux 9.5 Kernel: 5.15 Compiler: gcc gcc (GCC) 11.5.0 20240719 (Red Hat 11.5.0-2) Ubuntu 22.04 Kernel: 5.15 Compiler: gcc gcc (Ubuntu 11.4.0-1ubuntu1~22.04) 11.4.0 Ubuntu 24.04 Kernel: 5.15 Compiler: gcc gcc (Ubuntu 13.3.0-6ubuntu2~24.04) 13.3.0 Alpine Linux 3.22.0 Kernel: 5.15 Compiler: gcc gcc (Alpine 14.2.0) 14.2.0 Windows Server 2022 Kernel: 10.0.20348.2031 Compiler: clang 15.0.7, gcc 14.1.0 (MinGW), and MSVC VS 19.39.33521 To view detailed results, visit: https://lab.dpdk.org/results/dashboard/patchsets/34590/ UNH-IOL DPDK Community Lab To manage your email subscriptions, visit: https://lab.dpdk.org/results/dashboard/preferences/subscriptions/