From mboxrd@z Thu Jan 1 00:00:00 1970 Return-Path: Received: from mails.dpdk.org (mails.dpdk.org [217.70.189.124]) by inbox.dpdk.org (Postfix) with ESMTP id 5C45C48B1A for ; Sat, 15 Nov 2025 14:05:27 +0100 (CET) Received: from mails.dpdk.org (localhost [127.0.0.1]) by mails.dpdk.org (Postfix) with ESMTP id 371EE402A2; Sat, 15 Nov 2025 14:05:27 +0100 (CET) Received: from mail-oa1-f99.google.com (mail-oa1-f99.google.com [209.85.160.99]) by mails.dpdk.org (Postfix) with ESMTP id BB29C402A2 for ; Sat, 15 Nov 2025 14:05:26 +0100 (CET) Received: by mail-oa1-f99.google.com with SMTP id 586e51a60fabf-3e2bceca89eso865549fac.0 for ; Sat, 15 Nov 2025 05:05:26 -0800 (PST) DKIM-Signature: v=1; a=rsa-sha256; c=relaxed/relaxed; d=iol.unh.edu; s=unh-iol; t=1763211926; x=1763816726; darn=dpdk.org; h=references:in-reply-to:cc:to:from:subject:message-id:date:from:to :cc:subject:date:message-id:reply-to; bh=4EilyYtbItqj27rwZVuCqFZU4/2Gl7b7ztH/LrVH+vs=; b=U7jQYyyZi4V4QK3fw7aGNxVQRvejKeFL4droXQrjlbRGbOj5+H6CmsI2wwRQHGQBKE Cu63ndKz6qIkNBZ7Yz7Wos4XNCrGPHs8d/CLQdwhLY7I55u7SYfWBGxbIxdW598q65HP ATeDIALSOgVtCWhCHJauWcoxEyHDfs2LfQDfQ= X-Google-DKIM-Signature: v=1; a=rsa-sha256; c=relaxed/relaxed; d=1e100.net; s=20230601; t=1763211926; x=1763816726; h=references:in-reply-to:cc:to:from:subject:message-id:date:x-gm-gg :x-gm-message-state:from:to:cc:subject:date:message-id:reply-to; bh=4EilyYtbItqj27rwZVuCqFZU4/2Gl7b7ztH/LrVH+vs=; b=vtEQqI7Y43fH/6Z/PvdKQPA6RmbL58glsotz8dPjcjAwGolFYIJo+5rLj3HYmzqv2w 1t2zC8C3z9PDRcjF2Seox+GeQtHfX6pQTVKD5D3VFB1Cbc+VJ9omI4TRaAz9hYjbX+64 PlOoBGwpqWRYkCUkYW6zg9maESW7o7pRnoOu1853E2kiJs1HSfeQhWuWmyfNxnpk8kpN rXQuoF5IJmAJz1HdpAwDTvc+g9FUHzK3VEFsnsU5a/jh3qMbyRnOC0OrJ0tAVxfXxHeH rqrNZFS4Mfcl1ypMnSk+NjvwQJWe+zaAmWi8YUg4QyHxfGJw8yIbAx1eD0Ltl9YD6jqv 8Pgg== X-Gm-Message-State: AOJu0YzjN8t1bQD4MG/qDYI7tIR5xe2zV6i/xL20pAI5w+NAsx4y7SyX 7YiPcSQ5j7TwVQBVvPzIZFNxhqHdSKmaIXgrRIiQeNX6VJPgr7uFMaLoay1lgUckzgNCHWSvGnu K+tbAD9XoXs2xR/qfGsyrfZ2pQCwNhcd8Q01m9KVNlrfo X-Gm-Gg: ASbGncuMXwogq3h6Aqxr41CNIUc3IPEmw6u3n6XHXct7HlMKOTIUmBlRUcFpBRFPksB qy9gOZwht7zFmJ9ap/CPNnJnuVDbM/UbHMUIn/A9IO7e7TCKeP+qLw8x0oFL925G6wcaJzHXOQy bA15Ij42trTRBRauscCPM5LH0S8WZc05b+tN+kRFk8VHZsMju0p02TU4utU30r1Uo2Epk53ibC1 cN68huKMzTylOPmZ5EUsjAk064nUL69dREotMg4wnB0oOdWfVboL5/LPpwk8EjgAm//ApkO4pfa AA0minmPgm6VTTzqc4dDtZx158DF1f1WnGFx4ClwohRKbmViOPM+P9SnWEkNVzz0p3q97V7zCE0 0fAa+aUeUYsyrmyZTYLCjp6I1oLUDYnY= X-Google-Smtp-Source: AGHT+IHhj2ptHcomGL6xviZgpsli9rMeJKo4+kOhZ70YqXhCJ15t33SzXqSSGkyrc2wgI+e4jdNFT9epTFht X-Received: by 2002:a05:6870:a708:b0:3d2:2400:f4ed with SMTP id 586e51a60fabf-3e868e9f25emr2705522fac.5.1763211925710; Sat, 15 Nov 2025 05:05:25 -0800 (PST) Received: from postal.iol.unh.edu (postal.iol.unh.edu. [132.177.123.84]) by smtp-relay.gmail.com with ESMTPS id 586e51a60fabf-3e8522baa57sm723605fac.18.2025.11.15.05.05.25 (version=TLS1_2 cipher=ECDHE-ECDSA-AES128-GCM-SHA256 bits=128/128); Sat, 15 Nov 2025 05:05:25 -0800 (PST) X-Relaying-Domain: iol.unh.edu Date: Sat, 15 Nov 2025 05:05:25 -0800 (PST) Message-ID: <69187a95.050a0220.a3c31.2ef0SMTPIN_ADDED_MISSING@mx.google.com> Received: from [172.21.0.4] (unknown [172.18.0.240]) by postal.iol.unh.edu (Postfix) with ESMTP id 4CCE56051830; Sat, 15 Nov 2025 08:05:25 -0500 (EST) Subject: |SUCCESS| pw158788 [PATCH] net: ipv6 link local compliance with rfc From: dpdklab@iol.unh.edu To: Test Report Cc: dpdk-test-reports@iol.unh.edu In-Reply-To: <20251114105751.54802-3-rjarry@redhat.com> References: <20251114105751.54802-3-rjarry@redhat.com> Content-Type: text/plain X-BeenThere: test-report@dpdk.org X-Mailman-Version: 2.1.29 Precedence: list List-Id: automatic DPDK test reports List-Unsubscribe: , List-Archive: List-Post: List-Help: List-Subscribe: , Errors-To: test-report-bounces@dpdk.org Test-Label: iol-compile-amd64-testing Test-Status: SUCCESS http://dpdk.org/patch/158788 _Testing PASS_ Submitter: Robin Jarry Date: Friday, November 14 2025 10:57:53 DPDK git baseline: Repo:dpdk Branch: master CommitID:be0112878b4fc3a1b918370ed2fe615c52039d77 158788 --> testing pass Upstream job id: Windows-Compile-DPDK-Native#32408 Test environment and result as below: +-------------------------------+--------------------+-------------------+------------------+-------------------------+----------------------+ | Environment | dpdk_meson_compile | dpdk_msvc_compile | dpdk_compile_ovs | dpdk_llvm_clang_compile | dpdk_mingw64_compile | +===============================+====================+===================+==================+=========================+======================+ | FreeBSD 14.2 | PASS | SKIPPED | SKIPPED | SKIPPED | SKIPPED | +-------------------------------+--------------------+-------------------+------------------+-------------------------+----------------------+ | Ubuntu 20.04 | PASS | SKIPPED | SKIPPED | SKIPPED | SKIPPED | +-------------------------------+--------------------+-------------------+------------------+-------------------------+----------------------+ | CentOS Stream 9 | PASS | SKIPPED | SKIPPED | SKIPPED | SKIPPED | +-------------------------------+--------------------+-------------------+------------------+-------------------------+----------------------+ | CentOS Stream 10 | PASS | SKIPPED | SKIPPED | SKIPPED | SKIPPED | +-------------------------------+--------------------+-------------------+------------------+-------------------------+----------------------+ | Debian GNU/Linux 12 | PASS | SKIPPED | SKIPPED | SKIPPED | SKIPPED | +-------------------------------+--------------------+-------------------+------------------+-------------------------+----------------------+ | Fedora Linux 42 | PASS | SKIPPED | PASS | SKIPPED | SKIPPED | +-------------------------------+--------------------+-------------------+------------------+-------------------------+----------------------+ | openSUSE Leap 15.6 | PASS | SKIPPED | SKIPPED | SKIPPED | SKIPPED | +-------------------------------+--------------------+-------------------+------------------+-------------------------+----------------------+ | Red Hat Enterprise Linux 8.10 | PASS | SKIPPED | SKIPPED | SKIPPED | SKIPPED | +-------------------------------+--------------------+-------------------+------------------+-------------------------+----------------------+ | Red Hat Enterprise Linux 9.5 | PASS | SKIPPED | SKIPPED | SKIPPED | SKIPPED | +-------------------------------+--------------------+-------------------+------------------+-------------------------+----------------------+ | Ubuntu 22.04 | PASS | SKIPPED | SKIPPED | SKIPPED | SKIPPED | +-------------------------------+--------------------+-------------------+------------------+-------------------------+----------------------+ | Ubuntu 24.04 | PASS | SKIPPED | PASS | SKIPPED | SKIPPED | +-------------------------------+--------------------+-------------------+------------------+-------------------------+----------------------+ | Alpine Linux 3.22.0 | PASS | SKIPPED | SKIPPED | SKIPPED | SKIPPED | +-------------------------------+--------------------+-------------------+------------------+-------------------------+----------------------+ | Windows Server 2022 | SKIPPED | PASS | SKIPPED | PASS | PASS | +-------------------------------+--------------------+-------------------+------------------+-------------------------+----------------------+ FreeBSD 14.2 Kernel: 14.2-RELEASE Compiler: clang 18.1.6 Ubuntu 20.04 Kernel: 4.19 Compiler: gcc gcc (Ubuntu 9.4.0-1ubuntu1~20.04.2) 9.4.0 CentOS Stream 9 Kernel: 5.15 Compiler: gcc gcc (GCC) 11.5.0 20240719 (Red Hat 11.5.0-11) CentOS Stream 10 Kernel: 5.15 Compiler: gcc gcc (GCC) 14.2.1 20250110 (Red Hat 14.2.1-8) Debian GNU/Linux 12 Kernel: 5.15 Compiler: gcc gcc (Debian 12.2.0-14+deb12u1) 12.2.0 Fedora Linux 42 Kernel: 5.15 Compiler: clang gcc (GCC) 15.2.1 20250808 (Red Hat 15.2.1-1) openSUSE Leap 15.6 Kernel: 5.15 Compiler: gcc gcc (SUSE Linux) 7.5.0 Red Hat Enterprise Linux 8.10 Kernel: 5.15 Compiler: gcc gcc (GCC) 8.5.0 20210514 (Red Hat 8.5.0-22) Red Hat Enterprise Linux 9.5 Kernel: 5.15 Compiler: gcc gcc (GCC) 11.5.0 20240719 (Red Hat 11.5.0-2) Ubuntu 22.04 Kernel: 5.15 Compiler: gcc gcc (Ubuntu 11.4.0-1ubuntu1~22.04) 11.4.0 Ubuntu 24.04 Kernel: 5.15 Compiler: gcc gcc (Ubuntu 13.3.0-6ubuntu2~24.04) 13.3.0 Alpine Linux 3.22.0 Kernel: 5.15 Compiler: gcc gcc (Alpine 14.2.0) 14.2.0 Windows Server 2022 Kernel: 10.0.20348.2031 Compiler: clang 15.0.7, gcc 14.1.0 (MinGW), and MSVC VS 19.39.33521 To view detailed results, visit: https://lab.dpdk.org/results/dashboard/patchsets/34590/ UNH-IOL DPDK Community Lab To manage your email subscriptions, visit: https://lab.dpdk.org/results/dashboard/preferences/subscriptions/