From mboxrd@z Thu Jan 1 00:00:00 1970 Return-Path: Received: from mails.dpdk.org (mails.dpdk.org [217.70.189.124]) by inbox.dpdk.org (Postfix) with ESMTP id ECF5848B1A for ; Sat, 15 Nov 2025 14:11:03 +0100 (CET) Received: from mails.dpdk.org (localhost [127.0.0.1]) by mails.dpdk.org (Postfix) with ESMTP id CA4A5402A2; Sat, 15 Nov 2025 14:11:03 +0100 (CET) Received: from mail-qt1-f228.google.com (mail-qt1-f228.google.com [209.85.160.228]) by mails.dpdk.org (Postfix) with ESMTP id 4F97C402A2 for ; Sat, 15 Nov 2025 14:11:03 +0100 (CET) Received: by mail-qt1-f228.google.com with SMTP id d75a77b69052e-4b109c6b9fcso24549831cf.3 for ; Sat, 15 Nov 2025 05:11:03 -0800 (PST) DKIM-Signature: v=1; a=rsa-sha256; c=relaxed/relaxed; d=iol.unh.edu; s=unh-iol; t=1763212262; x=1763817062; darn=dpdk.org; h=references:in-reply-to:cc:to:from:subject:message-id:date:from:to :cc:subject:date:message-id:reply-to; bh=7YhEynCZLuwCoQdQy6R8k2FD4+aIDc6aRruOuzBf4bk=; b=ZEsgWqStEXSTkD3dJyLtq8n+Yhx7rEL2EdcR0CIje/b+T13DzXx2497/KUeesl9erO M7SWDZVYPPjsNKYJsEf3rQk51Y5JW8HuAFYjR8Vrko//hQOFRNhkarwjqLq3cTlZEOwu mVCHa8YXEbaczjbzlPH29afndWrjfT3YRmfBw= X-Google-DKIM-Signature: v=1; a=rsa-sha256; c=relaxed/relaxed; d=1e100.net; s=20230601; t=1763212262; x=1763817062; h=references:in-reply-to:cc:to:from:subject:message-id:date:x-gm-gg :x-gm-message-state:from:to:cc:subject:date:message-id:reply-to; bh=7YhEynCZLuwCoQdQy6R8k2FD4+aIDc6aRruOuzBf4bk=; b=qRZt6DZhWf7r21uZikXJz6eiq1534a655s41uodtseBfu/rI3NNv0KsKKuW3Xm8Znz 0SRQuoPNvkdOGyuz5CRn97229OU+O1/U/ZCuNWK2Z5KeKnfISJ63QgsahguAd6P2p+Z1 BqWdHIxms7u02mPOqhMRBHg7TmSSyQ3eHKoUSawR2jX6AGnfOp4jBtaWpHCovAJBqxjQ A/nFsGxAKKEb1k1JKQZRPVCe8lRYAY1ingxoEGiT/qmILrmcbaUDaztoivECXRnjWSWa j4AL9EsDHx5dbLilMFSbwJ1RR6w7DWFLKTdyXnz0QLe6+F5kXTkxgTuvtq3h5eNiv4sZ VDtw== X-Gm-Message-State: AOJu0YxKpzPWZ9UF8Uivq4norZzq5scwbTiO9iRdi77nShk3hcxuKoO3 wUP18+zEyw40PkTfrt+Siyru94gFuBijQ3DDPRDaDZ2oVxTYn7h/6Lq9nz9h0VELBgTmgcUsimP ErvNK6mTTTEsaRuaJxLppfXoU0ddp8C0E7sVpNbAak9zWyLL7W/dQpMHalTVW X-Gm-Gg: ASbGncuyIZOmUs0m49lm8xERl65WXM7seVLDItaQ1ma0SbBb1TrC6Dh270n3Q7DqwjR DJfAcvGTisWBCY6r9K7CLA0yaQpWrAgSVyEcSasfgx6nyReFFAmvYH4emk9RSrezmw/flHWqecM vUv+JZIR6ji1/R0mNZSiZYppTP5akcPNpu61QL8sMY+gm1kPBCy5ZuHucekF7StN+N7xKvI/at/ iwcGyjrtRjD5D4oC3m29tQei9vWPUxco9QA5BbaBYsZdctFVweB1JO0B5eGLPjFDnWEGU+XCeZ4 qm42vGLGp6Y5TihRCTzFXSPgG9FWjtC85geHQqhwRSkNpOyp0e8WqONoBisCZgcqvpnZFeBRq8D 4qV3o9JPn X-Google-Smtp-Source: AGHT+IGd+9MrwBzOrJJFZKHpKcYXjTUr7o/uLlcqvAgDxJSE9tmr1k1GmLMtLyLwpOCKj3Ho92b5/Tc3TRSO X-Received: by 2002:a05:622a:24d:b0:4ed:d7e9:b516 with SMTP id d75a77b69052e-4edf203da44mr78189291cf.3.1763212262642; Sat, 15 Nov 2025 05:11:02 -0800 (PST) Received: from postal.iol.unh.edu (postal.iol.unh.edu. [2606:4100:3880:1234::84]) by smtp-relay.gmail.com with ESMTPS id 6a1803df08f44-88286539c4csm9181926d6.17.2025.11.15.05.11.02 (version=TLS1_2 cipher=ECDHE-ECDSA-AES128-GCM-SHA256 bits=128/128); Sat, 15 Nov 2025 05:11:02 -0800 (PST) X-Relaying-Domain: iol.unh.edu Date: Sat, 15 Nov 2025 05:11:02 -0800 (PST) Message-ID: <69187be6.050a0220.2d30a2.ce9aSMTPIN_ADDED_MISSING@mx.google.com> Received: from [172.21.0.3] (unknown [172.18.0.240]) by postal.iol.unh.edu (Postfix) with ESMTP id 50D4E6051830; Sat, 15 Nov 2025 08:11:02 -0500 (EST) Subject: |SUCCESS| pw158791 [PATCH] [v4] test/crypto: add AES-CCM test case w From: dpdklab@iol.unh.edu To: Test Report Cc: dpdk-test-reports@iol.unh.edu, Akhil Goyal In-Reply-To: <20251114162036.170466-1-emma.finn@intel.com> References: <20251114162036.170466-1-emma.finn@intel.com> Content-Type: text/plain X-BeenThere: test-report@dpdk.org X-Mailman-Version: 2.1.29 Precedence: list List-Id: automatic DPDK test reports List-Unsubscribe: , List-Archive: List-Post: List-Help: List-Subscribe: , Errors-To: test-report-bounces@dpdk.org Test-Label: iol-compile-amd64-testing Test-Status: SUCCESS http://dpdk.org/patch/158791 _Testing PASS_ Submitter: Emma Finn Date: Friday, November 14 2025 16:20:35 DPDK git baseline: Repo:dpdk-next-crypto Branch: master CommitID:754ac59dcaf20949b55c58ab00ca73ea19dcc1cb 158791 --> testing pass Upstream job id: Windows-Compile-DPDK-Native#32409 Test environment and result as below: +-------------------------------+--------------------+-------------------+------------------+-------------------------+ | Environment | dpdk_meson_compile | dpdk_msvc_compile | dpdk_compile_ovs | dpdk_llvm_clang_compile | +===============================+====================+===================+==================+=========================+ | Ubuntu 20.04 | PASS | SKIPPED | SKIPPED | SKIPPED | +-------------------------------+--------------------+-------------------+------------------+-------------------------+ | FreeBSD 14.2 | PASS | SKIPPED | SKIPPED | SKIPPED | +-------------------------------+--------------------+-------------------+------------------+-------------------------+ | CentOS Stream 9 | PASS | SKIPPED | SKIPPED | SKIPPED | +-------------------------------+--------------------+-------------------+------------------+-------------------------+ | CentOS Stream 10 | PASS | SKIPPED | SKIPPED | SKIPPED | +-------------------------------+--------------------+-------------------+------------------+-------------------------+ | Debian GNU/Linux 12 | PASS | SKIPPED | SKIPPED | SKIPPED | +-------------------------------+--------------------+-------------------+------------------+-------------------------+ | Fedora Linux 42 | PASS | SKIPPED | PASS | SKIPPED | +-------------------------------+--------------------+-------------------+------------------+-------------------------+ | openSUSE Leap 15.6 | PASS | SKIPPED | SKIPPED | SKIPPED | +-------------------------------+--------------------+-------------------+------------------+-------------------------+ | Red Hat Enterprise Linux 8.10 | PASS | SKIPPED | SKIPPED | SKIPPED | +-------------------------------+--------------------+-------------------+------------------+-------------------------+ | Red Hat Enterprise Linux 9.5 | PASS | SKIPPED | SKIPPED | SKIPPED | +-------------------------------+--------------------+-------------------+------------------+-------------------------+ | Ubuntu 22.04 | PASS | SKIPPED | SKIPPED | SKIPPED | +-------------------------------+--------------------+-------------------+------------------+-------------------------+ | Ubuntu 24.04 | PASS | SKIPPED | PASS | SKIPPED | +-------------------------------+--------------------+-------------------+------------------+-------------------------+ | Alpine Linux 3.22.0 | PASS | SKIPPED | SKIPPED | SKIPPED | +-------------------------------+--------------------+-------------------+------------------+-------------------------+ | Windows Server 2022 | SKIPPED | PASS | SKIPPED | PASS | +-------------------------------+--------------------+-------------------+------------------+-------------------------+ Ubuntu 20.04 Kernel: 4.19 Compiler: gcc gcc (Ubuntu 9.4.0-1ubuntu1~20.04.2) 9.4.0 FreeBSD 14.2 Kernel: 14.2-RELEASE Compiler: clang 18.1.6 CentOS Stream 9 Kernel: 5.15 Compiler: gcc gcc (GCC) 11.5.0 20240719 (Red Hat 11.5.0-11) CentOS Stream 10 Kernel: 5.15 Compiler: gcc gcc (GCC) 14.2.1 20250110 (Red Hat 14.2.1-8) Debian GNU/Linux 12 Kernel: 5.15 Compiler: gcc gcc (Debian 12.2.0-14+deb12u1) 12.2.0 Fedora Linux 42 Kernel: 5.15 Compiler: clang gcc (GCC) 15.2.1 20250808 (Red Hat 15.2.1-1) openSUSE Leap 15.6 Kernel: 5.15 Compiler: gcc gcc (SUSE Linux) 7.5.0 Red Hat Enterprise Linux 8.10 Kernel: 5.15 Compiler: gcc gcc (GCC) 8.5.0 20210514 (Red Hat 8.5.0-22) Red Hat Enterprise Linux 9.5 Kernel: 5.15 Compiler: gcc gcc (GCC) 11.5.0 20240719 (Red Hat 11.5.0-2) Ubuntu 22.04 Kernel: 5.15 Compiler: gcc gcc (Ubuntu 11.4.0-1ubuntu1~22.04) 11.4.0 Ubuntu 24.04 Kernel: 5.15 Compiler: gcc gcc (Ubuntu 13.3.0-6ubuntu2~24.04) 13.3.0 Alpine Linux 3.22.0 Kernel: 5.15 Compiler: gcc gcc (Alpine 14.2.0) 14.2.0 Windows Server 2022 Kernel: 10.0.20348.2031 Compiler: clang 15.0.7, gcc 14.1.0 (MinGW), and MSVC VS 19.39.33521 To view detailed results, visit: https://lab.dpdk.org/results/dashboard/patchsets/34592/ UNH-IOL DPDK Community Lab To manage your email subscriptions, visit: https://lab.dpdk.org/results/dashboard/preferences/subscriptions/