From mboxrd@z Thu Jan 1 00:00:00 1970 Return-Path: Received: from mails.dpdk.org (mails.dpdk.org [217.70.189.124]) by inbox.dpdk.org (Postfix) with ESMTP id 3293848B1A for ; Sat, 15 Nov 2025 14:13:41 +0100 (CET) Received: from mails.dpdk.org (localhost [127.0.0.1]) by mails.dpdk.org (Postfix) with ESMTP id 107F8402A2; Sat, 15 Nov 2025 14:13:41 +0100 (CET) Received: from mail-yw1-f225.google.com (mail-yw1-f225.google.com [209.85.128.225]) by mails.dpdk.org (Postfix) with ESMTP id 0D5C5402A2 for ; Sat, 15 Nov 2025 14:13:40 +0100 (CET) Received: by mail-yw1-f225.google.com with SMTP id 00721157ae682-786a822e73aso31255617b3.3 for ; Sat, 15 Nov 2025 05:13:39 -0800 (PST) DKIM-Signature: v=1; a=rsa-sha256; c=relaxed/relaxed; d=iol.unh.edu; s=unh-iol; t=1763212419; x=1763817219; darn=dpdk.org; h=references:in-reply-to:cc:to:from:subject:message-id:date:from:to :cc:subject:date:message-id:reply-to; bh=XjopfezCFlesLdblv+xl76DLpaYIdX75hcTpJzAecuw=; b=d+jZ+DnecDBBDnj5xTrss53VWVTT5n6YXyvVUmUavFhHeJAE7OhF+EApDAWeJfSmv1 C3lBxw2O5J1EO7qNtJp10OWBE6s0hnioqXEvgadqG0QUhVbTptjthpTlrathtAvtwSN4 e4ghyPD4NIp5Abm+vQL+/EzyiScANvwGvzPG4= X-Google-DKIM-Signature: v=1; a=rsa-sha256; c=relaxed/relaxed; d=1e100.net; s=20230601; t=1763212419; x=1763817219; h=references:in-reply-to:cc:to:from:subject:message-id:date:x-gm-gg :x-gm-message-state:from:to:cc:subject:date:message-id:reply-to; bh=XjopfezCFlesLdblv+xl76DLpaYIdX75hcTpJzAecuw=; b=ClgHryuJyF1JdmYUODRyOShi4OA9yHB4gM5n2SUbYuhwaDXcmeXbfIcWKgjdDD+x0H HvNs+n83uIxINHDSfwhjMDsZyv7XskXJe6pRQX4vekANk47nlDt+7rFnASqJBOeWVwTR WfmQRRLA32pRB0obQm5Hc1rMNs7dgxFgTauXiZvBAIX8GyIZIKdbuszbJR5LreDyqgk1 8s7SKmd6rF7FjjmJ4MRw3+PZgx88weVUiqPWUIhuO0NeUrqKIRsCskcxI/qpBaWYAgLS VA3IY203bKGImjJEutew4nnmyiJc1qa+MdmUpNkbJ+itxQJkJv5eZ12HLNjYnhn+RjyI kqrg== X-Gm-Message-State: AOJu0YxF+XAH71wcRUK6bWHBqixyEL+Gz7OWLO/veZ7pKl+VoKEXEcSJ JG3V03hojOF0BwvRCRQYT90TX7d8rW5VxJ1RnORns3PPaAWdF5retOxQjzYP06wz4nMPrB3dluu AxIbUCJi2OKWfqvCTrYh0YQ8TBtwVLeG+b+cNHdY+S2qy X-Gm-Gg: ASbGncv74vUt7ZZAR6yeN76cMtKUs/R9YDzjxHzigvnr82qbQ4MCwi1LLEb56pQtnE8 U4C0uK7Hh5M2m/yLOXMz/qjQakDF1cN2xAu+BHo+Wtxpj41GRb51N7OBt04/9WZkIG4tLXfM04u 0097mDpCAJlF4pMiw3AuOgpuOqbMFvLgQu4CS5HgNXBRAOMJnt7N/nV9gmuyozxOM0Rub+7m9Wn lpwwNbWaQ6vLRUHVYqoRHpDm8eXkve6MJAFtxhiJdh8e7gx2bz2B2/3bbqU9el0AUSjzOoYp8WI /4xVCMpcQJ1DIQzSeh9Zsw+j7ISexsCFl2dPIXEKLsxIkj86iVsxzat5m2TzRPSZrr6EpY+qVRF SV9jAydX3tPRg6Rs00O8ClEk0yk90lx4= X-Google-Smtp-Source: AGHT+IHmNjDL/BRaBp6CzT4GnZXKhiqRXaknjYMbbaaLPNxwWhsKC6EVjaDRDnAtIM5PwV9lXOJiwY6m5Npv X-Received: by 2002:a05:690c:f90:b0:787:f66e:b2e5 with SMTP id 00721157ae682-78929f69e6fmr61525337b3.68.1763212419209; Sat, 15 Nov 2025 05:13:39 -0800 (PST) Received: from postal.iol.unh.edu (postal.iol.unh.edu. [132.177.123.84]) by smtp-relay.gmail.com with ESMTPS id 00721157ae682-78821fd131esm4255257b3.28.2025.11.15.05.13.39 (version=TLS1_2 cipher=ECDHE-ECDSA-AES128-GCM-SHA256 bits=128/128); Sat, 15 Nov 2025 05:13:39 -0800 (PST) X-Relaying-Domain: iol.unh.edu Date: Sat, 15 Nov 2025 05:13:39 -0800 (PST) Message-ID: <69187c83.050a0220.87d6.5633SMTPIN_ADDED_MISSING@mx.google.com> Received: from [172.21.0.3] (unknown [172.18.0.240]) by postal.iol.unh.edu (Postfix) with ESMTP id 9C8FB6051830; Sat, 15 Nov 2025 08:13:38 -0500 (EST) Subject: |SUCCESS| pw158791 [PATCH] [v4] test/crypto: add AES-CCM test case w From: dpdklab@iol.unh.edu To: Test Report Cc: dpdk-test-reports@iol.unh.edu, Akhil Goyal In-Reply-To: <20251114162036.170466-1-emma.finn@intel.com> References: <20251114162036.170466-1-emma.finn@intel.com> Content-Type: text/plain X-BeenThere: test-report@dpdk.org X-Mailman-Version: 2.1.29 Precedence: list List-Id: automatic DPDK test reports List-Unsubscribe: , List-Archive: List-Post: List-Help: List-Subscribe: , Errors-To: test-report-bounces@dpdk.org Test-Label: iol-compile-amd64-testing Test-Status: SUCCESS http://dpdk.org/patch/158791 _Testing PASS_ Submitter: Emma Finn Date: Friday, November 14 2025 16:20:35 DPDK git baseline: Repo:dpdk-next-crypto Branch: master CommitID:754ac59dcaf20949b55c58ab00ca73ea19dcc1cb 158791 --> testing pass Upstream job id: Windows-Compile-DPDK-Native#32410 Test environment and result as below: +-------------------------------+--------------------+-------------------+------------------+-------------------------+----------------------+ | Environment | dpdk_meson_compile | dpdk_msvc_compile | dpdk_compile_ovs | dpdk_llvm_clang_compile | dpdk_mingw64_compile | +===============================+====================+===================+==================+=========================+======================+ | Ubuntu 20.04 | PASS | SKIPPED | SKIPPED | SKIPPED | SKIPPED | +-------------------------------+--------------------+-------------------+------------------+-------------------------+----------------------+ | FreeBSD 14.2 | PASS | SKIPPED | SKIPPED | SKIPPED | SKIPPED | +-------------------------------+--------------------+-------------------+------------------+-------------------------+----------------------+ | CentOS Stream 9 | PASS | SKIPPED | SKIPPED | SKIPPED | SKIPPED | +-------------------------------+--------------------+-------------------+------------------+-------------------------+----------------------+ | CentOS Stream 10 | PASS | SKIPPED | SKIPPED | SKIPPED | SKIPPED | +-------------------------------+--------------------+-------------------+------------------+-------------------------+----------------------+ | Debian GNU/Linux 12 | PASS | SKIPPED | SKIPPED | SKIPPED | SKIPPED | +-------------------------------+--------------------+-------------------+------------------+-------------------------+----------------------+ | Fedora Linux 42 | PASS | SKIPPED | PASS | SKIPPED | SKIPPED | +-------------------------------+--------------------+-------------------+------------------+-------------------------+----------------------+ | openSUSE Leap 15.6 | PASS | SKIPPED | SKIPPED | SKIPPED | SKIPPED | +-------------------------------+--------------------+-------------------+------------------+-------------------------+----------------------+ | Red Hat Enterprise Linux 8.10 | PASS | SKIPPED | SKIPPED | SKIPPED | SKIPPED | +-------------------------------+--------------------+-------------------+------------------+-------------------------+----------------------+ | Red Hat Enterprise Linux 9.5 | PASS | SKIPPED | SKIPPED | SKIPPED | SKIPPED | +-------------------------------+--------------------+-------------------+------------------+-------------------------+----------------------+ | Ubuntu 22.04 | PASS | SKIPPED | SKIPPED | SKIPPED | SKIPPED | +-------------------------------+--------------------+-------------------+------------------+-------------------------+----------------------+ | Ubuntu 24.04 | PASS | SKIPPED | PASS | SKIPPED | SKIPPED | +-------------------------------+--------------------+-------------------+------------------+-------------------------+----------------------+ | Alpine Linux 3.22.0 | PASS | SKIPPED | SKIPPED | SKIPPED | SKIPPED | +-------------------------------+--------------------+-------------------+------------------+-------------------------+----------------------+ | Windows Server 2022 | SKIPPED | PASS | SKIPPED | PASS | PASS | +-------------------------------+--------------------+-------------------+------------------+-------------------------+----------------------+ Ubuntu 20.04 Kernel: 4.19 Compiler: gcc gcc (Ubuntu 9.4.0-1ubuntu1~20.04.2) 9.4.0 FreeBSD 14.2 Kernel: 14.2-RELEASE Compiler: clang 18.1.6 CentOS Stream 9 Kernel: 5.15 Compiler: gcc gcc (GCC) 11.5.0 20240719 (Red Hat 11.5.0-11) CentOS Stream 10 Kernel: 5.15 Compiler: gcc gcc (GCC) 14.2.1 20250110 (Red Hat 14.2.1-8) Debian GNU/Linux 12 Kernel: 5.15 Compiler: gcc gcc (Debian 12.2.0-14+deb12u1) 12.2.0 Fedora Linux 42 Kernel: 5.15 Compiler: clang gcc (GCC) 15.2.1 20250808 (Red Hat 15.2.1-1) openSUSE Leap 15.6 Kernel: 5.15 Compiler: gcc gcc (SUSE Linux) 7.5.0 Red Hat Enterprise Linux 8.10 Kernel: 5.15 Compiler: gcc gcc (GCC) 8.5.0 20210514 (Red Hat 8.5.0-22) Red Hat Enterprise Linux 9.5 Kernel: 5.15 Compiler: gcc gcc (GCC) 11.5.0 20240719 (Red Hat 11.5.0-2) Ubuntu 22.04 Kernel: 5.15 Compiler: gcc gcc (Ubuntu 11.4.0-1ubuntu1~22.04) 11.4.0 Ubuntu 24.04 Kernel: 5.15 Compiler: gcc gcc (Ubuntu 13.3.0-6ubuntu2~24.04) 13.3.0 Alpine Linux 3.22.0 Kernel: 5.15 Compiler: gcc gcc (Alpine 14.2.0) 14.2.0 Windows Server 2022 Kernel: 10.0.20348.2031 Compiler: clang 15.0.7, gcc 14.1.0 (MinGW), and MSVC VS 19.39.33521 To view detailed results, visit: https://lab.dpdk.org/results/dashboard/patchsets/34592/ UNH-IOL DPDK Community Lab To manage your email subscriptions, visit: https://lab.dpdk.org/results/dashboard/preferences/subscriptions/