From mboxrd@z Thu Jan 1 00:00:00 1970 Return-Path: Received: from mails.dpdk.org (mails.dpdk.org [217.70.189.124]) by inbox.dpdk.org (Postfix) with ESMTP id 9E88E48B1A for ; Sat, 15 Nov 2025 14:29:43 +0100 (CET) Received: from mails.dpdk.org (localhost [127.0.0.1]) by mails.dpdk.org (Postfix) with ESMTP id 96938402A2; Sat, 15 Nov 2025 14:29:43 +0100 (CET) Received: from mail-pj1-f98.google.com (mail-pj1-f98.google.com [209.85.216.98]) by mails.dpdk.org (Postfix) with ESMTP id 0F0E2402A2 for ; Sat, 15 Nov 2025 14:29:42 +0100 (CET) Received: by mail-pj1-f98.google.com with SMTP id 98e67ed59e1d1-3436a97f092so3519857a91.3 for ; Sat, 15 Nov 2025 05:29:41 -0800 (PST) DKIM-Signature: v=1; a=rsa-sha256; c=relaxed/relaxed; d=iol.unh.edu; s=unh-iol; t=1763213381; x=1763818181; darn=dpdk.org; h=references:in-reply-to:cc:to:from:subject:message-id:date:from:to :cc:subject:date:message-id:reply-to; bh=6VE46X6/pdJZEAvcGGX7o1OSjAv+bwEmuUsKRa/U3z8=; b=cFfFGKPqwRWNeS21d8eobhrk70ZOC0IG5clh6fc2Jbgp/hiNXpUEI1OtNGmlbsj4BA 8zJHij2Nwo8bcfUzyRj/xni6NdlXKi3F1kxDBIQXllFLDwtz6PUSNjRp1Mjfp/GcydPR nuuwuQCAnLd1JTyI/3qA7eNfkY2O4yrpV9J9Q= X-Google-DKIM-Signature: v=1; a=rsa-sha256; c=relaxed/relaxed; d=1e100.net; s=20230601; t=1763213381; x=1763818181; h=references:in-reply-to:cc:to:from:subject:message-id:date:x-gm-gg :x-gm-message-state:from:to:cc:subject:date:message-id:reply-to; bh=6VE46X6/pdJZEAvcGGX7o1OSjAv+bwEmuUsKRa/U3z8=; b=qo7HTu7S3iFCjH1HqwTi3omyDrtmWeOMHdeH+Fn39nGFx68cy5iLIrlqEiWc5K2EIn ObHGAbcbugd+2XSUwQGnQ6ThNxiGoyD9VwgC0bHkxaXUuQuK1xvyplOIr0CxW6LmQzGx gPY5jf9O0fYnuL+s5gGybJVwYDT9aSRcNxGa9i/XFXAD0OVSVJmk0zvlK3oL94GltmvZ 802JgkbBXliVNAe2Y5Nrd+b251Fda1LYmkMu2DZxt8wlIfCFR435fXjsOgkyR/uErRgf UWH2iXrO+7LfQ7tygrmZKkNkclCb0w6utPVrfHhi14FHYFo5ASbqlCU355BkZAI3hq0s 130A== X-Gm-Message-State: AOJu0YzUnpk3NZJyN9jd6gAWrXn/QW3Z8rX1mQ0emzMK/JvxuvLKNlCK HMVSPXDGnUObGboOG3bzQS+Wwl2BGfwa//jpduD4d30G6iuBojUzs0vhUfGn37vb8WwnKjcrVv2 GPsXHhQnH5Zk1MHQMYVZzdaP8DeWACKx/O8iKWH8qed3r X-Gm-Gg: ASbGncvsyZ8MNRQRuUNR3x5zCBtsW3XjqwjCdLUnItj9Gx+aQOYY0rjWvVtnh92VIaV K3PpjHqYbPR61Rn3vOXil5hT6hH2h2Z5jCeZpYtQ9hfdwD6C9EG3Bnrow4JprH3MtYxJChrR0K2 /AiZTLlm1M4Mfhv7mJ1aagWXJQCGykl2+EeGJJv7SdqWjpcjVicX66DTVwPQMK8Tp3UiFvCH08o J+h65FFZ1Shoqd1o7evyNISfsK+x7Gw3Q451FB8BuYfz8vzH6dTK/xeoutdsOAPW4caiqOcF2GU peok15EDrgHgmuUAELFJF/PintKffaF0v/3LLTAoPu+iwxJqxXvLaaz0AHrw26yPUh6/iSmOgYE T/HXnph2OlpZPSXenimA7Vq3PIQb+HzY= X-Google-Smtp-Source: AGHT+IGywB0cQXj5lVH9wTsqdkUxywiZowzldmZnrkaHODXricaVWMotxdCyOGSiwqFdbdwGyHTDjzwdZQin X-Received: by 2002:a17:90b:540e:b0:341:3ea2:b615 with SMTP id 98e67ed59e1d1-343f9ea6623mr7720833a91.15.1763213381208; Sat, 15 Nov 2025 05:29:41 -0800 (PST) Received: from postal.iol.unh.edu (postal.iol.unh.edu. [132.177.123.84]) by smtp-relay.gmail.com with ESMTPS id 98e67ed59e1d1-343ed4c95d5sm1024430a91.2.2025.11.15.05.29.41 (version=TLS1_2 cipher=ECDHE-ECDSA-AES128-GCM-SHA256 bits=128/128); Sat, 15 Nov 2025 05:29:41 -0800 (PST) X-Relaying-Domain: iol.unh.edu Date: Sat, 15 Nov 2025 05:29:41 -0800 (PST) Message-ID: <69188045.170a0220.1a1beb.2d97SMTPIN_ADDED_MISSING@mx.google.com> Received: from [172.21.0.2] (unknown [172.18.0.240]) by postal.iol.unh.edu (Postfix) with ESMTP id 595876051830; Sat, 15 Nov 2025 08:29:40 -0500 (EST) Subject: |SUCCESS| pw158813 [PATCH] [v2] net/mlx5: fix warning from uninitial From: dpdklab@iol.unh.edu To: Test Report Cc: dpdk-test-reports@iol.unh.edu In-Reply-To: <20251114174912.1103626-1-stephen@networkplumber.org> References: <20251114174912.1103626-1-stephen@networkplumber.org> Content-Type: text/plain X-BeenThere: test-report@dpdk.org X-Mailman-Version: 2.1.29 Precedence: list List-Id: automatic DPDK test reports List-Unsubscribe: , List-Archive: List-Post: List-Help: List-Subscribe: , Errors-To: test-report-bounces@dpdk.org Test-Label: iol-compile-amd64-testing Test-Status: SUCCESS http://dpdk.org/patch/158813 _Testing PASS_ Submitter: Stephen Hemminger Date: Friday, November 14 2025 17:49:12 DPDK git baseline: Repo:dpdk-next-net-mlx Branch: master CommitID:ae657d56b1f0ea979b3f611edf28d773efc2ddcf 158813 --> testing pass Upstream job id: Windows-Compile-DPDK-Native#32413 Test environment and result as below: +-------------------------------+--------------------+-------------------+------------------+-------------------------+ | Environment | dpdk_meson_compile | dpdk_msvc_compile | dpdk_compile_ovs | dpdk_llvm_clang_compile | +===============================+====================+===================+==================+=========================+ | Ubuntu 20.04 | PASS | SKIPPED | SKIPPED | SKIPPED | +-------------------------------+--------------------+-------------------+------------------+-------------------------+ | FreeBSD 14.2 | PASS | SKIPPED | SKIPPED | SKIPPED | +-------------------------------+--------------------+-------------------+------------------+-------------------------+ | CentOS Stream 9 | PASS | SKIPPED | SKIPPED | SKIPPED | +-------------------------------+--------------------+-------------------+------------------+-------------------------+ | CentOS Stream 10 | PASS | SKIPPED | SKIPPED | SKIPPED | +-------------------------------+--------------------+-------------------+------------------+-------------------------+ | Debian GNU/Linux 12 | PASS | SKIPPED | SKIPPED | SKIPPED | +-------------------------------+--------------------+-------------------+------------------+-------------------------+ | Fedora Linux 42 | PASS | SKIPPED | PASS | SKIPPED | +-------------------------------+--------------------+-------------------+------------------+-------------------------+ | Red Hat Enterprise Linux 8.10 | PASS | SKIPPED | SKIPPED | SKIPPED | +-------------------------------+--------------------+-------------------+------------------+-------------------------+ | Red Hat Enterprise Linux 9.5 | PASS | SKIPPED | SKIPPED | SKIPPED | +-------------------------------+--------------------+-------------------+------------------+-------------------------+ | openSUSE Leap 15.6 | PASS | SKIPPED | SKIPPED | SKIPPED | +-------------------------------+--------------------+-------------------+------------------+-------------------------+ | Ubuntu 24.04 | PASS | SKIPPED | PASS | SKIPPED | +-------------------------------+--------------------+-------------------+------------------+-------------------------+ | Ubuntu 22.04 | PASS | SKIPPED | SKIPPED | SKIPPED | +-------------------------------+--------------------+-------------------+------------------+-------------------------+ | Alpine Linux 3.22.0 | PASS | SKIPPED | SKIPPED | SKIPPED | +-------------------------------+--------------------+-------------------+------------------+-------------------------+ | Windows Server 2022 | SKIPPED | PASS | SKIPPED | PASS | +-------------------------------+--------------------+-------------------+------------------+-------------------------+ Ubuntu 20.04 Kernel: 4.19 Compiler: gcc gcc (Ubuntu 9.4.0-1ubuntu1~20.04.2) 9.4.0 FreeBSD 14.2 Kernel: 14.2-RELEASE Compiler: clang 18.1.6 CentOS Stream 9 Kernel: 5.15 Compiler: gcc gcc (GCC) 11.5.0 20240719 (Red Hat 11.5.0-11) CentOS Stream 10 Kernel: 5.15 Compiler: gcc gcc (GCC) 14.2.1 20250110 (Red Hat 14.2.1-8) Debian GNU/Linux 12 Kernel: 5.15 Compiler: gcc gcc (Debian 12.2.0-14+deb12u1) 12.2.0 Fedora Linux 42 Kernel: 5.15 Compiler: gcc gcc (GCC) 15.2.1 20250808 (Red Hat 15.2.1-1) Red Hat Enterprise Linux 8.10 Kernel: 5.15 Compiler: gcc gcc (GCC) 8.5.0 20210514 (Red Hat 8.5.0-22) Red Hat Enterprise Linux 9.5 Kernel: 5.15 Compiler: gcc gcc (GCC) 11.5.0 20240719 (Red Hat 11.5.0-2) openSUSE Leap 15.6 Kernel: 5.15 Compiler: gcc gcc (SUSE Linux) 7.5.0 Ubuntu 24.04 Kernel: 5.15 Compiler: gcc gcc (Ubuntu 13.3.0-6ubuntu2~24.04) 13.3.0 Ubuntu 22.04 Kernel: 5.15 Compiler: gcc gcc (Ubuntu 11.4.0-1ubuntu1~22.04) 11.4.0 Alpine Linux 3.22.0 Kernel: 5.15 Compiler: gcc gcc (Alpine 14.2.0) 14.2.0 Windows Server 2022 Kernel: 10.0.20348.2031 Compiler: clang 15.0.7, gcc 14.1.0 (MinGW), and MSVC VS 19.39.33521 To view detailed results, visit: https://lab.dpdk.org/results/dashboard/patchsets/34595/ UNH-IOL DPDK Community Lab To manage your email subscriptions, visit: https://lab.dpdk.org/results/dashboard/preferences/subscriptions/