From mboxrd@z Thu Jan 1 00:00:00 1970 Return-Path: Received: from mails.dpdk.org (mails.dpdk.org [217.70.189.124]) by inbox.dpdk.org (Postfix) with ESMTP id C381448B1A for ; Sat, 15 Nov 2025 14:31:07 +0100 (CET) Received: from mails.dpdk.org (localhost [127.0.0.1]) by mails.dpdk.org (Postfix) with ESMTP id BD9ED402A2; Sat, 15 Nov 2025 14:31:07 +0100 (CET) Received: from mail-io1-f97.google.com (mail-io1-f97.google.com [209.85.166.97]) by mails.dpdk.org (Postfix) with ESMTP id AC5F2402A2 for ; Sat, 15 Nov 2025 14:31:06 +0100 (CET) Received: by mail-io1-f97.google.com with SMTP id ca18e2360f4ac-88703c873d5so96893539f.3 for ; Sat, 15 Nov 2025 05:31:06 -0800 (PST) DKIM-Signature: v=1; a=rsa-sha256; c=relaxed/relaxed; d=iol.unh.edu; s=unh-iol; t=1763213466; x=1763818266; darn=dpdk.org; h=references:in-reply-to:cc:to:from:subject:message-id:date:from:to :cc:subject:date:message-id:reply-to; bh=sMs7lz6OQpxE7GGP2CydXMAlTAyAkM4j79Vl8e8Z7mc=; b=AQQB2XRV4vWnqoYRViFBGMb3ZFLEe5/qUvAqcU3DnIcJNY5JTVdo3lRmQ0EFhPNMfD 8Im85W+vAJHcQQBlNo58OjDCxI/lIG8J7CkU3/qMAN++8D3ZGn8koSBYKtuH8LiQEbEa 6eVgdVxoFJMEUG/cM6skOJLrHHnmkEoeRfpM8= X-Google-DKIM-Signature: v=1; a=rsa-sha256; c=relaxed/relaxed; d=1e100.net; s=20230601; t=1763213466; x=1763818266; h=references:in-reply-to:cc:to:from:subject:message-id:date:x-gm-gg :x-gm-message-state:from:to:cc:subject:date:message-id:reply-to; bh=sMs7lz6OQpxE7GGP2CydXMAlTAyAkM4j79Vl8e8Z7mc=; b=Cf3V02Lc2Otp7x3Uj0GF+OKnfYzU8ctIBHtcvy1CLAtgTo5ZVrs5b1MnmAuQNX1b1t 4Ow4MIuBWRnoE3uNX3SJ68y+YL7sl0YYZCr434mfZ3A7tmJViPUeV2hFevx4y+cOZgYV t0i6OXUb2JD33hhFKHc9XdhlGiJNdtoSNB1RIXVQx8rkuDdmRCiPMZvSqTdVOf11cita rPUeujO83CCIA5xjCxIJPliYRFLvnqkWj5HmB2B1fshiI+afdxVeGUi0TwyLy5l/gQjS K7HKqiVglJJgqksuTGaOrGfJGGuyH0bhBbT6trJO9m1czcLffAQ02rU5YBQYfKhLM61+ SKGA== X-Gm-Message-State: AOJu0YybI95GdlRF8rxTCYClQWzKmc8pJmSy/hy9LKvIxQfXKh7w53Ro DZmsIu+hH5JJolWR/8OIBnmXGzYYIMeGKVLR2AUsTsN3cIHx3omq1cdcGzDXCtpJXTrEQPbeXHc btPFzHE3oHyx4+cI47S1gaIj/lEYFTPH9IqURpDhWQLtx3Nb8YtOicxnBXofI X-Gm-Gg: ASbGncv7OPkAZi6FTrTQVh0UKCAnlAA3+FdoqklSJAHmrL+KvfDziv6EMA+LnRXHFWZ f1rlnvc1HvgGLDuql4JcjwaRUEqfBzJ+tWm9wPeXGkElY1omUgC+N7aIOGUWKaY1Ylc+sf5wijt 4ZNuRYhyxlCVOOzXzVHmX2swVnyFrooLNKj/XU+TgAcnAw5QoQdcwN7361tNprysbCruPmn/Hm2 3Phtz81GmRD1UMcfyi1zSPO0mXEBHjk475Zceg6BryjcQ4Bl3252++NC/QWdYKPYA8QMTGUZnPz xmxuQh1Au1dJaCNbjlwLM59x8N59iGDVBrWx688Sa7VF1cade5eRyzIuPmE9CZOPmEASlBHhfVt oDk5Q/Q3O X-Google-Smtp-Source: AGHT+IExpEcCKFpIVzAnZjclEfKh3Ary/33vMny53FswyhnFAXsXQE6ucUajXAlRDXG/3/Lzgy+OK2HZ2rnH X-Received: by 2002:a02:b388:0:b0:5b7:1627:5739 with SMTP id 8926c6da1cb9f-5b7c9c4a577mr2138476173.1.1763213465913; Sat, 15 Nov 2025 05:31:05 -0800 (PST) Received: from postal.iol.unh.edu (postal.iol.unh.edu. [2606:4100:3880:1234::84]) by smtp-relay.gmail.com with ESMTPS id 8926c6da1cb9f-5b7bd246a41sm435354173.4.2025.11.15.05.31.05 (version=TLS1_2 cipher=ECDHE-ECDSA-AES128-GCM-SHA256 bits=128/128); Sat, 15 Nov 2025 05:31:05 -0800 (PST) X-Relaying-Domain: iol.unh.edu Date: Sat, 15 Nov 2025 05:31:05 -0800 (PST) Message-ID: <69188099.050a0220.38e609.4b3aSMTPIN_ADDED_MISSING@mx.google.com> Received: from [172.21.0.3] (unknown [172.18.0.240]) by postal.iol.unh.edu (Postfix) with ESMTP id 806EF6051830; Sat, 15 Nov 2025 08:31:05 -0500 (EST) Subject: |SUCCESS| pw158813 [PATCH] [v2] net/mlx5: fix warning from uninitial From: dpdklab@iol.unh.edu To: Test Report Cc: dpdk-test-reports@iol.unh.edu In-Reply-To: <20251114174912.1103626-1-stephen@networkplumber.org> References: <20251114174912.1103626-1-stephen@networkplumber.org> Content-Type: text/plain X-BeenThere: test-report@dpdk.org X-Mailman-Version: 2.1.29 Precedence: list List-Id: automatic DPDK test reports List-Unsubscribe: , List-Archive: List-Post: List-Help: List-Subscribe: , Errors-To: test-report-bounces@dpdk.org Test-Label: iol-compile-amd64-testing Test-Status: SUCCESS http://dpdk.org/patch/158813 _Testing PASS_ Submitter: Stephen Hemminger Date: Friday, November 14 2025 17:49:12 DPDK git baseline: Repo:dpdk-next-net-mlx Branch: master CommitID:ae657d56b1f0ea979b3f611edf28d773efc2ddcf 158813 --> testing pass Upstream job id: Windows-Compile-DPDK-Native#32414 Test environment and result as below: +-------------------------------+--------------------+-------------------+------------------+-------------------------+----------------------+ | Environment | dpdk_meson_compile | dpdk_msvc_compile | dpdk_compile_ovs | dpdk_llvm_clang_compile | dpdk_mingw64_compile | +===============================+====================+===================+==================+=========================+======================+ | Ubuntu 20.04 | PASS | SKIPPED | SKIPPED | SKIPPED | SKIPPED | +-------------------------------+--------------------+-------------------+------------------+-------------------------+----------------------+ | FreeBSD 14.2 | PASS | SKIPPED | SKIPPED | SKIPPED | SKIPPED | +-------------------------------+--------------------+-------------------+------------------+-------------------------+----------------------+ | CentOS Stream 9 | PASS | SKIPPED | SKIPPED | SKIPPED | SKIPPED | +-------------------------------+--------------------+-------------------+------------------+-------------------------+----------------------+ | CentOS Stream 10 | PASS | SKIPPED | SKIPPED | SKIPPED | SKIPPED | +-------------------------------+--------------------+-------------------+------------------+-------------------------+----------------------+ | Debian GNU/Linux 12 | PASS | SKIPPED | SKIPPED | SKIPPED | SKIPPED | +-------------------------------+--------------------+-------------------+------------------+-------------------------+----------------------+ | Fedora Linux 42 | PASS | SKIPPED | PASS | SKIPPED | SKIPPED | +-------------------------------+--------------------+-------------------+------------------+-------------------------+----------------------+ | Red Hat Enterprise Linux 8.10 | PASS | SKIPPED | SKIPPED | SKIPPED | SKIPPED | +-------------------------------+--------------------+-------------------+------------------+-------------------------+----------------------+ | Red Hat Enterprise Linux 9.5 | PASS | SKIPPED | SKIPPED | SKIPPED | SKIPPED | +-------------------------------+--------------------+-------------------+------------------+-------------------------+----------------------+ | openSUSE Leap 15.6 | PASS | SKIPPED | SKIPPED | SKIPPED | SKIPPED | +-------------------------------+--------------------+-------------------+------------------+-------------------------+----------------------+ | Ubuntu 24.04 | PASS | SKIPPED | PASS | SKIPPED | SKIPPED | +-------------------------------+--------------------+-------------------+------------------+-------------------------+----------------------+ | Ubuntu 22.04 | PASS | SKIPPED | SKIPPED | SKIPPED | SKIPPED | +-------------------------------+--------------------+-------------------+------------------+-------------------------+----------------------+ | Alpine Linux 3.22.0 | PASS | SKIPPED | SKIPPED | SKIPPED | SKIPPED | +-------------------------------+--------------------+-------------------+------------------+-------------------------+----------------------+ | Windows Server 2022 | SKIPPED | PASS | SKIPPED | PASS | PASS | +-------------------------------+--------------------+-------------------+------------------+-------------------------+----------------------+ Ubuntu 20.04 Kernel: 4.19 Compiler: gcc gcc (Ubuntu 9.4.0-1ubuntu1~20.04.2) 9.4.0 FreeBSD 14.2 Kernel: 14.2-RELEASE Compiler: clang 18.1.6 CentOS Stream 9 Kernel: 5.15 Compiler: gcc gcc (GCC) 11.5.0 20240719 (Red Hat 11.5.0-11) CentOS Stream 10 Kernel: 5.15 Compiler: gcc gcc (GCC) 14.2.1 20250110 (Red Hat 14.2.1-8) Debian GNU/Linux 12 Kernel: 5.15 Compiler: gcc gcc (Debian 12.2.0-14+deb12u1) 12.2.0 Fedora Linux 42 Kernel: 5.15 Compiler: gcc gcc (GCC) 15.2.1 20250808 (Red Hat 15.2.1-1) Red Hat Enterprise Linux 8.10 Kernel: 5.15 Compiler: gcc gcc (GCC) 8.5.0 20210514 (Red Hat 8.5.0-22) Red Hat Enterprise Linux 9.5 Kernel: 5.15 Compiler: gcc gcc (GCC) 11.5.0 20240719 (Red Hat 11.5.0-2) openSUSE Leap 15.6 Kernel: 5.15 Compiler: gcc gcc (SUSE Linux) 7.5.0 Ubuntu 24.04 Kernel: 5.15 Compiler: gcc gcc (Ubuntu 13.3.0-6ubuntu2~24.04) 13.3.0 Ubuntu 22.04 Kernel: 5.15 Compiler: gcc gcc (Ubuntu 11.4.0-1ubuntu1~22.04) 11.4.0 Alpine Linux 3.22.0 Kernel: 5.15 Compiler: gcc gcc (Alpine 14.2.0) 14.2.0 Windows Server 2022 Kernel: 10.0.20348.2031 Compiler: clang 15.0.7, gcc 14.1.0 (MinGW), and MSVC VS 19.39.33521 To view detailed results, visit: https://lab.dpdk.org/results/dashboard/patchsets/34595/ UNH-IOL DPDK Community Lab To manage your email subscriptions, visit: https://lab.dpdk.org/results/dashboard/preferences/subscriptions/