From mboxrd@z Thu Jan 1 00:00:00 1970 Return-Path: Received: from mails.dpdk.org (mails.dpdk.org [217.70.189.124]) by inbox.dpdk.org (Postfix) with ESMTP id 50A7C48B1A for ; Sat, 15 Nov 2025 14:35:58 +0100 (CET) Received: from mails.dpdk.org (localhost [127.0.0.1]) by mails.dpdk.org (Postfix) with ESMTP id 2A5E3402A2; Sat, 15 Nov 2025 14:35:58 +0100 (CET) Received: from mail-il1-f225.google.com (mail-il1-f225.google.com [209.85.166.225]) by mails.dpdk.org (Postfix) with ESMTP id 00B2B402A2 for ; Sat, 15 Nov 2025 14:35:56 +0100 (CET) Received: by mail-il1-f225.google.com with SMTP id e9e14a558f8ab-4330d2ea04eso11297515ab.3 for ; Sat, 15 Nov 2025 05:35:56 -0800 (PST) DKIM-Signature: v=1; a=rsa-sha256; c=relaxed/relaxed; d=iol.unh.edu; s=unh-iol; t=1763213756; x=1763818556; darn=dpdk.org; h=references:in-reply-to:cc:to:from:subject:message-id:date:from:to :cc:subject:date:message-id:reply-to; bh=Tk6vwYE6T/mVX5TLcIvUZetLrBK7MDrGdQ8tL9a3fdM=; b=a+g+j3aE0ASeqJp+aK6PllAvg8b3SXWo8AOY4Ysh1dvwNiP6DUKr85dowoRgBjarc1 2CBOaOt0GW4f6OcEW/S5vFuJ1cMnhaap4wIjszT7IBqFuSyUtHZ7IcQ34P67ZCpt6NJ8 G/9yaegN/YUN2wxP5dgP9Yroej0Tg8frZ19ek= X-Google-DKIM-Signature: v=1; a=rsa-sha256; c=relaxed/relaxed; d=1e100.net; s=20230601; t=1763213756; x=1763818556; h=references:in-reply-to:cc:to:from:subject:message-id:date:x-gm-gg :x-gm-message-state:from:to:cc:subject:date:message-id:reply-to; bh=Tk6vwYE6T/mVX5TLcIvUZetLrBK7MDrGdQ8tL9a3fdM=; b=gYfLdrQBBDBeLEbbE5+i0Fe2CaseoOnUlxWoSsE/cFIl6k6nR+NznVMAIS8LHCZB0d 7UDA6y/6v/rM0zKeh6QOPR2T8KEbHpCS3F/HSYK5Zs46K7TDYHsDCk4exYH0SLzZuXGY DChQB/BA8sctAFkHQ6pFPzIYDdNzAnIMQ0H7sEpKSzJurQuYTcfqJMxgrSXleVt13q9p 492L/2q53RcJpYi/NX4NTMllfkjIvWbx9hYNctbDT4QVOS+to2F6FX/P5nUAbcLmy6ws E3vs48+tIv7cTAfIS+xLf25QzJujWH+e3Zx20HQgfgFgT44o1xlvlLZ9EBmkZYVFGDOW ddkQ== X-Gm-Message-State: AOJu0YzBj7lQx2+wgCZM8CbrybtoL09ts1GIKDwIxR2dmnFS2kn8uvyg 56OLspOE3IBi4ScDAEzr5VuTwPOWsZ4DKcNtfONlrwTcYOp7LknfyBdQLPLhiKZZ49LmXjQJGS0 BOGFTBme0DZSef7pXIAAz/PYkoIEVYUwoaZ+6UWA+hMXT X-Gm-Gg: ASbGncsxKmatBeFkY2y6bjUc65eP8Z8/9O8HScpFprSJXptAdHO/ITpvuiVIEaiXI52 xdMvqwW0Z7q3dTBmTKmNJ8kh7E2Jraumex7L41wh2lIWlRzl8GFjfIPphiKMJmEvqap4E59xwHK uUOpI242M5pD0JvOqO87/mQaDguu1psP/xEWqI7gOZ1Z7ULGhgcjmc3Aa3i/qWX9s9stIm4Pmem k50yDXNR/t7yGGHTozf8s5DH1iF0ubSllfTYHzMOrnT5R9ZVOwzVUS3HesdBe2hoeG+SExTtBHp fNYOyzDmcEXWCDHLK1MMF/5Xww29sNz2E+bSymuF4ow4nlBUgUJm6pHxl/8XpOL3KpkyPk3Rk0g xUUrvkFVQ2YFezegLMih1UfAJi7qzL14= X-Google-Smtp-Source: AGHT+IFpi6MhXBz/mUYCBtPcV/a8hqGqLGV0rSKcpIK5qD0u9pdjv7ox20za+j3wwzmjkOBX+NXNFgHdCF3a X-Received: by 2002:a05:6e02:50f:b0:434:96ea:ff5e with SMTP id e9e14a558f8ab-43496eb011amr38320865ab.39.1763213756207; Sat, 15 Nov 2025 05:35:56 -0800 (PST) Received: from postal.iol.unh.edu (postal.iol.unh.edu. [132.177.123.84]) by smtp-relay.gmail.com with ESMTPS id e9e14a558f8ab-434838c4669sm7089735ab.15.2025.11.15.05.35.56 (version=TLS1_2 cipher=ECDHE-ECDSA-AES128-GCM-SHA256 bits=128/128); Sat, 15 Nov 2025 05:35:56 -0800 (PST) X-Relaying-Domain: iol.unh.edu Date: Sat, 15 Nov 2025 05:35:56 -0800 (PST) Message-ID: <691881bc.050a0220.11415.2c17SMTPIN_ADDED_MISSING@mx.google.com> Received: from [172.21.0.3] (unknown [172.18.0.240]) by postal.iol.unh.edu (Postfix) with ESMTP id B6F136051830; Sat, 15 Nov 2025 08:35:55 -0500 (EST) Subject: |SUCCESS| pw158815 [PATCH] net/qede: remove unused file From: dpdklab@iol.unh.edu To: Test Report Cc: dpdk-test-reports@iol.unh.edu In-Reply-To: <20251114180251.1233757-1-stephen@networkplumber.org> References: <20251114180251.1233757-1-stephen@networkplumber.org> Content-Type: text/plain X-BeenThere: test-report@dpdk.org X-Mailman-Version: 2.1.29 Precedence: list List-Id: automatic DPDK test reports List-Unsubscribe: , List-Archive: List-Post: List-Help: List-Subscribe: , Errors-To: test-report-bounces@dpdk.org Test-Label: iol-compile-amd64-testing Test-Status: SUCCESS http://dpdk.org/patch/158815 _Testing PASS_ Submitter: Stephen Hemminger Date: Friday, November 14 2025 18:02:51 DPDK git baseline: Repo:dpdk-next-net-mrvl Branch: master CommitID:db4c93a4c6e088346c7e6d7e744178295b568461 158815 --> testing pass Upstream job id: Windows-Compile-DPDK-Native#32415 Test environment and result as below: +-------------------------------+--------------------+-------------------+------------------+-------------------------+ | Environment | dpdk_meson_compile | dpdk_msvc_compile | dpdk_compile_ovs | dpdk_llvm_clang_compile | +===============================+====================+===================+==================+=========================+ | Ubuntu 20.04 | PASS | SKIPPED | SKIPPED | SKIPPED | +-------------------------------+--------------------+-------------------+------------------+-------------------------+ | FreeBSD 14.2 | PASS | SKIPPED | SKIPPED | SKIPPED | +-------------------------------+--------------------+-------------------+------------------+-------------------------+ | Red Hat Enterprise Linux 8.10 | PASS | SKIPPED | SKIPPED | SKIPPED | +-------------------------------+--------------------+-------------------+------------------+-------------------------+ | CentOS Stream 9 | PASS | SKIPPED | SKIPPED | SKIPPED | +-------------------------------+--------------------+-------------------+------------------+-------------------------+ | Debian GNU/Linux 12 | PASS | SKIPPED | SKIPPED | SKIPPED | +-------------------------------+--------------------+-------------------+------------------+-------------------------+ | CentOS Stream 10 | PASS | SKIPPED | SKIPPED | SKIPPED | +-------------------------------+--------------------+-------------------+------------------+-------------------------+ | Fedora Linux 42 | PASS | SKIPPED | PASS | SKIPPED | +-------------------------------+--------------------+-------------------+------------------+-------------------------+ | openSUSE Leap 15.6 | PASS | SKIPPED | SKIPPED | SKIPPED | +-------------------------------+--------------------+-------------------+------------------+-------------------------+ | Red Hat Enterprise Linux 9.5 | PASS | SKIPPED | SKIPPED | SKIPPED | +-------------------------------+--------------------+-------------------+------------------+-------------------------+ | Ubuntu 24.04 | PASS | SKIPPED | PASS | SKIPPED | +-------------------------------+--------------------+-------------------+------------------+-------------------------+ | Ubuntu 22.04 | PASS | SKIPPED | SKIPPED | SKIPPED | +-------------------------------+--------------------+-------------------+------------------+-------------------------+ | Alpine Linux 3.22.0 | PASS | SKIPPED | SKIPPED | SKIPPED | +-------------------------------+--------------------+-------------------+------------------+-------------------------+ | Windows Server 2022 | SKIPPED | PASS | SKIPPED | PASS | +-------------------------------+--------------------+-------------------+------------------+-------------------------+ Ubuntu 20.04 Kernel: 4.19 Compiler: gcc gcc (Ubuntu 9.4.0-1ubuntu1~20.04.2) 9.4.0 FreeBSD 14.2 Kernel: 14.2-RELEASE Compiler: clang 18.1.6 Red Hat Enterprise Linux 8.10 Kernel: 5.15 Compiler: gcc gcc (GCC) 8.5.0 20210514 (Red Hat 8.5.0-22) CentOS Stream 9 Kernel: 5.15 Compiler: gcc gcc (GCC) 11.5.0 20240719 (Red Hat 11.5.0-11) Debian GNU/Linux 12 Kernel: 5.15 Compiler: gcc gcc (Debian 12.2.0-14+deb12u1) 12.2.0 CentOS Stream 10 Kernel: 5.15 Compiler: gcc gcc (GCC) 14.2.1 20250110 (Red Hat 14.2.1-8) Fedora Linux 42 Kernel: 5.15 Compiler: gcc gcc (GCC) 15.2.1 20250808 (Red Hat 15.2.1-1) openSUSE Leap 15.6 Kernel: 5.15 Compiler: gcc gcc (SUSE Linux) 7.5.0 Red Hat Enterprise Linux 9.5 Kernel: 5.15 Compiler: gcc gcc (GCC) 11.5.0 20240719 (Red Hat 11.5.0-2) Ubuntu 24.04 Kernel: 5.15 Compiler: gcc gcc (Ubuntu 13.3.0-6ubuntu2~24.04) 13.3.0 Ubuntu 22.04 Kernel: 5.15 Compiler: gcc gcc (Ubuntu 11.4.0-1ubuntu1~22.04) 11.4.0 Alpine Linux 3.22.0 Kernel: 5.15 Compiler: gcc gcc (Alpine 14.2.0) 14.2.0 Windows Server 2022 Kernel: 10.0.20348.2031 Compiler: clang 15.0.7, gcc 14.1.0 (MinGW), and MSVC VS 19.39.33521 To view detailed results, visit: https://lab.dpdk.org/results/dashboard/patchsets/34597/ UNH-IOL DPDK Community Lab To manage your email subscriptions, visit: https://lab.dpdk.org/results/dashboard/preferences/subscriptions/