From mboxrd@z Thu Jan 1 00:00:00 1970 Return-Path: Received: from mails.dpdk.org (mails.dpdk.org [217.70.189.124]) by inbox.dpdk.org (Postfix) with ESMTP id D6E5948B1A for ; Sat, 15 Nov 2025 14:41:10 +0100 (CET) Received: from mails.dpdk.org (localhost [127.0.0.1]) by mails.dpdk.org (Postfix) with ESMTP id B22B7402A2; Sat, 15 Nov 2025 14:41:10 +0100 (CET) Received: from mail-pf1-f225.google.com (mail-pf1-f225.google.com [209.85.210.225]) by mails.dpdk.org (Postfix) with ESMTP id B0DCB402A2 for ; Sat, 15 Nov 2025 14:41:09 +0100 (CET) Received: by mail-pf1-f225.google.com with SMTP id d2e1a72fcca58-7b8eff36e3bso3684807b3a.2 for ; Sat, 15 Nov 2025 05:41:09 -0800 (PST) DKIM-Signature: v=1; a=rsa-sha256; c=relaxed/relaxed; d=iol.unh.edu; s=unh-iol; t=1763214069; x=1763818869; darn=dpdk.org; h=references:in-reply-to:cc:to:from:subject:message-id:date:from:to :cc:subject:date:message-id:reply-to; bh=wj1//jY+xOsbrzOSTaonQ3CLGqPkIrfGBu1wmblYagU=; b=cCTQxJxFgHY0b5XA3tUMCrD0lsg481mIDVJfaK/wrVyXRBUOh4sz251qsaDUfi9d7p SYXnlIP8YijMTedERKRdkbRrfK74dTDYKb7bMkSrdvxRYNUTCqRvbHlrILDpiIQi/VZF Xcl2pV6HwOvNulV1fdgP9hx06EgbJXpn9uxDk= X-Google-DKIM-Signature: v=1; a=rsa-sha256; c=relaxed/relaxed; d=1e100.net; s=20230601; t=1763214069; x=1763818869; h=references:in-reply-to:cc:to:from:subject:message-id:date:x-gm-gg :x-gm-message-state:from:to:cc:subject:date:message-id:reply-to; bh=wj1//jY+xOsbrzOSTaonQ3CLGqPkIrfGBu1wmblYagU=; b=cY1Q9x6McP6PQw8OGRgmHsJEZ51jHhqAhxBZzU2RFJ4v74o92z+PIAud+BIPF07YV6 f3pdoM61M/SPimtjU5DSh0izh8qo+PV/SmukOPDgLtV+5LJfkv7VaTLwOUU8aeK+H+VG E5xNf2VwC2D+fXZhhT/IYWWCXUwPJOJUbFGH6os2LWdTm+n/IqszpPxIGPuwrlTNy6uB fx/FmUOSstAodrlcb2wctp1vSX/SpMTTXv7EVb0teV0mfzik2FPpUgdS1PFI3pmEV5Og BqmFOfys9CAuql/lWKGoacBk0vEA4aGDvqnZQ6y3IKkBvPt4wOkj2bKtT6p7LZOCKS78 f7Hw== X-Gm-Message-State: AOJu0YyKh4kdbci0AStn+eO7HvH1BYUHJDvK+VRaj2LQ8Zx+UADzEVu5 VwKbI5SuQ6K8n12MvHpE5713+gRyxVOdIbUD6+hPoerhFitmT22AHvy98XFgZDEwxH08iTL770a Fs32gMggkff+ZYcXI1WCFL0lsb2EpgeV+mYUtUgjhrbk4RK4A6IUaZ99Ote77 X-Gm-Gg: ASbGnctyn/NpF7Z20ZVGm6G38AWrorN6dQy1pzDIARl86p99iBkH1NIqkWQLmrHG/5m KTBKbrK792LQyORIGj3zBbAIFEUp6iz0zmTzox6sunQI6Co5aY4nht570jJDBmpZDJIOg0492Dq WYcy/3ijuV1aoms8QOzvbwpLyDtKwh1SQ+O+Acc6/MaQntTgD30TNMJa+Cf8kLqkzwlYt3bNrYe 26sup7LH8nJznGj0zIiKO21pp+6OcTsGzl9OeU39NBWoNONCC19Va+8U/IKgqN6PUYwdBTE9SyT OPQMF3XVxFrfyB9jk+MvXzy3/yVCxnhvqrE3ajD6sgot6NYVxIpS6AaEvi2I8LTWAshFtWF7dqb MKcxy00LX X-Google-Smtp-Source: AGHT+IGoQ45eZQkuM/7izmjNUvDh17g+Mso127gh5VN4x+OImHSpGEgvIkcCJWnLbJRz7I8CGcDG9amIO17L X-Received: by 2002:a05:7022:221:b0:119:e56b:c758 with SMTP id a92af1059eb24-11b412000bdmr2923012c88.29.1763214068401; Sat, 15 Nov 2025 05:41:08 -0800 (PST) Received: from postal.iol.unh.edu (postal.iol.unh.edu. [2606:4100:3880:1234::84]) by smtp-relay.gmail.com with ESMTPS id a92af1059eb24-11bb154e6e2sm92174c88.7.2025.11.15.05.41.08 (version=TLS1_2 cipher=ECDHE-ECDSA-AES128-GCM-SHA256 bits=128/128); Sat, 15 Nov 2025 05:41:08 -0800 (PST) X-Relaying-Domain: iol.unh.edu Date: Sat, 15 Nov 2025 05:41:08 -0800 (PST) Message-ID: <691882f4.050a0220.183845.4606SMTPIN_ADDED_MISSING@mx.google.com> Received: from [172.21.0.3] (unknown [172.18.0.240]) by postal.iol.unh.edu (Postfix) with ESMTP id 237C360003F4; Sat, 15 Nov 2025 08:41:07 -0500 (EST) Subject: |SUCCESS| pw158816 [PATCH] net/e1000: add check for filter mask rang From: dpdklab@iol.unh.edu To: Test Report Cc: dpdk-test-reports@iol.unh.edu, Bruce Richardson In-Reply-To: <20251114182131.1296580-1-stephen@networkplumber.org> References: <20251114182131.1296580-1-stephen@networkplumber.org> Content-Type: text/plain X-BeenThere: test-report@dpdk.org X-Mailman-Version: 2.1.29 Precedence: list List-Id: automatic DPDK test reports List-Unsubscribe: , List-Archive: List-Post: List-Help: List-Subscribe: , Errors-To: test-report-bounces@dpdk.org Test-Label: iol-compile-amd64-testing Test-Status: SUCCESS http://dpdk.org/patch/158816 _Testing PASS_ Submitter: Stephen Hemminger Date: Friday, November 14 2025 18:21:31 DPDK git baseline: Repo:dpdk-next-net-intel Branch: master CommitID:e5357d609907d504f4705e4899f3dad43cb4b70f 158816 --> testing pass Upstream job id: Windows-Compile-DPDK-Native#32417 Test environment and result as below: +-------------------------------+--------------------+-------------------+------------------+-------------------------+ | Environment | dpdk_meson_compile | dpdk_msvc_compile | dpdk_compile_ovs | dpdk_llvm_clang_compile | +===============================+====================+===================+==================+=========================+ | Ubuntu 20.04 | PASS | SKIPPED | SKIPPED | SKIPPED | +-------------------------------+--------------------+-------------------+------------------+-------------------------+ | FreeBSD 14.2 | PASS | SKIPPED | SKIPPED | SKIPPED | +-------------------------------+--------------------+-------------------+------------------+-------------------------+ | CentOS Stream 10 | PASS | SKIPPED | SKIPPED | SKIPPED | +-------------------------------+--------------------+-------------------+------------------+-------------------------+ | CentOS Stream 9 | PASS | SKIPPED | SKIPPED | SKIPPED | +-------------------------------+--------------------+-------------------+------------------+-------------------------+ | Fedora Linux 42 | PASS | SKIPPED | PASS | SKIPPED | +-------------------------------+--------------------+-------------------+------------------+-------------------------+ | Debian GNU/Linux 12 | PASS | SKIPPED | SKIPPED | SKIPPED | +-------------------------------+--------------------+-------------------+------------------+-------------------------+ | openSUSE Leap 15.6 | PASS | SKIPPED | SKIPPED | SKIPPED | +-------------------------------+--------------------+-------------------+------------------+-------------------------+ | Red Hat Enterprise Linux 8.10 | PASS | SKIPPED | SKIPPED | SKIPPED | +-------------------------------+--------------------+-------------------+------------------+-------------------------+ | Red Hat Enterprise Linux 9.5 | PASS | SKIPPED | SKIPPED | SKIPPED | +-------------------------------+--------------------+-------------------+------------------+-------------------------+ | Ubuntu 24.04 | PASS | SKIPPED | PASS | SKIPPED | +-------------------------------+--------------------+-------------------+------------------+-------------------------+ | Ubuntu 22.04 | PASS | SKIPPED | SKIPPED | SKIPPED | +-------------------------------+--------------------+-------------------+------------------+-------------------------+ | Alpine Linux 3.22.0 | PASS | SKIPPED | SKIPPED | SKIPPED | +-------------------------------+--------------------+-------------------+------------------+-------------------------+ | Windows Server 2022 | SKIPPED | PASS | SKIPPED | PASS | +-------------------------------+--------------------+-------------------+------------------+-------------------------+ Ubuntu 20.04 Kernel: 4.19 Compiler: gcc gcc (Ubuntu 9.4.0-1ubuntu1~20.04.2) 9.4.0 FreeBSD 14.2 Kernel: 14.2-RELEASE Compiler: clang 18.1.6 CentOS Stream 10 Kernel: 5.15 Compiler: gcc gcc (GCC) 14.2.1 20250110 (Red Hat 14.2.1-8) CentOS Stream 9 Kernel: 5.15 Compiler: gcc gcc (GCC) 11.5.0 20240719 (Red Hat 11.5.0-11) Fedora Linux 42 Kernel: 5.15 Compiler: clang gcc (GCC) 15.2.1 20250808 (Red Hat 15.2.1-1) Debian GNU/Linux 12 Kernel: 5.15 Compiler: gcc gcc (Debian 12.2.0-14+deb12u1) 12.2.0 openSUSE Leap 15.6 Kernel: 5.15 Compiler: gcc gcc (SUSE Linux) 7.5.0 Red Hat Enterprise Linux 8.10 Kernel: 5.15 Compiler: gcc gcc (GCC) 8.5.0 20210514 (Red Hat 8.5.0-22) Red Hat Enterprise Linux 9.5 Kernel: 5.15 Compiler: gcc gcc (GCC) 11.5.0 20240719 (Red Hat 11.5.0-2) Ubuntu 24.04 Kernel: 5.15 Compiler: gcc gcc (Ubuntu 13.3.0-6ubuntu2~24.04) 13.3.0 Ubuntu 22.04 Kernel: 5.15 Compiler: gcc gcc (Ubuntu 11.4.0-1ubuntu1~22.04) 11.4.0 Alpine Linux 3.22.0 Kernel: 5.15 Compiler: gcc gcc (Alpine 14.2.0) 14.2.0 Windows Server 2022 Kernel: 10.0.20348.2031 Compiler: clang 15.0.7, gcc 14.1.0 (MinGW), and MSVC VS 19.39.33521 To view detailed results, visit: https://lab.dpdk.org/results/dashboard/patchsets/34598/ UNH-IOL DPDK Community Lab To manage your email subscriptions, visit: https://lab.dpdk.org/results/dashboard/preferences/subscriptions/