From mboxrd@z Thu Jan 1 00:00:00 1970 Return-Path: Received: from mails.dpdk.org (mails.dpdk.org [217.70.189.124]) by inbox.dpdk.org (Postfix) with ESMTP id 2905948B1A for ; Sat, 15 Nov 2025 14:44:34 +0100 (CET) Received: from mails.dpdk.org (localhost [127.0.0.1]) by mails.dpdk.org (Postfix) with ESMTP id 226F0402A2; Sat, 15 Nov 2025 14:44:34 +0100 (CET) Received: from mail-yw1-f227.google.com (mail-yw1-f227.google.com [209.85.128.227]) by mails.dpdk.org (Postfix) with ESMTP id A024C402A2 for ; Sat, 15 Nov 2025 14:44:32 +0100 (CET) Received: by mail-yw1-f227.google.com with SMTP id 00721157ae682-71d71bcac45so26552257b3.0 for ; Sat, 15 Nov 2025 05:44:32 -0800 (PST) DKIM-Signature: v=1; a=rsa-sha256; c=relaxed/relaxed; d=iol.unh.edu; s=unh-iol; t=1763214272; x=1763819072; darn=dpdk.org; h=references:in-reply-to:cc:to:from:subject:message-id:date:from:to :cc:subject:date:message-id:reply-to; bh=XwyUU75p4fCbHSfd2gN/WbDJBskVdXYwc7IG+Mh09n8=; b=XFtcG1WXH613JVMzvqA2YI+ROMClhRbkQKOtvov9iNt0bgQLHL4E/CWkRZ5F+DgNpP OVzAXYmSmCxtXYQ2E+ItYrB4c9mPHcvxNeeRa7qy7pm52IXC4/0ACsCfJYmxPgBpa5mH 2DwBTgJ0gi7GzqTUZW6NHG8imVR4ReRuqPSow= X-Google-DKIM-Signature: v=1; a=rsa-sha256; c=relaxed/relaxed; d=1e100.net; s=20230601; t=1763214272; x=1763819072; h=references:in-reply-to:cc:to:from:subject:message-id:date:x-gm-gg :x-gm-message-state:from:to:cc:subject:date:message-id:reply-to; bh=XwyUU75p4fCbHSfd2gN/WbDJBskVdXYwc7IG+Mh09n8=; b=rRcTTcCrrL3so2f8DWTSaXeTrW4FMNE9eiRRz/CPOq7yDj98jGljH2ARoSSU8ZY3gC jo2qZqH3nMiMcAEWUCbwSYDpipjUMyl/vliUiJq9At7cg3oRo5SE2Klhxcjs8V/vk3ej FcV4BcD3P7/dHV93ROwm1EF0I3DdBmptTCrzmIYwvhoa1uZ044tXsx+oEbMebpk8bgOq bCpr9cjg7ccO+zc3HhTVKyHlTDu3PEs/ctX2WY0fA3bsTdcdBf/j6SzG4gI4gydJSPZo /5+eocn1RQgWY/M+8mr0gQdyAyWqCsR+M25r4+XJxzRSpkIYDjs+2TU6evXk/M12jpd2 sudw== X-Gm-Message-State: AOJu0Ywhk6JefmIaDLujmmzXJ2DNNhm9a31J3cjNOp32uA2imKx+OfLx TP+HGP/I98vzTv/Zmae0wOe1KUVMQXQ4zuJOKOZf8BEglynRe3YBqAXib58vejVDDXUfikPy6yw uO1V2hrzbzhWXBu0paWdqrewXudmRCbLXvA1aueK3Gc6e X-Gm-Gg: ASbGncvROvS7QnWtIE+DhhgH0su7AUDqEVI/ujcJtJwR30xpHsaCHe72MFYDu8DToTD G8lU3KIbyyfvYHVUsyTksfTRCpi2uRZoCRDby/6OFIAl2JzljjVMInpeNISK9b4GNc3YZ1qIW6+ 9S8k98dIlLcdF2d2/Q2JUCCfv6UTQsflyAezCM+TK7VkTFbf0eCdI95e03A5t2gkfXOfCr5UPUa 8nYP7A/9VXiMip7fhyLqsYUpgF+wtyn0iulIps1NnEH3NYnm2IFg3rGWjj+nHxkzh4aW1W/mw45 rZXB5mYqDrX2LIfESc7ZhDLEveab8B8XXu/OZ1AyOK1XGg8XO/LZqyoEkIcAxP1oRaqTGc8/Wyx 4U/kKhI2A/a+Gs7hDNKn+2Ee3Y2aGDF8= X-Google-Smtp-Source: AGHT+IHBK5ir77u/N1o47uB34LqN5Kope2Jx542OqBicetEFS1mU8oqWxR7+CAHpI5x9YYi0K5cR7gkFlSJb X-Received: by 2002:a05:690c:688a:b0:786:472c:1021 with SMTP id 00721157ae682-78929f3a3a2mr53367277b3.51.1763214271976; Sat, 15 Nov 2025 05:44:31 -0800 (PST) Received: from postal.iol.unh.edu (postal.iol.unh.edu. [132.177.123.84]) by smtp-relay.gmail.com with ESMTPS id 00721157ae682-78821df1c8dsm4340487b3.4.2025.11.15.05.44.31 (version=TLS1_2 cipher=ECDHE-ECDSA-AES128-GCM-SHA256 bits=128/128); Sat, 15 Nov 2025 05:44:31 -0800 (PST) X-Relaying-Domain: iol.unh.edu Date: Sat, 15 Nov 2025 05:44:31 -0800 (PST) Message-ID: <691883bf.050a0220.10e4fd.56feSMTPIN_ADDED_MISSING@mx.google.com> Received: from [172.21.0.3] (unknown [172.18.0.240]) by postal.iol.unh.edu (Postfix) with ESMTP id 9F0D56051830; Sat, 15 Nov 2025 08:44:31 -0500 (EST) Subject: |SUCCESS| pw158819 [PATCH] net/mlx5: improve error on completing tab From: dpdklab@iol.unh.edu To: Test Report Cc: dpdk-test-reports@iol.unh.edu In-Reply-To: <20251114192712.1637369-1-dsosnowski@nvidia.com> References: <20251114192712.1637369-1-dsosnowski@nvidia.com> Content-Type: text/plain X-BeenThere: test-report@dpdk.org X-Mailman-Version: 2.1.29 Precedence: list List-Id: automatic DPDK test reports List-Unsubscribe: , List-Archive: List-Post: List-Help: List-Subscribe: , Errors-To: test-report-bounces@dpdk.org Test-Label: iol-compile-amd64-testing Test-Status: SUCCESS http://dpdk.org/patch/158819 _Testing PASS_ Submitter: Dariusz Sosnowski Date: Friday, November 14 2025 19:27:12 DPDK git baseline: Repo:dpdk-next-net-mlx Branch: master CommitID:ae657d56b1f0ea979b3f611edf28d773efc2ddcf 158819 --> testing pass Upstream job id: Windows-Compile-DPDK-Native#32419 Test environment and result as below: +-------------------------------+--------------------+-------------------------+-------------------+------------------+----------------------+ | Environment | dpdk_meson_compile | dpdk_llvm_clang_compile | dpdk_msvc_compile | dpdk_compile_ovs | dpdk_mingw64_compile | +===============================+====================+=========================+===================+==================+======================+ | Ubuntu 20.04 | PASS | SKIPPED | SKIPPED | SKIPPED | SKIPPED | +-------------------------------+--------------------+-------------------------+-------------------+------------------+----------------------+ | FreeBSD 14.2 | PASS | SKIPPED | SKIPPED | SKIPPED | SKIPPED | +-------------------------------+--------------------+-------------------------+-------------------+------------------+----------------------+ | CentOS Stream 9 | PASS | SKIPPED | SKIPPED | SKIPPED | SKIPPED | +-------------------------------+--------------------+-------------------------+-------------------+------------------+----------------------+ | CentOS Stream 10 | PASS | SKIPPED | SKIPPED | SKIPPED | SKIPPED | +-------------------------------+--------------------+-------------------------+-------------------+------------------+----------------------+ | Debian GNU/Linux 12 | PASS | SKIPPED | SKIPPED | SKIPPED | SKIPPED | +-------------------------------+--------------------+-------------------------+-------------------+------------------+----------------------+ | Fedora Linux 42 | PASS | SKIPPED | SKIPPED | PASS | SKIPPED | +-------------------------------+--------------------+-------------------------+-------------------+------------------+----------------------+ | openSUSE Leap 15.6 | PASS | SKIPPED | SKIPPED | SKIPPED | SKIPPED | +-------------------------------+--------------------+-------------------------+-------------------+------------------+----------------------+ | Red Hat Enterprise Linux 8.10 | PASS | SKIPPED | SKIPPED | SKIPPED | SKIPPED | +-------------------------------+--------------------+-------------------------+-------------------+------------------+----------------------+ | Red Hat Enterprise Linux 9.5 | PASS | SKIPPED | SKIPPED | SKIPPED | SKIPPED | +-------------------------------+--------------------+-------------------------+-------------------+------------------+----------------------+ | Ubuntu 22.04 | PASS | SKIPPED | SKIPPED | SKIPPED | SKIPPED | +-------------------------------+--------------------+-------------------------+-------------------+------------------+----------------------+ | Ubuntu 24.04 | PASS | SKIPPED | SKIPPED | PASS | SKIPPED | +-------------------------------+--------------------+-------------------------+-------------------+------------------+----------------------+ | Alpine Linux 3.22.0 | PASS | SKIPPED | SKIPPED | SKIPPED | SKIPPED | +-------------------------------+--------------------+-------------------------+-------------------+------------------+----------------------+ | Windows Server 2022 | SKIPPED | PASS | PASS | SKIPPED | PASS | +-------------------------------+--------------------+-------------------------+-------------------+------------------+----------------------+ Ubuntu 20.04 Kernel: 4.19 Compiler: gcc gcc (Ubuntu 9.4.0-1ubuntu1~20.04.2) 9.4.0 FreeBSD 14.2 Kernel: 14.2-RELEASE Compiler: clang 18.1.6 CentOS Stream 9 Kernel: 5.15 Compiler: gcc gcc (GCC) 11.5.0 20240719 (Red Hat 11.5.0-11) CentOS Stream 10 Kernel: 5.15 Compiler: gcc gcc (GCC) 14.2.1 20250110 (Red Hat 14.2.1-8) Debian GNU/Linux 12 Kernel: 5.15 Compiler: gcc gcc (Debian 12.2.0-14+deb12u1) 12.2.0 Fedora Linux 42 Kernel: 5.15 Compiler: clang gcc (GCC) 15.2.1 20250808 (Red Hat 15.2.1-1) openSUSE Leap 15.6 Kernel: 5.15 Compiler: gcc gcc (SUSE Linux) 7.5.0 Red Hat Enterprise Linux 8.10 Kernel: 5.15 Compiler: gcc gcc (GCC) 8.5.0 20210514 (Red Hat 8.5.0-22) Red Hat Enterprise Linux 9.5 Kernel: 5.15 Compiler: gcc gcc (GCC) 11.5.0 20240719 (Red Hat 11.5.0-2) Ubuntu 22.04 Kernel: 5.15 Compiler: gcc gcc (Ubuntu 11.4.0-1ubuntu1~22.04) 11.4.0 Ubuntu 24.04 Kernel: 5.15 Compiler: gcc gcc (Ubuntu 13.3.0-6ubuntu2~24.04) 13.3.0 Alpine Linux 3.22.0 Kernel: 5.15 Compiler: gcc gcc (Alpine 14.2.0) 14.2.0 Windows Server 2022 Kernel: 10.0.20348.2031 Compiler: clang 15.0.7, gcc 14.1.0 (MinGW), and MSVC VS 19.39.33521 To view detailed results, visit: https://lab.dpdk.org/results/dashboard/patchsets/34601/ UNH-IOL DPDK Community Lab To manage your email subscriptions, visit: https://lab.dpdk.org/results/dashboard/preferences/subscriptions/