From mboxrd@z Thu Jan 1 00:00:00 1970 Return-Path: Received: from mails.dpdk.org (mails.dpdk.org [217.70.189.124]) by inbox.dpdk.org (Postfix) with ESMTP id A02EA48B1A for ; Sat, 15 Nov 2025 14:48:38 +0100 (CET) Received: from mails.dpdk.org (localhost [127.0.0.1]) by mails.dpdk.org (Postfix) with ESMTP id 80C30402A2; Sat, 15 Nov 2025 14:48:38 +0100 (CET) Received: from mail-pl1-f226.google.com (mail-pl1-f226.google.com [209.85.214.226]) by mails.dpdk.org (Postfix) with ESMTP id 8D5CB402A2 for ; Sat, 15 Nov 2025 14:48:36 +0100 (CET) Received: by mail-pl1-f226.google.com with SMTP id d9443c01a7336-298144fb9bcso31276665ad.0 for ; Sat, 15 Nov 2025 05:48:36 -0800 (PST) DKIM-Signature: v=1; a=rsa-sha256; c=relaxed/relaxed; d=iol.unh.edu; s=unh-iol; t=1763214516; x=1763819316; darn=dpdk.org; h=references:in-reply-to:cc:to:from:subject:message-id:date:from:to :cc:subject:date:message-id:reply-to; bh=fOmWfP6oUYn2a6bgt/TD7ZuXCd1cPLuWpkOuzULqP/Q=; b=KbmCAnHOC7ZG1Ujk67Gdp5ujpTuwCuAj/d8J7zE4XZayzACI+EKBa2pEO9nDO0Y1FZ ZODt2ZDuGxj/fFY6MshIwE8BnSNIskQ2m4M3zstwsG1RRppCXIDvfKm9qRR5nYszMc18 p2z4mcBar5Wq7UgfCtzg20z1wVSvdgfoUIWe0= X-Google-DKIM-Signature: v=1; a=rsa-sha256; c=relaxed/relaxed; d=1e100.net; s=20230601; t=1763214516; x=1763819316; h=references:in-reply-to:cc:to:from:subject:message-id:date:x-gm-gg :x-gm-message-state:from:to:cc:subject:date:message-id:reply-to; bh=fOmWfP6oUYn2a6bgt/TD7ZuXCd1cPLuWpkOuzULqP/Q=; b=tynfYdIqVDd2VJaIxbsOATvaeyrSmrYrIz6nwDHOk/obMl3O9TTaPALvajqShUN36J 4DUKwg8EVv53MwanvQubtlt+nIXcsn6LBZOlklX0VEdduoJQwaSEly0pd1olpTMcAzB2 mcR2SM4A0Hh1JW5gHZZrmIKOIBCpGCJZQK7EriE8H2WBlwlLSohCr6HJS0BsU+v65Kri r+BiVHTcI4AcOFjEIrcGalXQeX7yYA+JuBmNCttPWvoP2Jnz4lM997HSefW/HI4/AkVC 753pY+jNGCEwFA2QpnycoUKD32zLaPhj9Z6gclndwjcXCfftOWoqjxavY5gODroxyIjN PObg== X-Gm-Message-State: AOJu0YxFUHjnzmNh4Im5xh68T+zlfLv2WLr0u+ifff1Qn4PgxgkV/+TD wVONVBnZmSlyAEskzwRviFErK4q3WdDn6YUKdN67skpHCXBMhUDnfU5sgnn6Zf6yjb41ovnWwTI P3fDsNz44smK21CywOqEeljM6Qb479u4HTw2KocQQTjHewBmEa4zj+akjJkUX X-Gm-Gg: ASbGncsq9dJZnkuwQfEH+c6BO6FHsBPIMs6H1jYdP6Y7BjB6kXcM6VoFzj4AwjG00g8 VDxTelysnDvBES/buvJx9J6gflEfzLiMCz7zrZQupKZ/A17PTWDWmh07gn2DylXkcUYw/uNUjBR PInUrSCKaDLxunBTy03xL1uOqB9aZtwyZ2BiPL602QDveq+gOSnyHp4s/sThtLaDeQJrRwQZM9N f9feeHBy6kYJKAJ1/PGmifX1uKzqE7mMn6vhcp4QvXa0R7XshC103ZQbmXvx+2AL8Jzw+N+Kbvi RKkh/USVL4haehN+y1YxCrVVTcscWKDZSgXydA9ktIi105k5DYKJQjN+ZJ+QKnYvyGSjbzPgbiU i0XHVPMCk X-Google-Smtp-Source: AGHT+IGjALd8OICTvsNG005ydTgRSf5g5h3Gna7anJ8rdhli+ietCX7V7Q0gBMPxgxTRQ/Wc2bw8ltxDHJfB X-Received: by 2002:a17:903:1a2e:b0:295:f508:9d32 with SMTP id d9443c01a7336-2986a733373mr82335745ad.37.1763214515686; Sat, 15 Nov 2025 05:48:35 -0800 (PST) Received: from postal.iol.unh.edu (postal.iol.unh.edu. [2606:4100:3880:1234::84]) by smtp-relay.gmail.com with ESMTPS id d9443c01a7336-2985fde5b78sm7760835ad.37.2025.11.15.05.48.35 (version=TLS1_2 cipher=ECDHE-ECDSA-AES128-GCM-SHA256 bits=128/128); Sat, 15 Nov 2025 05:48:35 -0800 (PST) X-Relaying-Domain: iol.unh.edu Date: Sat, 15 Nov 2025 05:48:35 -0800 (PST) Message-ID: <691884b3.170a0220.260962.6419SMTPIN_ADDED_MISSING@mx.google.com> Received: from [172.21.0.2] (unknown [172.18.0.240]) by postal.iol.unh.edu (Postfix) with ESMTP id DF0EC6051830; Sat, 15 Nov 2025 08:48:34 -0500 (EST) Subject: |SUCCESS| pw158820 [PATCH] [v2] devtools: ignore new warnings on rep From: dpdklab@iol.unh.edu To: Test Report Cc: dpdk-test-reports@iol.unh.edu In-Reply-To: <20251114200640.1639056-1-dsosnowski@nvidia.com> References: <20251114200640.1639056-1-dsosnowski@nvidia.com> Content-Type: text/plain X-BeenThere: test-report@dpdk.org X-Mailman-Version: 2.1.29 Precedence: list List-Id: automatic DPDK test reports List-Unsubscribe: , List-Archive: List-Post: List-Help: List-Subscribe: , Errors-To: test-report-bounces@dpdk.org Test-Label: iol-compile-amd64-testing Test-Status: SUCCESS http://dpdk.org/patch/158820 _Testing PASS_ Submitter: Dariusz Sosnowski Date: Friday, November 14 2025 20:06:40 DPDK git baseline: Repo:dpdk Branch: master CommitID:be0112878b4fc3a1b918370ed2fe615c52039d77 158820 --> testing pass Upstream job id: Windows-Compile-DPDK-Native#32420 Test environment and result as below: +-------------------------------+--------------------+-------------------+------------------+-------------------------+ | Environment | dpdk_meson_compile | dpdk_msvc_compile | dpdk_compile_ovs | dpdk_llvm_clang_compile | +===============================+====================+===================+==================+=========================+ | FreeBSD 14.2 | PASS | SKIPPED | SKIPPED | SKIPPED | +-------------------------------+--------------------+-------------------+------------------+-------------------------+ | Ubuntu 20.04 | PASS | SKIPPED | SKIPPED | SKIPPED | +-------------------------------+--------------------+-------------------+------------------+-------------------------+ | CentOS Stream 9 | PASS | SKIPPED | SKIPPED | SKIPPED | +-------------------------------+--------------------+-------------------+------------------+-------------------------+ | CentOS Stream 10 | PASS | SKIPPED | SKIPPED | SKIPPED | +-------------------------------+--------------------+-------------------+------------------+-------------------------+ | Debian GNU/Linux 12 | PASS | SKIPPED | SKIPPED | SKIPPED | +-------------------------------+--------------------+-------------------+------------------+-------------------------+ | Fedora Linux 42 | PASS | SKIPPED | PASS | SKIPPED | +-------------------------------+--------------------+-------------------+------------------+-------------------------+ | openSUSE Leap 15.6 | PASS | SKIPPED | SKIPPED | SKIPPED | +-------------------------------+--------------------+-------------------+------------------+-------------------------+ | Red Hat Enterprise Linux 8.10 | PASS | SKIPPED | SKIPPED | SKIPPED | +-------------------------------+--------------------+-------------------+------------------+-------------------------+ | Red Hat Enterprise Linux 9.5 | PASS | SKIPPED | SKIPPED | SKIPPED | +-------------------------------+--------------------+-------------------+------------------+-------------------------+ | Ubuntu 22.04 | PASS | SKIPPED | SKIPPED | SKIPPED | +-------------------------------+--------------------+-------------------+------------------+-------------------------+ | Ubuntu 24.04 | PASS | SKIPPED | PASS | SKIPPED | +-------------------------------+--------------------+-------------------+------------------+-------------------------+ | Alpine Linux 3.22.0 | PASS | SKIPPED | SKIPPED | SKIPPED | +-------------------------------+--------------------+-------------------+------------------+-------------------------+ | Windows Server 2022 | SKIPPED | PASS | SKIPPED | PASS | +-------------------------------+--------------------+-------------------+------------------+-------------------------+ FreeBSD 14.2 Kernel: 14.2-RELEASE Compiler: clang 18.1.6 Ubuntu 20.04 Kernel: 4.19 Compiler: gcc gcc (Ubuntu 9.4.0-1ubuntu1~20.04.2) 9.4.0 CentOS Stream 9 Kernel: 5.15 Compiler: gcc gcc (GCC) 11.5.0 20240719 (Red Hat 11.5.0-11) CentOS Stream 10 Kernel: 5.15 Compiler: gcc gcc (GCC) 14.2.1 20250110 (Red Hat 14.2.1-8) Debian GNU/Linux 12 Kernel: 5.15 Compiler: gcc gcc (Debian 12.2.0-14+deb12u1) 12.2.0 Fedora Linux 42 Kernel: 5.15 Compiler: clang gcc (GCC) 15.2.1 20250808 (Red Hat 15.2.1-1) openSUSE Leap 15.6 Kernel: 5.15 Compiler: gcc gcc (SUSE Linux) 7.5.0 Red Hat Enterprise Linux 8.10 Kernel: 5.15 Compiler: gcc gcc (GCC) 8.5.0 20210514 (Red Hat 8.5.0-22) Red Hat Enterprise Linux 9.5 Kernel: 5.15 Compiler: gcc gcc (GCC) 11.5.0 20240719 (Red Hat 11.5.0-2) Ubuntu 22.04 Kernel: 5.15 Compiler: gcc gcc (Ubuntu 11.4.0-1ubuntu1~22.04) 11.4.0 Ubuntu 24.04 Kernel: 5.15 Compiler: gcc gcc (Ubuntu 13.3.0-6ubuntu2~24.04) 13.3.0 Alpine Linux 3.22.0 Kernel: 5.15 Compiler: gcc gcc (Alpine 14.2.0) 14.2.0 Windows Server 2022 Kernel: 10.0.20348.2031 Compiler: clang 15.0.7, gcc 14.1.0 (MinGW), and MSVC VS 19.39.33521 To view detailed results, visit: https://lab.dpdk.org/results/dashboard/patchsets/34602/ UNH-IOL DPDK Community Lab To manage your email subscriptions, visit: https://lab.dpdk.org/results/dashboard/preferences/subscriptions/