From mboxrd@z Thu Jan 1 00:00:00 1970 Return-Path: Received: from mails.dpdk.org (mails.dpdk.org [217.70.189.124]) by inbox.dpdk.org (Postfix) with ESMTP id B047048B1A for ; Sat, 15 Nov 2025 14:50:04 +0100 (CET) Received: from mails.dpdk.org (localhost [127.0.0.1]) by mails.dpdk.org (Postfix) with ESMTP id A8EE6402A2; Sat, 15 Nov 2025 14:50:04 +0100 (CET) Received: from mail-io1-f98.google.com (mail-io1-f98.google.com [209.85.166.98]) by mails.dpdk.org (Postfix) with ESMTP id 090B5402A2 for ; Sat, 15 Nov 2025 14:50:03 +0100 (CET) Received: by mail-io1-f98.google.com with SMTP id ca18e2360f4ac-948c66f367cso192747239f.2 for ; Sat, 15 Nov 2025 05:50:02 -0800 (PST) DKIM-Signature: v=1; a=rsa-sha256; c=relaxed/relaxed; d=iol.unh.edu; s=unh-iol; t=1763214602; x=1763819402; darn=dpdk.org; h=references:in-reply-to:cc:to:from:subject:message-id:date:from:to :cc:subject:date:message-id:reply-to; bh=zb/S+wiP6uZhxexswj9StTmxjy0TJJEYV6Va394g1UI=; b=QId42PGONnmieJ8QNjaHH/XQ5MAOyRrhWJss/vl6owDTNoa9aY6ISosicxek9UR5Yv /10MfLB08RumvWyqvKqu+15lzCL6SW+ku3iYf1tNkl6g9b+8YgRMFVCrtmdVIEO3B52L nebHAq1WhqwmWziNRz9x0jCiBf6gKiPt5x7sA= X-Google-DKIM-Signature: v=1; a=rsa-sha256; c=relaxed/relaxed; d=1e100.net; s=20230601; t=1763214602; x=1763819402; h=references:in-reply-to:cc:to:from:subject:message-id:date:x-gm-gg :x-gm-message-state:from:to:cc:subject:date:message-id:reply-to; bh=zb/S+wiP6uZhxexswj9StTmxjy0TJJEYV6Va394g1UI=; b=q6V+gvpqA161qs5lgvZmuo/719Hb4WvmvNvPdAFk40ZYxngVTiCwCFPUlq4bo6+7yf a7MKmM7G/BHy0CNHJvNoMuwxxfjPMNAZqvdrOFGLSsadk8abOfyJK5yoFD6z7DH4aMkY +vWvkiev2fttVIoWyLRyDgnWy4dBTreKEKxj0GMI60YaJYtJ6bgv2G/u7b0XMwsyNs5t YpAcARCXOjQntUwA+iMPVLl5mK43bfhn0IgETIzsaGcmKpvkrsnw63rXaVs+JM+NVnBi hq7iWzRxdw8D+u5M+dRgb9ujF71N0JVtNBcLgUDY7YvePcGRrSo64Jh86CnZP1zvrh71 a/mA== X-Gm-Message-State: AOJu0Yxm1NGso4/KczmTcQarF9xCqumxuw6EbhXiRxs0w32mAIOQck+3 fTxIH5ClPkzwhWjLH3Wjd1atvbTuAFnytKXeaMipx9Y05Fj+8CNRc6BWx7aYRiu5Foj/jGDshyz XkRVL91wiDKnE0vMt1hyoHIFgCAZiRGegfngf7f2r1YbOtMnSLVFIPgRApgh8 X-Gm-Gg: ASbGnct1bBmDJ+Ie/68mmgO3nrw+Awd2xW1U7jz5ylDae0aFWLvsraLnCl7ALW22uAc iVjHiqLTXgiv1AvYVjZA/RQcE0ppoDBO6qhH+8cGoWLMmkDLddwU5ByoWzJ/eQAk6Sm2Yw8q1nI lc08qVYuLWKpRqGNMC0bNKKjSMQiBJJH9M3M2XbKuOAagEAXMCpC1wCDvpWqh2/J5Sfferl76dN A4dTzPXMlxV9/QO+QtnaT0jrGvng5m8PCAMbbiplgbuX4vmNaBZ1Lq+2dTJeXVK7bK4KvllvFos fGnvdhhJMQ2VzcvnGkVdOMykO8LVuw2/sanUCCwQJUpXCC3Bx7xIIFzU8c21TCDbE1hYjU3vXkk z2hr4YQYL X-Google-Smtp-Source: AGHT+IFZakIUqMIkjt/A5ufdO0CTktYqL8b+dLPbIbtMnxzEjVZANMJCyGC571Akmax7Rq/G4laB7YoDkM7r X-Received: by 2002:a02:c004:0:b0:5b7:c784:53a5 with SMTP id 8926c6da1cb9f-5b7c9a3e6f2mr1668165173.0.1763214602321; Sat, 15 Nov 2025 05:50:02 -0800 (PST) Received: from postal.iol.unh.edu (postal.iol.unh.edu. [2606:4100:3880:1234::84]) by smtp-relay.gmail.com with ESMTPS id 8926c6da1cb9f-5b7bd334958sm429730173.29.2025.11.15.05.50.02 (version=TLS1_2 cipher=ECDHE-ECDSA-AES128-GCM-SHA256 bits=128/128); Sat, 15 Nov 2025 05:50:02 -0800 (PST) X-Relaying-Domain: iol.unh.edu Date: Sat, 15 Nov 2025 05:50:02 -0800 (PST) Message-ID: <6918850a.050a0220.1043ee.4703SMTPIN_ADDED_MISSING@mx.google.com> Received: from [172.21.0.2] (unknown [172.18.0.240]) by postal.iol.unh.edu (Postfix) with ESMTP id D6F9D6051830; Sat, 15 Nov 2025 08:50:01 -0500 (EST) Subject: |SUCCESS| pw158820 [PATCH] [v2] devtools: ignore new warnings on rep From: dpdklab@iol.unh.edu To: Test Report Cc: dpdk-test-reports@iol.unh.edu In-Reply-To: <20251114200640.1639056-1-dsosnowski@nvidia.com> References: <20251114200640.1639056-1-dsosnowski@nvidia.com> Content-Type: text/plain X-BeenThere: test-report@dpdk.org X-Mailman-Version: 2.1.29 Precedence: list List-Id: automatic DPDK test reports List-Unsubscribe: , List-Archive: List-Post: List-Help: List-Subscribe: , Errors-To: test-report-bounces@dpdk.org Test-Label: iol-compile-amd64-testing Test-Status: SUCCESS http://dpdk.org/patch/158820 _Testing PASS_ Submitter: Dariusz Sosnowski Date: Friday, November 14 2025 20:06:40 DPDK git baseline: Repo:dpdk Branch: master CommitID:be0112878b4fc3a1b918370ed2fe615c52039d77 158820 --> testing pass Upstream job id: Windows-Compile-DPDK-Native#32421 Test environment and result as below: +-------------------------------+--------------------+-------------------+------------------+-------------------------+----------------------+ | Environment | dpdk_meson_compile | dpdk_msvc_compile | dpdk_compile_ovs | dpdk_llvm_clang_compile | dpdk_mingw64_compile | +===============================+====================+===================+==================+=========================+======================+ | FreeBSD 14.2 | PASS | SKIPPED | SKIPPED | SKIPPED | SKIPPED | +-------------------------------+--------------------+-------------------+------------------+-------------------------+----------------------+ | Ubuntu 20.04 | PASS | SKIPPED | SKIPPED | SKIPPED | SKIPPED | +-------------------------------+--------------------+-------------------+------------------+-------------------------+----------------------+ | CentOS Stream 9 | PASS | SKIPPED | SKIPPED | SKIPPED | SKIPPED | +-------------------------------+--------------------+-------------------+------------------+-------------------------+----------------------+ | CentOS Stream 10 | PASS | SKIPPED | SKIPPED | SKIPPED | SKIPPED | +-------------------------------+--------------------+-------------------+------------------+-------------------------+----------------------+ | Debian GNU/Linux 12 | PASS | SKIPPED | SKIPPED | SKIPPED | SKIPPED | +-------------------------------+--------------------+-------------------+------------------+-------------------------+----------------------+ | Fedora Linux 42 | PASS | SKIPPED | PASS | SKIPPED | SKIPPED | +-------------------------------+--------------------+-------------------+------------------+-------------------------+----------------------+ | openSUSE Leap 15.6 | PASS | SKIPPED | SKIPPED | SKIPPED | SKIPPED | +-------------------------------+--------------------+-------------------+------------------+-------------------------+----------------------+ | Red Hat Enterprise Linux 8.10 | PASS | SKIPPED | SKIPPED | SKIPPED | SKIPPED | +-------------------------------+--------------------+-------------------+------------------+-------------------------+----------------------+ | Red Hat Enterprise Linux 9.5 | PASS | SKIPPED | SKIPPED | SKIPPED | SKIPPED | +-------------------------------+--------------------+-------------------+------------------+-------------------------+----------------------+ | Ubuntu 22.04 | PASS | SKIPPED | SKIPPED | SKIPPED | SKIPPED | +-------------------------------+--------------------+-------------------+------------------+-------------------------+----------------------+ | Ubuntu 24.04 | PASS | SKIPPED | PASS | SKIPPED | SKIPPED | +-------------------------------+--------------------+-------------------+------------------+-------------------------+----------------------+ | Alpine Linux 3.22.0 | PASS | SKIPPED | SKIPPED | SKIPPED | SKIPPED | +-------------------------------+--------------------+-------------------+------------------+-------------------------+----------------------+ | Windows Server 2022 | SKIPPED | PASS | SKIPPED | PASS | PASS | +-------------------------------+--------------------+-------------------+------------------+-------------------------+----------------------+ FreeBSD 14.2 Kernel: 14.2-RELEASE Compiler: clang 18.1.6 Ubuntu 20.04 Kernel: 4.19 Compiler: gcc gcc (Ubuntu 9.4.0-1ubuntu1~20.04.2) 9.4.0 CentOS Stream 9 Kernel: 5.15 Compiler: gcc gcc (GCC) 11.5.0 20240719 (Red Hat 11.5.0-11) CentOS Stream 10 Kernel: 5.15 Compiler: gcc gcc (GCC) 14.2.1 20250110 (Red Hat 14.2.1-8) Debian GNU/Linux 12 Kernel: 5.15 Compiler: gcc gcc (Debian 12.2.0-14+deb12u1) 12.2.0 Fedora Linux 42 Kernel: 5.15 Compiler: clang gcc (GCC) 15.2.1 20250808 (Red Hat 15.2.1-1) openSUSE Leap 15.6 Kernel: 5.15 Compiler: gcc gcc (SUSE Linux) 7.5.0 Red Hat Enterprise Linux 8.10 Kernel: 5.15 Compiler: gcc gcc (GCC) 8.5.0 20210514 (Red Hat 8.5.0-22) Red Hat Enterprise Linux 9.5 Kernel: 5.15 Compiler: gcc gcc (GCC) 11.5.0 20240719 (Red Hat 11.5.0-2) Ubuntu 22.04 Kernel: 5.15 Compiler: gcc gcc (Ubuntu 11.4.0-1ubuntu1~22.04) 11.4.0 Ubuntu 24.04 Kernel: 5.15 Compiler: gcc gcc (Ubuntu 13.3.0-6ubuntu2~24.04) 13.3.0 Alpine Linux 3.22.0 Kernel: 5.15 Compiler: gcc gcc (Alpine 14.2.0) 14.2.0 Windows Server 2022 Kernel: 10.0.20348.2031 Compiler: clang 15.0.7, gcc 14.1.0 (MinGW), and MSVC VS 19.39.33521 To view detailed results, visit: https://lab.dpdk.org/results/dashboard/patchsets/34602/ UNH-IOL DPDK Community Lab To manage your email subscriptions, visit: https://lab.dpdk.org/results/dashboard/preferences/subscriptions/