From mboxrd@z Thu Jan 1 00:00:00 1970 Return-Path: Received: from mails.dpdk.org (mails.dpdk.org [217.70.189.124]) by inbox.dpdk.org (Postfix) with ESMTP id 360D648B1A for ; Sat, 15 Nov 2025 14:54:13 +0100 (CET) Received: from mails.dpdk.org (localhost [127.0.0.1]) by mails.dpdk.org (Postfix) with ESMTP id 0BB66402A2; Sat, 15 Nov 2025 14:54:13 +0100 (CET) Received: from mail-pl1-f225.google.com (mail-pl1-f225.google.com [209.85.214.225]) by mails.dpdk.org (Postfix) with ESMTP id 4DCF1402A2 for ; Sat, 15 Nov 2025 14:54:11 +0100 (CET) Received: by mail-pl1-f225.google.com with SMTP id d9443c01a7336-297dd95ffe4so25150345ad.3 for ; Sat, 15 Nov 2025 05:54:11 -0800 (PST) DKIM-Signature: v=1; a=rsa-sha256; c=relaxed/relaxed; d=iol.unh.edu; s=unh-iol; t=1763214850; x=1763819650; darn=dpdk.org; h=cc:to:from:subject:message-id:date:from:to:cc:subject:date :message-id:reply-to; bh=2aEjHeaRYUr09FhhWS5FiGqL5xon5qjtJ9F/Zz9Xj28=; b=huN9ELJuSpd1Bj5u3JKpzvVQ/nngn2vuNSKkrbQNG2fz2/pJj4+asKrRjXVfJpofjF bzA82Y2jJBWPpin3utznbcCNwoqlb44OQxVr9kFt+FAHVnV4BITOlmgumSdgkgK4ZmtW pEcYyNpzLVrzDwye6dWAX0qf5ktj+5Axc+6WY= X-Google-DKIM-Signature: v=1; a=rsa-sha256; c=relaxed/relaxed; d=1e100.net; s=20230601; t=1763214850; x=1763819650; h=cc:to:from:subject:message-id:date:x-gm-gg:x-gm-message-state:from :to:cc:subject:date:message-id:reply-to; bh=2aEjHeaRYUr09FhhWS5FiGqL5xon5qjtJ9F/Zz9Xj28=; b=UqnMYIZy9ePoxe0aLhTjnugDZQU/AGROk5ddw5t3B00ffI8I0L2B12uX8vDfs70Ubw LD0W58UWjWGUbgvH66+CXhBqhrQmYUOwuvgs6P5bVhfsWXIiiyMMXTDXv+v2lxIaOcRj Sw639ecViZx8zZ9mthC8nz0U5kQjqC/IxwyRbOSwZSPrkUSBUMjlR5+0BvKdRZqvKIz/ tMkQoMIyMi09hBKxPymqOhqzUEdruwsO+Har0UyHwQhbzoyr8pQwuUpzXcjrhjUCH3iU K8cOOBDQYwY4EAD9TKuDi3RScvehiAI7hiBSpuZRVVZn4QYmPaAqAloIZPigz0g/9See 2Vdg== X-Gm-Message-State: AOJu0Yzwiz+fVRVwKGW/LUGHxNkMmR2Th39ML5oXgA//g6Fb25MQLRpy 0k0EVnFO8+Bc9qmvM4XSzaoTbwQUML44yrWpJkgpSR6rrl7SHuIe2ih+6G+YgH4PCG8yfVT8qFs hwLSRHrQW4+dUcIaWAp0ygyezX+tUA1qdkHHbOnuBwnICDCvSp95G X-Gm-Gg: ASbGncv/qrrIBd0bpSMPU6fcG7F/pV0gAoDD4KooSC8zWykjj37WMXAW4HTL4HY7qHR W7C9pgiBo2gvAKGMjb8VXPAtQJxJPJXNPgb9HjP5cxG1wOj+y8ko4sv2Y68OM4+T07Z8A9LrpPm l271zC43D1oe3ayWyfCREEADyB//tHyiQvDl9iOx7TerkrW0M2n5FWl1SNypzFNO6hYEg728pqv LfpY2VxDzUNOJ5D9US8o8JcylE0hKhgVqQJ9VfNhP5JckhAoBk+He03m7UP36RJZ0lwgA/1iqIm ewZNgEnDn5iVjUKASmNMLL/4NM5TdPl0s0xjWxUyLYE2TIMSY0VbFpinhJ/dXhSs2KZJvO05LxT 9TdthUOqo X-Google-Smtp-Source: AGHT+IFWxB80tQ3U3fCkmcchIvWwwlfW2itxonTYhg+NdFlnK5w98xc7233df5iDR4DbPC+m087hlTAgn1M/ X-Received: by 2002:a17:903:1205:b0:295:5da6:5ff3 with SMTP id d9443c01a7336-2986a5f485cmr74890065ad.0.1763214850423; Sat, 15 Nov 2025 05:54:10 -0800 (PST) Received: from postal.iol.unh.edu (postal.iol.unh.edu. [2606:4100:3880:1234::84]) by smtp-relay.gmail.com with ESMTPS id d9443c01a7336-2986adee310sm5858665ad.45.2025.11.15.05.54.10 (version=TLS1_2 cipher=ECDHE-ECDSA-AES128-GCM-SHA256 bits=128/128); Sat, 15 Nov 2025 05:54:10 -0800 (PST) X-Relaying-Domain: iol.unh.edu Date: Sat, 15 Nov 2025 05:54:10 -0800 (PST) Message-ID: <69188602.170a0220.1ea6f9.e7aaSMTPIN_ADDED_MISSING@mx.google.com> Received: from [172.21.0.4] (unknown [172.18.0.240]) by postal.iol.unh.edu (Postfix) with ESMTP id 831C76051830; Sat, 15 Nov 2025 08:54:09 -0500 (EST) Subject: |SUCCESS| [GIT MASTER] 9784db2c5af1eecd02fc21132b59b5b266039b87 From: dpdklab@iol.unh.edu To: Test Report Cc: dpdk-test-reports@iol.unh.edu, Xueming Li , Christian Ehrhardt , Kevin Traynor , Luca Boccassi Content-Type: text/plain X-BeenThere: test-report@dpdk.org X-Mailman-Version: 2.1.29 Precedence: list List-Id: automatic DPDK test reports List-Unsubscribe: , List-Archive: List-Post: List-Help: List-Subscribe: , Errors-To: test-report-bounces@dpdk.org _Testing PASS_ Branch: tags/v22.11 9784db2c5af1eecd02fc21132b59b5b266039b87 --> testing pass Upstream job id: Windows-Compile-DPDK-Native#32422 Test environment and result as below: +-------------------------------+--------------------+-------------------------+ | Environment | dpdk_meson_compile | dpdk_llvm_clang_compile | +===============================+====================+=========================+ | CentOS Stream 9 | PASS | SKIPPED | +-------------------------------+--------------------+-------------------------+ | CentOS Stream 10 | PASS | SKIPPED | +-------------------------------+--------------------+-------------------------+ | Fedora Linux 42 | PASS | SKIPPED | +-------------------------------+--------------------+-------------------------+ | FreeBSD 14.2 | PASS | SKIPPED | +-------------------------------+--------------------+-------------------------+ | Ubuntu 20.04 | PASS | SKIPPED | +-------------------------------+--------------------+-------------------------+ | Red Hat Enterprise Linux 9.5 | PASS | SKIPPED | +-------------------------------+--------------------+-------------------------+ | Debian GNU/Linux 12 | PASS | SKIPPED | +-------------------------------+--------------------+-------------------------+ | openSUSE Leap 15.6 | PASS | SKIPPED | +-------------------------------+--------------------+-------------------------+ | Ubuntu 22.04 | PASS | SKIPPED | +-------------------------------+--------------------+-------------------------+ | Red Hat Enterprise Linux 8.10 | PASS | SKIPPED | +-------------------------------+--------------------+-------------------------+ | Ubuntu 24.04 | PASS | SKIPPED | +-------------------------------+--------------------+-------------------------+ | Windows Server 2022 | SKIPPED | PASS | +-------------------------------+--------------------+-------------------------+ CentOS Stream 9 Kernel: 5.15 Compiler: gcc gcc (GCC) 11.5.0 20240719 (Red Hat 11.5.0-11) CentOS Stream 10 Kernel: 5.15 Compiler: gcc gcc (GCC) 14.2.1 20250110 (Red Hat 14.2.1-8) Fedora Linux 42 Kernel: 5.15 Compiler: gcc gcc (GCC) 15.2.1 20250808 (Red Hat 15.2.1-1) FreeBSD 14.2 Kernel: 14.2-RELEASE Compiler: clang 18.1.6 Ubuntu 20.04 Kernel: 4.19 Compiler: gcc gcc (Ubuntu 9.4.0-1ubuntu1~20.04.2) 9.4.0 Red Hat Enterprise Linux 9.5 Kernel: 5.15 Compiler: gcc gcc (GCC) 11.5.0 20240719 (Red Hat 11.5.0-2) Debian GNU/Linux 12 Kernel: 5.15 Compiler: gcc gcc (Debian 12.2.0-14+deb12u1) 12.2.0 openSUSE Leap 15.6 Kernel: 5.15 Compiler: gcc gcc (SUSE Linux) 7.5.0 Ubuntu 22.04 Kernel: 5.15 Compiler: gcc gcc (Ubuntu 11.4.0-1ubuntu1~22.04) 11.4.0 Red Hat Enterprise Linux 8.10 Kernel: 5.15 Compiler: gcc gcc (GCC) 8.5.0 20210514 (Red Hat 8.5.0-22) Ubuntu 24.04 Kernel: 5.15 Compiler: gcc gcc (Ubuntu 13.3.0-6ubuntu2~24.04) 13.3.0 Windows Server 2022 Kernel: 10.0.20348.2031 Compiler: clang 15.0.7, gcc 14.1.0 (MinGW), and MSVC VS 19.39.33521 To view detailed results, visit: https://lab.dpdk.org/results/dashboard/tarballs/35606/ UNH-IOL DPDK Community Lab To manage your email subscriptions, visit: https://lab.dpdk.org/results/dashboard/preferences/subscriptions/