From mboxrd@z Thu Jan 1 00:00:00 1970 Return-Path: Received: from mails.dpdk.org (mails.dpdk.org [217.70.189.124]) by inbox.dpdk.org (Postfix) with ESMTP id 4709D48B1A for ; Sat, 15 Nov 2025 14:55:39 +0100 (CET) Received: from mails.dpdk.org (localhost [127.0.0.1]) by mails.dpdk.org (Postfix) with ESMTP id 42341402A2; Sat, 15 Nov 2025 14:55:39 +0100 (CET) Received: from mail-pj1-f98.google.com (mail-pj1-f98.google.com [209.85.216.98]) by mails.dpdk.org (Postfix) with ESMTP id 09091402A2 for ; Sat, 15 Nov 2025 14:55:38 +0100 (CET) Received: by mail-pj1-f98.google.com with SMTP id 98e67ed59e1d1-343ea89896eso2874169a91.2 for ; Sat, 15 Nov 2025 05:55:37 -0800 (PST) DKIM-Signature: v=1; a=rsa-sha256; c=relaxed/relaxed; d=iol.unh.edu; s=unh-iol; t=1763214937; x=1763819737; darn=dpdk.org; h=cc:to:from:subject:message-id:date:from:to:cc:subject:date :message-id:reply-to; bh=g5pgLlgE/SlsGBNYEmC8XSG8lloS+py7bdjZGTNw1Ag=; b=d8u2GjCqAWHRzZqF38hLaXDKoBEWTGsViiTQznlOF7oEGniyAx/2cA66CMw6D9LmVk GrRalvgU8LJRTBElPlhlN0zymfeqPlfntvpocaah49VgtKYxvUccJ28oydDYfmR4/j4Y ka9TIM/VsSGjbzmr7IMzEJgjP3+ERtZVUCPn4= X-Google-DKIM-Signature: v=1; a=rsa-sha256; c=relaxed/relaxed; d=1e100.net; s=20230601; t=1763214937; x=1763819737; h=cc:to:from:subject:message-id:date:x-gm-gg:x-gm-message-state:from :to:cc:subject:date:message-id:reply-to; bh=g5pgLlgE/SlsGBNYEmC8XSG8lloS+py7bdjZGTNw1Ag=; b=de4TYcqOBdwBJWpJT20Ac+wIyQox8hJoJndgE7rCQ6Gex7dGLpmnRyhe5IUvSBcleg rO69wRMy4w7TV96myVJOIil3lky49XrxpalUurD+qlG2+DpBhaJ6Gc2UNLkP2Jx2aLYn xcAx78S3IVoe+MWdPFg9nQetTnTHPy/140ShuSykWrg2RNy6H1Rh+YURxGQco/pUhLMf 1j4vAwnxWV5ANLG77pzyUvIM5nkc4+qUj0uxoKBe2Z4US86PKd73KDfXquJKpXVj1ZPm BVGLzh+joe/ryqm3534/XxDIzLQWzpjPOfZZsEHJ7sWLBh9aOWLM6t6cpbM0z3FP5i+5 AIrg== X-Gm-Message-State: AOJu0Ywyf97V4AjV4f5E2hJnbHtpqp8F+nz1omIzn+3F8BH3yDt2zITu yLvBuclMTXIKdI79tNOaXJqEoGRHssRWL73Y+TjFifJJRZhcwzNTqaUDu8ieV+4LJFosLKJtlO7 Jge5AgGvXTN+Dtajl+3x0tXwlWlM5YVe3evq9hsfyEMJg2ElTCwPu X-Gm-Gg: ASbGncvoSOq13ZGa/6FlOeB2rnZVwrEq6SFCh79HtSuOcinTGYElpr3kA4OcSeeO4tY rMnNeXfblW04C1qDjSqtUiCIvo7+yxdHIY25MkZ1ZhO5ivF/cN3ZxSrP3VkzKEpWpy55tBn+OIm VqVR79Pqwhw82Xl2KK4nq7rWHze9ucbNvoTjWG6jfUQ6AROSajIUHKvKX6DG0R2Nkmv80ltka84 0EItGsVohfNxNPYJWaoz9vbnnYffFBrGfFXO2xMceIBg/prLecrcK+eGRsp9FMoiKkY+xwJ3i1N wkBSfTAyFEfyRZvCF4JUnbaOolYN7npjk4VtTQ0pzsEjjYCugHZBOHLT8Xi8dH5r90s5+johqoF d458vBjOa X-Google-Smtp-Source: AGHT+IF1xhd2vgOUX4LGs/Wjs7SI0gXHVjMk3ZmvbktinGgIxjAcSN5WivhtvM2FXJV3uov9zEva8pWgtXpz X-Received: by 2002:a17:90b:1b46:b0:340:54a1:d6fe with SMTP id 98e67ed59e1d1-343f9ec8b6cmr7465778a91.15.1763214937269; Sat, 15 Nov 2025 05:55:37 -0800 (PST) Received: from postal.iol.unh.edu (postal.iol.unh.edu. [2606:4100:3880:1234::84]) by smtp-relay.gmail.com with ESMTPS id d2e1a72fcca58-7b9256bbb07sm785172b3a.2.2025.11.15.05.55.37 (version=TLS1_2 cipher=ECDHE-ECDSA-AES128-GCM-SHA256 bits=128/128); Sat, 15 Nov 2025 05:55:37 -0800 (PST) X-Relaying-Domain: iol.unh.edu Date: Sat, 15 Nov 2025 05:55:37 -0800 (PST) Message-ID: <69188659.050a0220.15273b.62b9SMTPIN_ADDED_MISSING@mx.google.com> Received: from [172.21.0.3] (unknown [172.18.0.240]) by postal.iol.unh.edu (Postfix) with ESMTP id 860296051830; Sat, 15 Nov 2025 08:55:36 -0500 (EST) Subject: |SUCCESS| [GIT MASTER] 9784db2c5af1eecd02fc21132b59b5b266039b87 From: dpdklab@iol.unh.edu To: Test Report Cc: dpdk-test-reports@iol.unh.edu, Xueming Li , Christian Ehrhardt , Kevin Traynor , Luca Boccassi Content-Type: text/plain X-BeenThere: test-report@dpdk.org X-Mailman-Version: 2.1.29 Precedence: list List-Id: automatic DPDK test reports List-Unsubscribe: , List-Archive: List-Post: List-Help: List-Subscribe: , Errors-To: test-report-bounces@dpdk.org _Testing PASS_ Branch: tags/v22.11 9784db2c5af1eecd02fc21132b59b5b266039b87 --> testing pass Upstream job id: Windows-Compile-DPDK-Native#32423 Test environment and result as below: +-------------------------------+--------------------+-------------------------+----------------------+ | Environment | dpdk_meson_compile | dpdk_llvm_clang_compile | dpdk_mingw64_compile | +===============================+====================+=========================+======================+ | CentOS Stream 9 | PASS | SKIPPED | SKIPPED | +-------------------------------+--------------------+-------------------------+----------------------+ | CentOS Stream 10 | PASS | SKIPPED | SKIPPED | +-------------------------------+--------------------+-------------------------+----------------------+ | Fedora Linux 42 | PASS | SKIPPED | SKIPPED | +-------------------------------+--------------------+-------------------------+----------------------+ | FreeBSD 14.2 | PASS | SKIPPED | SKIPPED | +-------------------------------+--------------------+-------------------------+----------------------+ | Ubuntu 20.04 | PASS | SKIPPED | SKIPPED | +-------------------------------+--------------------+-------------------------+----------------------+ | Red Hat Enterprise Linux 9.5 | PASS | SKIPPED | SKIPPED | +-------------------------------+--------------------+-------------------------+----------------------+ | Debian GNU/Linux 12 | PASS | SKIPPED | SKIPPED | +-------------------------------+--------------------+-------------------------+----------------------+ | openSUSE Leap 15.6 | PASS | SKIPPED | SKIPPED | +-------------------------------+--------------------+-------------------------+----------------------+ | Ubuntu 22.04 | PASS | SKIPPED | SKIPPED | +-------------------------------+--------------------+-------------------------+----------------------+ | Red Hat Enterprise Linux 8.10 | PASS | SKIPPED | SKIPPED | +-------------------------------+--------------------+-------------------------+----------------------+ | Ubuntu 24.04 | PASS | SKIPPED | SKIPPED | +-------------------------------+--------------------+-------------------------+----------------------+ | Windows Server 2022 | SKIPPED | PASS | PASS | +-------------------------------+--------------------+-------------------------+----------------------+ CentOS Stream 9 Kernel: 5.15 Compiler: gcc gcc (GCC) 11.5.0 20240719 (Red Hat 11.5.0-11) CentOS Stream 10 Kernel: 5.15 Compiler: gcc gcc (GCC) 14.2.1 20250110 (Red Hat 14.2.1-8) Fedora Linux 42 Kernel: 5.15 Compiler: gcc gcc (GCC) 15.2.1 20250808 (Red Hat 15.2.1-1) FreeBSD 14.2 Kernel: 14.2-RELEASE Compiler: clang 18.1.6 Ubuntu 20.04 Kernel: 4.19 Compiler: gcc gcc (Ubuntu 9.4.0-1ubuntu1~20.04.2) 9.4.0 Red Hat Enterprise Linux 9.5 Kernel: 5.15 Compiler: gcc gcc (GCC) 11.5.0 20240719 (Red Hat 11.5.0-2) Debian GNU/Linux 12 Kernel: 5.15 Compiler: gcc gcc (Debian 12.2.0-14+deb12u1) 12.2.0 openSUSE Leap 15.6 Kernel: 5.15 Compiler: gcc gcc (SUSE Linux) 7.5.0 Ubuntu 22.04 Kernel: 5.15 Compiler: gcc gcc (Ubuntu 11.4.0-1ubuntu1~22.04) 11.4.0 Red Hat Enterprise Linux 8.10 Kernel: 5.15 Compiler: gcc gcc (GCC) 8.5.0 20210514 (Red Hat 8.5.0-22) Ubuntu 24.04 Kernel: 5.15 Compiler: gcc gcc (Ubuntu 13.3.0-6ubuntu2~24.04) 13.3.0 Windows Server 2022 Kernel: 10.0.20348.2031 Compiler: clang 15.0.7, gcc 14.1.0 (MinGW), and MSVC VS 19.39.33521 To view detailed results, visit: https://lab.dpdk.org/results/dashboard/tarballs/35606/ UNH-IOL DPDK Community Lab To manage your email subscriptions, visit: https://lab.dpdk.org/results/dashboard/preferences/subscriptions/