From mboxrd@z Thu Jan 1 00:00:00 1970 Return-Path: Received: from mails.dpdk.org (mails.dpdk.org [217.70.189.124]) by inbox.dpdk.org (Postfix) with ESMTP id EEC0F48B1A for ; Sat, 15 Nov 2025 15:02:09 +0100 (CET) Received: from mails.dpdk.org (localhost [127.0.0.1]) by mails.dpdk.org (Postfix) with ESMTP id E9D7C402A2; Sat, 15 Nov 2025 15:02:09 +0100 (CET) Received: from mail-pl1-f227.google.com (mail-pl1-f227.google.com [209.85.214.227]) by mails.dpdk.org (Postfix) with ESMTP id AD6A9402A2 for ; Sat, 15 Nov 2025 15:02:07 +0100 (CET) Received: by mail-pl1-f227.google.com with SMTP id d9443c01a7336-297dc3e299bso29264445ad.1 for ; Sat, 15 Nov 2025 06:02:07 -0800 (PST) DKIM-Signature: v=1; a=rsa-sha256; c=relaxed/relaxed; d=iol.unh.edu; s=unh-iol; t=1763215327; x=1763820127; darn=dpdk.org; h=cc:to:from:subject:message-id:date:from:to:cc:subject:date :message-id:reply-to; bh=gkvP+n+3UsEO7t+PmVfVIAmD4cahcxNkci2qyT+Sla4=; b=g2+z9GHdersXtf6E7Hc6OVhDEPHlKlBpGQ/Z4sgjXT7OI4APssMZ7m6w8JlWc11R0F m/s8IdbU67/k+DwA9wKX0FdPFsC1UhAj5ai3AYlSko7JWo/pjLNXDTVSyZnD4yy2oYS+ 8+7l1XLyE6yT54dS8/D0sOlnHoJinOlJrNRdA= X-Google-DKIM-Signature: v=1; a=rsa-sha256; c=relaxed/relaxed; d=1e100.net; s=20230601; t=1763215327; x=1763820127; h=cc:to:from:subject:message-id:date:x-gm-gg:x-gm-message-state:from :to:cc:subject:date:message-id:reply-to; bh=gkvP+n+3UsEO7t+PmVfVIAmD4cahcxNkci2qyT+Sla4=; b=ErTbywHIt2Ytnte8fJie8gndx8UV5sjKhUhSrZ21xJ4IOAsLjPQfHeNJMAU/RIHVll a2cI3/UTILvZ0sb3B27y5/CjQ0ieRi7UkEhNcQZ236RoC6WHgIy/6G5p1hPn0IyzeLy0 haY4edPBdX5dtKIfW5j+hvL7GzGkuBD7DOa/d7WwMo/pR8A+VtlJIPApeh0DY2tP2zpa 7msfNgzrbkQA8QSsNWGKCCEuercHmmDwlv66r/7v7HAumJzaDaIhM4RiTcIHS1+C46fB +iLeycpFXhUu5V4L2wdVRLMxtHWKfzJGr80MmG702facyGdTc27l21RAkYhUvmnh5T+v FLeA== X-Gm-Message-State: AOJu0YzfHeiQUKTNKZaJHInppNnk9mgX6atWVYFETv6c1RQ0qmLU0QMc FSijqgjdL0pXJ2j5+xGtSMnZYebhBHkz2p6rTsz+FNrBDE5GJdYuIg+Nc+PoC377CbwBKYY2GkY Bn9TVa0ziDZzCB/cIr87jBaDiqs6dLdOzlFq9g2nGYKbUL4vv5txP X-Gm-Gg: ASbGnctKzoyQU81oqfMGuN5/z2wZWdkRCqiRVf9Qzm7Jd4jFAHC2ctR5//5pQo5uAhS 0g9RqGNWoMtDJ7x7Qt7y2Y2HMlwK1KKI/IOS8yzXZJEqppN8kEvToQ3cQT4HMODQ8DrGwyZxzIm ++UMFdPWpzbrMACG6L55HOlkPA5zK2pjRA8D2CAMrubWUL3afda/l+DHOzsFQQn/dGpNj+8Ltn2 2SCI0/PAjoygAsTqf3Szo0z2E+CZnnIocNXzjo69V8oi0ZLPLaNtNdNbiem4djY3IePqusILETe Ds9n81TJPqUW/TCbiyKyQuFIjBw9y+X9h3oz7Bj70gHzYDKUWfuViwspT8GsFx9r1YPi+bwVE56 FhDpXwPiI X-Google-Smtp-Source: AGHT+IEzLv32RL+kfgzVHv+AB/1+nMqu6HDuheLJfE2Yc27OUkaYyRGTrr1dFtJS2Gi9Pp1lYrhhq98z0zx5 X-Received: by 2002:a17:902:f706:b0:297:e575:cc5d with SMTP id d9443c01a7336-2986a733046mr78281455ad.35.1763215325314; Sat, 15 Nov 2025 06:02:05 -0800 (PST) Received: from postal.iol.unh.edu (postal.iol.unh.edu. [2606:4100:3880:1234::84]) by smtp-relay.gmail.com with ESMTPS id d9443c01a7336-2985c2b7a93sm9295645ad.43.2025.11.15.06.02.05 (version=TLS1_2 cipher=ECDHE-ECDSA-AES128-GCM-SHA256 bits=128/128); Sat, 15 Nov 2025 06:02:05 -0800 (PST) X-Relaying-Domain: iol.unh.edu Date: Sat, 15 Nov 2025 06:02:05 -0800 (PST) Message-ID: <691887dd.170a0220.2535f6.f098SMTPIN_ADDED_MISSING@mx.google.com> Received: from [172.21.0.5] (unknown [172.18.0.240]) by postal.iol.unh.edu (Postfix) with ESMTP id A09046051835; Sat, 15 Nov 2025 09:02:04 -0500 (EST) Subject: |SUCCESS| [GIT MASTER] 0bd935abcb823f581ce53986986aa54eaf6f8140 From: dpdklab@iol.unh.edu To: Test Report Cc: dpdk-test-reports@iol.unh.edu, Xueming Li , Christian Ehrhardt , Kevin Traynor , Luca Boccassi Content-Type: text/plain X-BeenThere: test-report@dpdk.org X-Mailman-Version: 2.1.29 Precedence: list List-Id: automatic DPDK test reports List-Unsubscribe: , List-Archive: List-Post: List-Help: List-Subscribe: , Errors-To: test-report-bounces@dpdk.org _Testing PASS_ Branch: tags/v24.11 0bd935abcb823f581ce53986986aa54eaf6f8140 --> testing pass Upstream job id: Windows-Compile-DPDK-Native#32426 Test environment and result as below: +---------------------+--------------------+-------------------+-------------------------+ | Environment | dpdk_meson_compile | dpdk_msvc_compile | dpdk_llvm_clang_compile | +=====================+====================+===================+=========================+ | Ubuntu 20.04 | PASS | SKIPPED | SKIPPED | +---------------------+--------------------+-------------------+-------------------------+ | FreeBSD 14.2 | PASS | SKIPPED | SKIPPED | +---------------------+--------------------+-------------------+-------------------------+ | Windows Server 2022 | SKIPPED | PASS | PASS | +---------------------+--------------------+-------------------+-------------------------+ Ubuntu 20.04 Kernel: 4.19 Compiler: gcc gcc (Ubuntu 9.4.0-1ubuntu1~20.04.2) 9.4.0 FreeBSD 14.2 Kernel: 14.2-RELEASE Compiler: clang 18.1.6 Windows Server 2022 Kernel: 10.0.20348.2031 Compiler: clang 15.0.7, gcc 14.1.0 (MinGW), and MSVC VS 19.39.33521 To view detailed results, visit: https://lab.dpdk.org/results/dashboard/tarballs/35608/ UNH-IOL DPDK Community Lab To manage your email subscriptions, visit: https://lab.dpdk.org/results/dashboard/preferences/subscriptions/