From mboxrd@z Thu Jan 1 00:00:00 1970 Return-Path: Received: from mails.dpdk.org (mails.dpdk.org [217.70.189.124]) by inbox.dpdk.org (Postfix) with ESMTP id 1A44748B1A for ; Sat, 15 Nov 2025 15:03:36 +0100 (CET) Received: from mails.dpdk.org (localhost [127.0.0.1]) by mails.dpdk.org (Postfix) with ESMTP id 1512A402A2; Sat, 15 Nov 2025 15:03:36 +0100 (CET) Received: from mail-pl1-f226.google.com (mail-pl1-f226.google.com [209.85.214.226]) by mails.dpdk.org (Postfix) with ESMTP id 485BD402A2 for ; Sat, 15 Nov 2025 15:03:35 +0100 (CET) Received: by mail-pl1-f226.google.com with SMTP id d9443c01a7336-29808a9a96aso28246565ad.1 for ; Sat, 15 Nov 2025 06:03:35 -0800 (PST) DKIM-Signature: v=1; a=rsa-sha256; c=relaxed/relaxed; d=iol.unh.edu; s=unh-iol; t=1763215414; x=1763820214; darn=dpdk.org; h=cc:to:from:subject:message-id:date:from:to:cc:subject:date :message-id:reply-to; bh=P/gdd0uPUaMVec9yqCT6IHhkq656hwhXrZDuBgaEX7M=; b=MCt0GYFbriPu3ZBCaTF0Bh0+lUO/h3RdBFFASMJIncmjac7C0DETDqxevA50kI8AQo DBRCKG1g6LMzD5LXdZfYn1OriKoP+IH2cN1yEdp0snVZh+qofrK4jDlAKJLyNQKgT+lp myxiN3qB9ChDBHL/f5xZNNh8BjXg8hpO7TaCg= X-Google-DKIM-Signature: v=1; a=rsa-sha256; c=relaxed/relaxed; d=1e100.net; s=20230601; t=1763215414; x=1763820214; h=cc:to:from:subject:message-id:date:x-gm-gg:x-gm-message-state:from :to:cc:subject:date:message-id:reply-to; bh=P/gdd0uPUaMVec9yqCT6IHhkq656hwhXrZDuBgaEX7M=; b=AR6MFFirEWmoT7CgXmBbSu4gX15UYpJxQeFppFXw/LInQv36ku2QoAzdi/l6aWuCu1 5hIJPSM06ivK3owEPjwH736MZA6K2iO6T9ZBTTgfZYaen+iNCcROtRGUgy7x3iv2nOmE h0YSZnZGsf1D/nZxR+LekEIK/dl7vlnh1xX+72/yxVhQPsu4KgOi2SM6Uz5qjbVYa/c3 9xN4fbSTBR4dSxUB0NG287nTlhpARCDdcdpW2X2YKxcKEPvJnC2hyCMyoR835lO8pAh2 E7XQD1oZ3TQ0dzmwQqgD4G0Ko3QxBBUT/bqCvTrGc26ENNuJOrRNIohpUgxy8x/r9cdK bdZQ== X-Gm-Message-State: AOJu0Yx9Wf6MRHN8fkMUaYG436jz/rRKNPSIRpj3qMMxMiz7BAWXQLVp HAQwJqdex8wphd+C7V4HnJ9HYwq8Gv7h/lN8NznvUgBpRY/iruo8QJjG1QxpMih1isWuggNcK0S 6Npv7TXMzbu27j28GeYWzu6lVumMkd+hcoV57 X-Gm-Gg: ASbGnctwpmRGe7tB1sptMPeDsLxbn9m63yScjWYnWRLekTtzsSUAC6UM513UzOXwbUe rXVW7XMyAmuBGGYor4OhquL+PGyjtwiK4lbu71PvCQfLzeTRWXuYbVC+b+S329LoBESg9cOD4Aw rt0pBN42x+GdeGyJy2D8cDVIAwwDE0Fim8LB6l5WyugKmNrd6rwrQ4W18iht22eaU+KzPykCXlw Zj1kXKf/amgmkDh/PrxyYCrv0UY0hXuXcXh4wkfgKKX1WMpelvEqNZw3AwoIlsYU8xofKzDGQA+ kXwts0qXo6G9v/TUcH3Cur4cdA/LSO0gwCCd3R22HrIVUmsZ3EB/kF37o4uVR0nz5Ax6Opa5sel 6N2TWDCJcfoR38hkCy1Y4ZypJooibjhM= X-Google-Smtp-Source: AGHT+IFy2UB0n9t15akKM8yt2mO8mHAzrky0MepNp3twcC3VAqkr+DpIQclG7Wi6jkIwkGWh43FM2oLZx9kN X-Received: by 2002:a17:902:f550:b0:295:8a2a:9595 with SMTP id d9443c01a7336-2986a73b70fmr80340895ad.39.1763215414308; Sat, 15 Nov 2025 06:03:34 -0800 (PST) Received: from postal.iol.unh.edu (postal.iol.unh.edu. [132.177.123.84]) by smtp-relay.gmail.com with ESMTPS id d9443c01a7336-2985c2a8b69sm8383865ad.38.2025.11.15.06.03.34 (version=TLS1_2 cipher=ECDHE-ECDSA-AES128-GCM-SHA256 bits=128/128); Sat, 15 Nov 2025 06:03:34 -0800 (PST) X-Relaying-Domain: iol.unh.edu Date: Sat, 15 Nov 2025 06:03:34 -0800 (PST) Message-ID: <69188836.170a0220.bef92.9205SMTPIN_ADDED_MISSING@mx.google.com> Received: from [172.21.0.2] (unknown [172.18.0.240]) by postal.iol.unh.edu (Postfix) with ESMTP id 767776051830; Sat, 15 Nov 2025 09:03:33 -0500 (EST) Subject: |SUCCESS| [GIT MASTER] 0bd935abcb823f581ce53986986aa54eaf6f8140 From: dpdklab@iol.unh.edu To: Test Report Cc: dpdk-test-reports@iol.unh.edu, Xueming Li , Christian Ehrhardt , Kevin Traynor , Luca Boccassi Content-Type: text/plain X-BeenThere: test-report@dpdk.org X-Mailman-Version: 2.1.29 Precedence: list List-Id: automatic DPDK test reports List-Unsubscribe: , List-Archive: List-Post: List-Help: List-Subscribe: , Errors-To: test-report-bounces@dpdk.org _Testing PASS_ Branch: tags/v24.11 0bd935abcb823f581ce53986986aa54eaf6f8140 --> testing pass Upstream job id: Windows-Compile-DPDK-Native#32427 Test environment and result as below: +---------------------+--------------------+-------------------+-------------------------+----------------------+ | Environment | dpdk_meson_compile | dpdk_msvc_compile | dpdk_llvm_clang_compile | dpdk_mingw64_compile | +=====================+====================+===================+=========================+======================+ | Ubuntu 20.04 | PASS | SKIPPED | SKIPPED | SKIPPED | +---------------------+--------------------+-------------------+-------------------------+----------------------+ | FreeBSD 14.2 | PASS | SKIPPED | SKIPPED | SKIPPED | +---------------------+--------------------+-------------------+-------------------------+----------------------+ | Windows Server 2022 | SKIPPED | PASS | PASS | PASS | +---------------------+--------------------+-------------------+-------------------------+----------------------+ Ubuntu 20.04 Kernel: 4.19 Compiler: gcc gcc (Ubuntu 9.4.0-1ubuntu1~20.04.2) 9.4.0 FreeBSD 14.2 Kernel: 14.2-RELEASE Compiler: clang 18.1.6 Windows Server 2022 Kernel: 10.0.20348.2031 Compiler: clang 15.0.7, gcc 14.1.0 (MinGW), and MSVC VS 19.39.33521 To view detailed results, visit: https://lab.dpdk.org/results/dashboard/tarballs/35608/ UNH-IOL DPDK Community Lab To manage your email subscriptions, visit: https://lab.dpdk.org/results/dashboard/preferences/subscriptions/