From mboxrd@z Thu Jan 1 00:00:00 1970 Return-Path: Received: from mails.dpdk.org (mails.dpdk.org [217.70.189.124]) by inbox.dpdk.org (Postfix) with ESMTP id 9E6CA48B1A for ; Sat, 15 Nov 2025 15:08:25 +0100 (CET) Received: from mails.dpdk.org (localhost [127.0.0.1]) by mails.dpdk.org (Postfix) with ESMTP id 78ECA402A2; Sat, 15 Nov 2025 15:08:25 +0100 (CET) Received: from mail-pl1-f227.google.com (mail-pl1-f227.google.com [209.85.214.227]) by mails.dpdk.org (Postfix) with ESMTP id 6C95E402A2 for ; Sat, 15 Nov 2025 15:08:24 +0100 (CET) Received: by mail-pl1-f227.google.com with SMTP id d9443c01a7336-29555b384acso30602975ad.1 for ; Sat, 15 Nov 2025 06:08:24 -0800 (PST) DKIM-Signature: v=1; a=rsa-sha256; c=relaxed/relaxed; d=iol.unh.edu; s=unh-iol; t=1763215703; x=1763820503; darn=dpdk.org; h=references:in-reply-to:cc:to:from:subject:message-id:date:from:to :cc:subject:date:message-id:reply-to; bh=kX7lzCIUEYJe8jenZK1yRD4Uzm0lO9ekxuCUiidQfDY=; b=Ao9aVtSIeHdKaQSzbJ7abWIm/rOos7NgCTcGELTwRlhG6k8vsXTkmdqW9ZR1Xzds20 oZZ+h2Tp8zn7H9bo9MpjWuoqdgXD60mopopgeF8n9lKaHSsjGOp+cYmSbRvyOPATxMQp vmkW91IRn0a//mrCdP21G034Hlbj5AQKo4CfQ= X-Google-DKIM-Signature: v=1; a=rsa-sha256; c=relaxed/relaxed; d=1e100.net; s=20230601; t=1763215703; x=1763820503; h=references:in-reply-to:cc:to:from:subject:message-id:date:x-gm-gg :x-gm-message-state:from:to:cc:subject:date:message-id:reply-to; bh=kX7lzCIUEYJe8jenZK1yRD4Uzm0lO9ekxuCUiidQfDY=; b=bOk17yhYyTix4cJMMhnSuSlnFmmBJmCeTysQ9c5INokYxQ1AXLu1hq9X000gKUxKO0 CxwwFkGkl62ivcxg3S4F+HzQk1Iuv2D4tdT3GJizM/DNNE/0wyOT5YWnkV9cGuxxJPCr tGt/d0wMXeIhaYVHhwMcDWnxwPvFWHjZYxBeRdhTBaKob6MOTLGO/SvWzQHYfXDKVUf7 TCozybPv9CWt7fZQ5sgmmDBcp6NcBVi92YUBYRyzbQhEXvZ+R629SGMibT2Xg8MukAxu rDjnWKlZdur5z0d7Tqdgswf9nPPbYqtsw2gEsd86WbvsPyJ8n9M+ypB+jlIIm9Frnleo t3CA== X-Gm-Message-State: AOJu0YxCKerKzMx+l6L0/M3ci5eZZ3gbBnEg8m59kBD+996cRPpFEAIF /O3JCBaLDUP+9WluKLkb6lS8bUWiRa7iv/yviqt5UxUfxFQJPp/ee5MkxkmwnVyKVBa1X1UZxcS JtzuL7dLSla8fAtqChtM2+yp2XWEDmR+KwyOvvbg72C3r4TT1eRSQ4OIeoiK8 X-Gm-Gg: ASbGncurTmc7xOcYC9ygNA9udKkQxiuU5x2BYKPFRGeGHSycET5/D2+yc965/l281tt 0yowAcRotz1SgWVW9BjJIqiJKhCvsr2RH6hv5t0veIcyaM7YmNYMyJCyCDu3Elx0BZTRKnoWues Gs0vhOGecT9hDc7gbZ73M1PayjROumEX55xL6CnsR1HHOn+IZb3pVCyiXkz7x9IgOXfa43nHeBE +Yr60/Y/m62OYUCaJ/2BLckdGTSa1Rkpo8NwDU2TipexA/zsuWDqPrRkMpq21EnYPK06t7uzQXc hqAIEmRswr7DDIPJmgpAOU4h36skiElasH2VOxmmpgwgkxhUF0iAGbZJnFFjCRelL1XuXGQnWGk 9qO1b/gGO X-Google-Smtp-Source: AGHT+IFEyaRnxxxxKcNc3pprN+uhyemiVJb3UwkjzVKFWFbcu2JOnWhdsjvQsADF7Nat8A5BgcLuNf5tovng X-Received: by 2002:a17:902:cf03:b0:298:46a9:df01 with SMTP id d9443c01a7336-2986a6b8911mr88620205ad.3.1763215703543; Sat, 15 Nov 2025 06:08:23 -0800 (PST) Received: from postal.iol.unh.edu (postal.iol.unh.edu. [2606:4100:3880:1234::84]) by smtp-relay.gmail.com with ESMTPS id d9443c01a7336-2985c244ea3sm9254685ad.18.2025.11.15.06.08.23 (version=TLS1_2 cipher=ECDHE-ECDSA-AES128-GCM-SHA256 bits=128/128); Sat, 15 Nov 2025 06:08:23 -0800 (PST) X-Relaying-Domain: iol.unh.edu Date: Sat, 15 Nov 2025 06:08:23 -0800 (PST) Message-ID: <69188957.170a0220.1fc12b.f25dSMTPIN_ADDED_MISSING@mx.google.com> Received: from [172.21.0.3] (unknown [172.18.0.240]) by postal.iol.unh.edu (Postfix) with ESMTP id A726E6051830; Sat, 15 Nov 2025 09:08:22 -0500 (EST) Subject: |SUCCESS| pw158821 [PATCH] net/mlx5: fix higher flow tag indexes sup From: dpdklab@iol.unh.edu To: Test Report Cc: dpdk-test-reports@iol.unh.edu In-Reply-To: <20251114201720.1639238-1-dsosnowski@nvidia.com> References: <20251114201720.1639238-1-dsosnowski@nvidia.com> Content-Type: text/plain X-BeenThere: test-report@dpdk.org X-Mailman-Version: 2.1.29 Precedence: list List-Id: automatic DPDK test reports List-Unsubscribe: , List-Archive: List-Post: List-Help: List-Subscribe: , Errors-To: test-report-bounces@dpdk.org Test-Label: iol-compile-amd64-testing Test-Status: SUCCESS http://dpdk.org/patch/158821 _Testing PASS_ Submitter: Dariusz Sosnowski Date: Friday, November 14 2025 20:17:20 DPDK git baseline: Repo:dpdk-next-net-mlx Branch: master CommitID:ae657d56b1f0ea979b3f611edf28d773efc2ddcf 158821 --> testing pass Upstream job id: Windows-Compile-DPDK-Native#32428 Test environment and result as below: +---------------------+--------------------+-------------------+-------------------------+ | Environment | dpdk_meson_compile | dpdk_msvc_compile | dpdk_llvm_clang_compile | +=====================+====================+===================+=========================+ | Ubuntu 20.04 | PASS | SKIPPED | SKIPPED | +---------------------+--------------------+-------------------+-------------------------+ | FreeBSD 14.2 | PASS | SKIPPED | SKIPPED | +---------------------+--------------------+-------------------+-------------------------+ | Windows Server 2022 | SKIPPED | PASS | PASS | +---------------------+--------------------+-------------------+-------------------------+ Ubuntu 20.04 Kernel: 4.19 Compiler: gcc gcc (Ubuntu 9.4.0-1ubuntu1~20.04.2) 9.4.0 FreeBSD 14.2 Kernel: 14.2-RELEASE Compiler: clang 18.1.6 Windows Server 2022 Kernel: 10.0.20348.2031 Compiler: clang 15.0.7, gcc 14.1.0 (MinGW), and MSVC VS 19.39.33521 To view detailed results, visit: https://lab.dpdk.org/results/dashboard/patchsets/34603/ UNH-IOL DPDK Community Lab To manage your email subscriptions, visit: https://lab.dpdk.org/results/dashboard/preferences/subscriptions/