From mboxrd@z Thu Jan 1 00:00:00 1970 Return-Path: Received: from mails.dpdk.org (mails.dpdk.org [217.70.189.124]) by inbox.dpdk.org (Postfix) with ESMTP id 115CA48B1A for ; Sat, 15 Nov 2025 15:36:36 +0100 (CET) Received: from mails.dpdk.org (localhost [127.0.0.1]) by mails.dpdk.org (Postfix) with ESMTP id EB555402A2; Sat, 15 Nov 2025 15:36:35 +0100 (CET) Received: from mail-oa1-f100.google.com (mail-oa1-f100.google.com [209.85.160.100]) by mails.dpdk.org (Postfix) with ESMTP id 169F2402A2 for ; Sat, 15 Nov 2025 15:36:34 +0100 (CET) Received: by mail-oa1-f100.google.com with SMTP id 586e51a60fabf-30cce892b7dso1385393fac.1 for ; Sat, 15 Nov 2025 06:36:34 -0800 (PST) DKIM-Signature: v=1; a=rsa-sha256; c=relaxed/relaxed; d=iol.unh.edu; s=unh-iol; t=1763217393; x=1763822193; darn=dpdk.org; h=references:in-reply-to:cc:to:from:subject:message-id:date:from:to :cc:subject:date:message-id:reply-to; bh=6oz3dEMSvdEtXXo9MdttjIYyAL6kC+WiFEN5L8SKklg=; b=L0vls1uwx5K1SF6ZRdLrS5POLo8ImjxGD83YPwuank7nQ63RWUdoWTvvNeiumjz0Ti KwTQy9MV7jaHb+e41ooZMkelkmcFD58m/ljSA8GqIohNibXZk+W9f0sjVUUJ4mKefKEC +OYwfRjCENZDqBOUw2kk0Osz7Gm8nA+2vF4VY= X-Google-DKIM-Signature: v=1; a=rsa-sha256; c=relaxed/relaxed; d=1e100.net; s=20230601; t=1763217393; x=1763822193; h=references:in-reply-to:cc:to:from:subject:message-id:date:x-gm-gg :x-gm-message-state:from:to:cc:subject:date:message-id:reply-to; bh=6oz3dEMSvdEtXXo9MdttjIYyAL6kC+WiFEN5L8SKklg=; b=LMeppoDs2JeuFBcGV9qcQIm6y6KJR3v4RIkw1fmAabZ4iSwXK3X8KhSGFzZtqf5BCS /wZYEeVr+1ceqnX/CSASGn62l/+dKxsOXZePHaVFhBAgcnRewQgrfVEsJcLf+mqXtbkk 2b9i0RSqk9Yrq+0UG+wSHRdTBUblMP5NbT357K1HGU5v8uOU0vQe9PaJtNmzUUsd/VYq 26aTradLLnBiQnO0YbKFvaaIknhkZU9vdtmCcE6RKvE02Soynx470FB9ZwdlOvUzLPCl ROE9CAE0NJs0EfM8xmV2Fld9sTNMZbkzPUlcl31AeOZGvYrWt+QfWJhLUOYHy+5jwwPl NhfQ== X-Gm-Message-State: AOJu0Yz7PFq1mcO18qRWgx2KOrzZKe1/US4VatAupEnWroKujugh9+7O 5CD6KXCajHPtMnQfJcMrLvAgUlh4C1VNt4nDisCyA0m4eHtaJ92h/1mS9KCfVodf6j1PA/qlwwe dYTwKhhtA1L3Y16RgnNuMAk9NoVRqhoH7d4kQ5I4OhPIj X-Gm-Gg: ASbGncvmbPusgvCgK74/nzboEkv21tGj95QF5+0/62AIVVV7xPaimNsFqxzOD9+cVYE WGrNRsbGRRCRxhnZfczHDj3BXx1A1dgyXnNDGk7oT3m8lfVQWMi2fADomtJQAW01aB8go9nYjzo Mixj7yylQFcynv14J8BMybFRlpbzsZb1ue/wj5fSZwujcV4k0VuODftAmwE0Ld4Zmo7/DuiolwI NdijzTGqOUsrpKAeDOWexJV5Ky0PqrDBwF1AeXmDNOB6r5jvC8b0F9QiLdi9/q3i++qpNkUg0JI 5X7t/qOmo1cyDIyJHcUIHno4ZL8/xyynF5OsA1YOY/fR5yxWt0YWr8sLSi0OqQqTwp3aUJ812kD ImcSX7I9VeXAG/W85JmH9CebD8aGFHHE= X-Google-Smtp-Source: AGHT+IGn+QAs8kewT0GHRGDhMpz4IHmq5/fCls+t3IUzBPqga2z0ckhwk65oGz46rf1kWX9qV1mlg210MWwk X-Received: by 2002:a05:6870:d363:b0:3e1:3472:1cae with SMTP id 586e51a60fabf-3e8690b012emr3355681fac.28.1763217393233; Sat, 15 Nov 2025 06:36:33 -0800 (PST) Received: from postal.iol.unh.edu (postal.iol.unh.edu. [132.177.123.84]) by smtp-relay.gmail.com with ESMTPS id 586e51a60fabf-3e851d6410bsm737981fac.0.2025.11.15.06.36.33 (version=TLS1_2 cipher=ECDHE-ECDSA-AES128-GCM-SHA256 bits=128/128); Sat, 15 Nov 2025 06:36:33 -0800 (PST) X-Relaying-Domain: iol.unh.edu Date: Sat, 15 Nov 2025 06:36:33 -0800 (PST) Message-ID: <69188ff1.050a0220.c94f9.3d1bSMTPIN_ADDED_MISSING@mx.google.com> Received: from [172.21.0.3] (unknown [172.18.0.240]) by postal.iol.unh.edu (Postfix) with ESMTP id B104F6051830; Sat, 15 Nov 2025 09:36:32 -0500 (EST) Subject: |SUCCESS| pw158784-158787 [PATCH] [v5,4/4] bus/fslmc: add support fo From: dpdklab@iol.unh.edu To: Test Report Cc: dpdk-test-reports@iol.unh.edu, Stephen Hemminger In-Reply-To: <20251114062454.2731559-4-hemant.agrawal@nxp.com> References: <20251114062454.2731559-4-hemant.agrawal@nxp.com> Content-Type: text/plain X-BeenThere: test-report@dpdk.org X-Mailman-Version: 2.1.29 Precedence: list List-Id: automatic DPDK test reports List-Unsubscribe: , List-Archive: List-Post: List-Help: List-Subscribe: , Errors-To: test-report-bounces@dpdk.org Test-Label: iol-compile-arm64-testing Test-Status: SUCCESS http://dpdk.org/patch/158787 _Testing PASS_ Submitter: Hemant Agrawal Date: Friday, November 14 2025 06:24:54 DPDK git baseline: Repo:dpdk-next-net Branch: master CommitID:fca6f2910345c25a5050a0b586e0d324ca616cbb 158784-158787 --> testing pass Upstream job id: Generic-DPDK-Compile-Meson#444537 Test environment and result as below: +------------------------------+--------------------+ | Environment | dpdk_meson_compile | +==============================+====================+ | Debian GNU/Linux 12 | PASS | +------------------------------+--------------------+ | Red Hat Enterprise Linux 9.5 | PASS | +------------------------------+--------------------+ | Ubuntu 20.04 | PASS | +------------------------------+--------------------+ | Fedora Linux 42 | PASS | +------------------------------+--------------------+ | Ubuntu 22.04 | PASS | +------------------------------+--------------------+ | Ubuntu 24.04 | PASS | +------------------------------+--------------------+ | CentOS Stream 9 | PASS | +------------------------------+--------------------+ | CentOS Stream 10 | PASS | +------------------------------+--------------------+ Debian GNU/Linux 12 Kernel: 5.4 Compiler: gcc gcc (Debian 12.2.0-14+deb12u1) 12.2.0 Red Hat Enterprise Linux 9.5 Kernel: 5.4 Compiler: gcc gcc (GCC) 11.5.0 20240719 (Red Hat 11.5.0-2) Ubuntu 20.04 Kernel: 5.15 Compiler: aarch64-linux-gnu-gcc gcc (Ubuntu 9.4.0-1ubuntu1~20.04.2) 9.4.0 Fedora Linux 42 Kernel: 5.4 Compiler: gcc gcc (GCC) 15.2.1 20250808 (Red Hat 15.2.1-1) Ubuntu 22.04 Kernel: 5.4 Compiler: gcc gcc (Ubuntu 11.4.0-1ubuntu1~22.04) 11.4.0 Ubuntu 24.04 Kernel: 5.4 Compiler: gcc gcc (Ubuntu 13.3.0-6ubuntu2~24.04) 13.3.0 CentOS Stream 9 Kernel: 5.4 Compiler: gcc gcc (GCC) 11.5.0 20240719 (Red Hat 11.5.0-11) CentOS Stream 10 Kernel: 5.4 Compiler: gcc gcc (GCC) 14.2.1 20250110 (Red Hat 14.2.1-8) To view detailed results, visit: https://lab.dpdk.org/results/dashboard/patchsets/34589/ UNH-IOL DPDK Community Lab To manage your email subscriptions, visit: https://lab.dpdk.org/results/dashboard/preferences/subscriptions/