From mboxrd@z Thu Jan 1 00:00:00 1970 Return-Path: Received: from mails.dpdk.org (mails.dpdk.org [217.70.189.124]) by inbox.dpdk.org (Postfix) with ESMTP id 9175B48B1A for ; Sat, 15 Nov 2025 15:40:54 +0100 (CET) Received: from mails.dpdk.org (localhost [127.0.0.1]) by mails.dpdk.org (Postfix) with ESMTP id 896B1402A2; Sat, 15 Nov 2025 15:40:54 +0100 (CET) Received: from mail-io1-f97.google.com (mail-io1-f97.google.com [209.85.166.97]) by mails.dpdk.org (Postfix) with ESMTP id EA28B402A2 for ; Sat, 15 Nov 2025 15:40:52 +0100 (CET) Received: by mail-io1-f97.google.com with SMTP id ca18e2360f4ac-94861514a5cso235678139f.1 for ; Sat, 15 Nov 2025 06:40:52 -0800 (PST) DKIM-Signature: v=1; a=rsa-sha256; c=relaxed/relaxed; d=iol.unh.edu; s=unh-iol; t=1763217652; x=1763822452; darn=dpdk.org; h=references:in-reply-to:cc:to:from:subject:message-id:date:from:to :cc:subject:date:message-id:reply-to; bh=QAfSClHZoeV5VJL+WvxX/CnTkObppZepLqu9/TbHtaM=; b=Y4uFhSsYDTIuk9QXLc6YNERWMp+Tvzig6c+FGjlO9BozM499X17g94Idi6KmOOsdce r+aNDW+xnviZKalaWwicWvRhZvZOVYvCF0S7KT1zUBnzu2z9qY2M0/sbUd2jJHCBU+Kl EAusvjTqAovFDPVBmwojk2eO2noNa8+d83l30= X-Google-DKIM-Signature: v=1; a=rsa-sha256; c=relaxed/relaxed; d=1e100.net; s=20230601; t=1763217652; x=1763822452; h=references:in-reply-to:cc:to:from:subject:message-id:date:x-gm-gg :x-gm-message-state:from:to:cc:subject:date:message-id:reply-to; bh=QAfSClHZoeV5VJL+WvxX/CnTkObppZepLqu9/TbHtaM=; b=XKz6AMUP77GgHHwhpoJXdC728HZRU+EQuMF34Cn3kMsduAdRT6yuDnBPakKmrt0Zfp GKFQBZ1KTMviEUYkmcFWJasY7qQV7bSRkYWzH7GGMEMd8lVaklckESYXWH6/XG65BZNk JsvJQx1LG+QUyljpL8mDeO4pPa7HI5YTTXw6XiExojdqyYLO+yX3YWRJzDBRjlUhX/TP V6jzVBYV+QXDa8vHG4aPqBjNTMh/H7WEEePQlSQZ7XPrh+7FeaUiNL8quYYjdyNn5ceR sYJOo6X+1lLfVdOTJDBLkmXVBZj0XKeyIZcyK1vpmFFPf//aPunaQSYOiOWG8FiEDtEq 7qyQ== X-Gm-Message-State: AOJu0YyV94x2R5iCdWr1GevAlXJ3JHGG0izwZvT8vHlKIdrnTx0JcAdM X2byWRr2KNE0zS/9xkmdn1eASu/sa21WOoWlNUfUoMl8bbtvuwet8/Nq6lPt2bU4+1IYu21gqRJ Ej4SbPTRzcP8HMxw3UMGLYMztq2uKgcIFpN9mxKgqchSWT6csZJeesyXzxygz X-Gm-Gg: ASbGnctsKTSWPfVCeCj9tLudYmFN2Scnl/WPyfhmp4r7i5UIPCZv0g1vEm8o/WH4JbR EwGf8a/5ADbZshFoXvkm0kg1kgAYejEHTQNv5NJrBguLuiUFztzvXe0jrfBZGQC7Lst48xLzcJc 8pfy2XxZDBQe5Kg6HGlEB6jkRW3kZkzgrOxE6RxmhPUdQAXYhfmbnOt6l9AjDERd2XdHE8GgWzF RyQquRa6h6vvJJ/Jnq/rtjEZWSb9AdC7TO59jozQJZh3vwcpK1DVae0RDbqwOwZOERSSRJy9rer Rx8Z9J5A73wJoGBLQRibtPkuN+fLebJbL6ljIgMnmW5jY9lEYvcZkr2dnX+iLKEWF6sUM3haIP5 EX1ouUEPK X-Google-Smtp-Source: AGHT+IFoVRFzSQ8OOanxUbptM+Utcv/+fh5k4uX00VodWivoUgTCVUuWlDT2f6RkBFdICe1iMs7EaGfdFulK X-Received: by 2002:a02:cada:0:b0:578:f9c6:16dd with SMTP id 8926c6da1cb9f-5b7c9c7ea52mr2158095173.8.1763217652246; Sat, 15 Nov 2025 06:40:52 -0800 (PST) Received: from postal.iol.unh.edu (postal.iol.unh.edu. [2606:4100:3880:1234::84]) by smtp-relay.gmail.com with ESMTPS id 8926c6da1cb9f-5b7bd158ccbsm433614173.0.2025.11.15.06.40.52 (version=TLS1_2 cipher=ECDHE-ECDSA-AES128-GCM-SHA256 bits=128/128); Sat, 15 Nov 2025 06:40:52 -0800 (PST) X-Relaying-Domain: iol.unh.edu Date: Sat, 15 Nov 2025 06:40:52 -0800 (PST) Message-ID: <691890f4.050a0220.1aa376.57caSMTPIN_ADDED_MISSING@mx.google.com> Received: from [172.21.0.3] (unknown [172.18.0.240]) by postal.iol.unh.edu (Postfix) with ESMTP id CBBB160003F4; Sat, 15 Nov 2025 09:40:51 -0500 (EST) Subject: |SUCCESS| pw158788 [PATCH] net: ipv6 link local compliance with rfc From: dpdklab@iol.unh.edu To: Test Report Cc: dpdk-test-reports@iol.unh.edu In-Reply-To: <20251114105751.54802-3-rjarry@redhat.com> References: <20251114105751.54802-3-rjarry@redhat.com> Content-Type: text/plain X-BeenThere: test-report@dpdk.org X-Mailman-Version: 2.1.29 Precedence: list List-Id: automatic DPDK test reports List-Unsubscribe: , List-Archive: List-Post: List-Help: List-Subscribe: , Errors-To: test-report-bounces@dpdk.org Test-Label: iol-compile-arm64-testing Test-Status: SUCCESS http://dpdk.org/patch/158788 _Testing PASS_ Submitter: Robin Jarry Date: Friday, November 14 2025 10:57:53 DPDK git baseline: Repo:dpdk Branch: master CommitID:be0112878b4fc3a1b918370ed2fe615c52039d77 158788 --> testing pass Upstream job id: Generic-DPDK-Compile-Meson#444569 Test environment and result as below: +------------------------------+--------------------+ | Environment | dpdk_meson_compile | +==============================+====================+ | Red Hat Enterprise Linux 9.5 | PASS | +------------------------------+--------------------+ | Ubuntu 20.04 | PASS | +------------------------------+--------------------+ | Debian GNU/Linux 12 | PASS | +------------------------------+--------------------+ | Fedora Linux 42 | PASS | +------------------------------+--------------------+ | Ubuntu 22.04 | PASS | +------------------------------+--------------------+ | Ubuntu 24.04 | PASS | +------------------------------+--------------------+ | CentOS Stream 9 | PASS | +------------------------------+--------------------+ | CentOS Stream 10 | PASS | +------------------------------+--------------------+ Red Hat Enterprise Linux 9.5 Kernel: 5.4 Compiler: gcc gcc (GCC) 11.5.0 20240719 (Red Hat 11.5.0-2) Ubuntu 20.04 Kernel: 5.15 Compiler: aarch64-linux-gnu-gcc gcc (Ubuntu 9.4.0-1ubuntu1~20.04.2) 9.4.0 Debian GNU/Linux 12 Kernel: 5.4 Compiler: gcc gcc (Debian 12.2.0-14+deb12u1) 12.2.0 Fedora Linux 42 Kernel: 5.4 Compiler: gcc gcc (GCC) 15.2.1 20250808 (Red Hat 15.2.1-1) Ubuntu 22.04 Kernel: 5.4 Compiler: gcc gcc (Ubuntu 11.4.0-1ubuntu1~22.04) 11.4.0 Ubuntu 24.04 Kernel: 5.4 Compiler: gcc gcc (Ubuntu 13.3.0-6ubuntu2~24.04) 13.3.0 CentOS Stream 9 Kernel: 5.4 Compiler: gcc gcc (GCC) 11.5.0 20240719 (Red Hat 11.5.0-11) CentOS Stream 10 Kernel: 5.4 Compiler: gcc gcc (GCC) 14.2.1 20250110 (Red Hat 14.2.1-8) To view detailed results, visit: https://lab.dpdk.org/results/dashboard/patchsets/34590/ UNH-IOL DPDK Community Lab To manage your email subscriptions, visit: https://lab.dpdk.org/results/dashboard/preferences/subscriptions/