From mboxrd@z Thu Jan 1 00:00:00 1970 Return-Path: Received: from mails.dpdk.org (mails.dpdk.org [217.70.189.124]) by inbox.dpdk.org (Postfix) with ESMTP id 077E748B1A for ; Sat, 15 Nov 2025 15:44:41 +0100 (CET) Received: from mails.dpdk.org (localhost [127.0.0.1]) by mails.dpdk.org (Postfix) with ESMTP id DEBD2402A2; Sat, 15 Nov 2025 15:44:40 +0100 (CET) Received: from mail-yw1-f225.google.com (mail-yw1-f225.google.com [209.85.128.225]) by mails.dpdk.org (Postfix) with ESMTP id 8D859402A2 for ; Sat, 15 Nov 2025 15:44:39 +0100 (CET) Received: by mail-yw1-f225.google.com with SMTP id 00721157ae682-780fe76f457so26900047b3.0 for ; Sat, 15 Nov 2025 06:44:39 -0800 (PST) DKIM-Signature: v=1; a=rsa-sha256; c=relaxed/relaxed; d=iol.unh.edu; s=unh-iol; t=1763217879; x=1763822679; darn=dpdk.org; h=references:in-reply-to:cc:to:from:subject:message-id:date:from:to :cc:subject:date:message-id:reply-to; bh=Z5v3jM+n9xUxxWakDpObxG9z+JepgkFl9QZl+lTZcJk=; b=R/kGUVUnCForYo5mmsY4soXU1XCdNk3tWexUyoQOi9TeL7pQT1+3xNi29Oba8IheIp qI9r3ODr+hThLdzIkoNpbWzz1cyepnH4+TzlQ0BKPZy6zF12mIGADV5xmWwYJn+6wnHk Xs00KteVh0ff4QU4Pw5soQJ+D2YdgycrSodJE= X-Google-DKIM-Signature: v=1; a=rsa-sha256; c=relaxed/relaxed; d=1e100.net; s=20230601; t=1763217879; x=1763822679; h=references:in-reply-to:cc:to:from:subject:message-id:date:x-gm-gg :x-gm-message-state:from:to:cc:subject:date:message-id:reply-to; bh=Z5v3jM+n9xUxxWakDpObxG9z+JepgkFl9QZl+lTZcJk=; b=Mldk/YvB+aRd8QDF4Y+beur+Y09zyKmpuanX6TTBJ4H/ihRopClVhqrWPjvYgdmUd7 jEoj30zsoxmutwJGWqrk0gH3GKuxSTmDsQsKYaxNnpW/mNntRORIDyswrfHDzgVjERR0 cVHOHtnnxJ3eINUWxmABpqwbNIs5J+gqPyIdX6LmbBADvMCosD4HK1n3Zc+04Ec2hri3 htC9q59T2kqsJZf8pxG3RmpwIzcGjjuHi9zTdR3NF+cG1347kkGKvALojUF0tMeI+0Y9 TunT7l310aRfpW5jRm9P4IwCIUfqlRpYk6sb/zmTFDetE2P6o+qLr26honwTInd/lZXb ekBw== X-Gm-Message-State: AOJu0YzycvQOjG8/p3SUsnyoFsPyEtL7peN5zgUzNY1w/uYhOmWcmARA Wtc6FtSMiORi4K2M11J6IPw71iK9+C844Ur7iyaOiYIhlYw1j2RFMaQY3YNbTbz05aWyylB0mbm qq0miBdMnsjXG0OXZYmUOB5a+DQuhHFMtY11aMB0/0/ks X-Gm-Gg: ASbGnct5JDEeD40memylZDU+9/bZ3zZG0ac0egOv74331ji0ZouHWSA81hBi/fEXjda xd6OEbuLEchUAdntKR1tXntuGW91Wfoho6/GkH2WS/4rdDCPPxnpvAcPh3Ozwoh+NETqAX/MaOX CGAQQoE6bxD5dNGQtr1K5kq9QK0auMDcVUJByyDOz/QZb7QCsQ47kYyrHVUT8XqbO88wBM0xCRi jhNQ2B/ht2xQ5qF9xEumKoq8jzl2Rk7+kI6tnNer4VTesquFKk0wjpL4NDJ8wmpHOz42uYepiWf 22dHKKji6ESSwuZAbUBtgzdip4WE3+eg9e5BLPVqXmn5AZ8BiNNW2XWcte0dpN6qPo4TTgrQAr9 MD+V0erVz1pKLg8RoVnU/taoeHqPtx6g= X-Google-Smtp-Source: AGHT+IHXBsAtdS5VvxjpLbxxzzMMyerN0VsJ1S/gUx/ElYxz6mywTYL9nCUiC3+JMntdVSkyOIoSR91YQXS9 X-Received: by 2002:a05:690c:a08d:10b0:781:32c:b359 with SMTP id 00721157ae682-78929ed2d9bmr98859857b3.36.1763217878863; Sat, 15 Nov 2025 06:44:38 -0800 (PST) Received: from postal.iol.unh.edu (postal.iol.unh.edu. [132.177.123.84]) by smtp-relay.gmail.com with ESMTPS id 00721157ae682-78821e24d8esm4295497b3.10.2025.11.15.06.44.38 (version=TLS1_2 cipher=ECDHE-ECDSA-AES128-GCM-SHA256 bits=128/128); Sat, 15 Nov 2025 06:44:38 -0800 (PST) X-Relaying-Domain: iol.unh.edu Date: Sat, 15 Nov 2025 06:44:38 -0800 (PST) Message-ID: <691891d6.050a0220.c77fa.52dcSMTPIN_ADDED_MISSING@mx.google.com> Received: from [172.21.0.9] (unknown [172.18.0.240]) by postal.iol.unh.edu (Postfix) with ESMTP id 76F6F6051830; Sat, 15 Nov 2025 09:44:38 -0500 (EST) Subject: |SUCCESS| pw158816 [PATCH] net/e1000: add check for filter mask rang From: dpdklab@iol.unh.edu To: Test Report Cc: dpdk-test-reports@iol.unh.edu, Bruce Richardson In-Reply-To: <20251114182131.1296580-1-stephen@networkplumber.org> References: <20251114182131.1296580-1-stephen@networkplumber.org> Content-Type: text/plain X-BeenThere: test-report@dpdk.org X-Mailman-Version: 2.1.29 Precedence: list List-Id: automatic DPDK test reports List-Unsubscribe: , List-Archive: List-Post: List-Help: List-Subscribe: , Errors-To: test-report-bounces@dpdk.org Test-Label: iol-compile-arm64-testing Test-Status: SUCCESS http://dpdk.org/patch/158816 _Testing PASS_ Submitter: Stephen Hemminger Date: Friday, November 14 2025 18:21:31 DPDK git baseline: Repo:dpdk-next-net-intel Branch: master CommitID:e5357d609907d504f4705e4899f3dad43cb4b70f 158816 --> testing pass Upstream job id: Generic-DPDK-Compile-Meson#444690 Test environment and result as below: +------------------------------+--------------------+ | Environment | dpdk_meson_compile | +==============================+====================+ | Fedora Linux 42 | PASS | +------------------------------+--------------------+ | Ubuntu 20.04 | PASS | +------------------------------+--------------------+ | Red Hat Enterprise Linux 9.5 | PASS | +------------------------------+--------------------+ | Debian GNU/Linux 12 | PASS | +------------------------------+--------------------+ | Ubuntu 22.04 | PASS | +------------------------------+--------------------+ | Ubuntu 24.04 | PASS | +------------------------------+--------------------+ | CentOS Stream 9 | PASS | +------------------------------+--------------------+ | CentOS Stream 10 | PASS | +------------------------------+--------------------+ Fedora Linux 42 Kernel: 5.4 Compiler: clang gcc (GCC) 15.2.1 20250808 (Red Hat 15.2.1-1) Ubuntu 20.04 Kernel: 5.15 Compiler: aarch64-linux-gnu-gcc gcc (Ubuntu 9.4.0-1ubuntu1~20.04.2) 9.4.0 Red Hat Enterprise Linux 9.5 Kernel: 5.4 Compiler: gcc gcc (GCC) 11.5.0 20240719 (Red Hat 11.5.0-2) Debian GNU/Linux 12 Kernel: 5.4 Compiler: gcc gcc (Debian 12.2.0-14+deb12u1) 12.2.0 Ubuntu 22.04 Kernel: 5.4 Compiler: gcc gcc (Ubuntu 11.4.0-1ubuntu1~22.04) 11.4.0 Ubuntu 24.04 Kernel: 5.4 Compiler: gcc gcc (Ubuntu 13.3.0-6ubuntu2~24.04) 13.3.0 CentOS Stream 9 Kernel: 5.4 Compiler: gcc gcc (GCC) 11.5.0 20240719 (Red Hat 11.5.0-11) CentOS Stream 10 Kernel: 5.4 Compiler: gcc gcc (GCC) 14.2.1 20250110 (Red Hat 14.2.1-8) To view detailed results, visit: https://lab.dpdk.org/results/dashboard/patchsets/34598/ UNH-IOL DPDK Community Lab To manage your email subscriptions, visit: https://lab.dpdk.org/results/dashboard/preferences/subscriptions/