From mboxrd@z Thu Jan 1 00:00:00 1970 Return-Path: Received: from mails.dpdk.org (mails.dpdk.org [217.70.189.124]) by inbox.dpdk.org (Postfix) with ESMTP id 097B148B1A for ; Sat, 15 Nov 2025 15:45:30 +0100 (CET) Received: from mails.dpdk.org (localhost [127.0.0.1]) by mails.dpdk.org (Postfix) with ESMTP id 03FE2402A2; Sat, 15 Nov 2025 15:45:30 +0100 (CET) Received: from mail-pl1-f227.google.com (mail-pl1-f227.google.com [209.85.214.227]) by mails.dpdk.org (Postfix) with ESMTP id A1D0E402A2 for ; Sat, 15 Nov 2025 15:45:28 +0100 (CET) Received: by mail-pl1-f227.google.com with SMTP id d9443c01a7336-29845b06dd2so31866915ad.2 for ; Sat, 15 Nov 2025 06:45:28 -0800 (PST) DKIM-Signature: v=1; a=rsa-sha256; c=relaxed/relaxed; d=iol.unh.edu; s=unh-iol; t=1763217928; x=1763822728; darn=dpdk.org; h=references:in-reply-to:cc:to:from:subject:message-id:date:from:to :cc:subject:date:message-id:reply-to; bh=72tKV5hRmZMjSbAb2y110d7Silml3zaxIF4XEqxS6co=; b=L7AVRTu7WXvaqBNftvowlLlxsFMXghMCqnTazmxf3THxKFGLi7RzEXUkoTFXj+Naaq gpEpuQAlFY+x7J854AsXSCzSSlq1xzPxvJ6YHVFLxwLtTbke5AoO34hje5cdcv2bkBak 7VM9sf2BQBAwrv+HkDD+7taWXhNl7dCD63VOI= X-Google-DKIM-Signature: v=1; a=rsa-sha256; c=relaxed/relaxed; d=1e100.net; s=20230601; t=1763217928; x=1763822728; h=references:in-reply-to:cc:to:from:subject:message-id:date:x-gm-gg :x-gm-message-state:from:to:cc:subject:date:message-id:reply-to; bh=72tKV5hRmZMjSbAb2y110d7Silml3zaxIF4XEqxS6co=; b=s4MVCpWFKqoi/l6fTPulplWVOHE+05USqPIfrQWwXdgNotkzSmUCIZ8h6jco47K7sD +or/qAO+SqM5x+shsU6+qUOvcHEiyyqeR1qf5+3p7AeHBKRYUiAVLj+b3mzhsOKdMM4O t1WcKpRfKmQ3zkSrVsxepjRwlib+McBu4zGAx+lcZGmh2wyLEdseCFHJ/o6jg/BWsZGX FwmXiM4FplCnwyK2yRL2ud5Y0Y6Hags2VsVDXkZDpzAMXGJzkmxTguFoRKJsGiVBnVr/ 10+wXWmBZH+PLtwXcdznXsUXWVlhVvRtfMUWfHm1i/7bs7QeDglVKi82fZ/J+LIHXefF 7yMQ== X-Gm-Message-State: AOJu0YyEPhPd1rqPESIYYUNgQP6B7vRafHDaQqn27wyd6pckWpP/uHI+ Y0ScuinBZ6iu3jT0U10tQGXCwPWXPdonQBGJKludOokgG3yB8wbIxx7o8tV9iYWkZYnb2P3HtWw aagucA0+qLM5k0O5Vt0oReUXoF0mIywIW3AAcuLKgw3NYRrqvsqVHW3IoYpEu X-Gm-Gg: ASbGnct9D3Ua1PNUDCCA6Amm6mBFg+ZrTtKt2TPynNQ+Hn6gGTcXWU8XXavBUav2hx5 qJakTDZmMWEA6l+gzOMvU94r9yGPNk8xvvOsPXecRbiF+7NXKbz1F/5vrVhjaSJzvY9U0NDAyU6 FxDw6usT7Li7nI+P47CoJWrH6GPqebCd9tNqMkAPqiSWKeEF20Fku4fBMDDPreA0tpsR1Z0nlD0 txQyN9EGbueUxp+lnjj0QvhsNL1cv8oRvFch5RAZpWrAB6j7CbWZ4exrTKTd93uuqpwE9WIg4MV CO9Hnxuit7cWn4xc5eKBflxx83uTeIXXJA+vJWxlSh4juq4m12054tXymF3UuIEFN4LMgaAa1Jm wgYCnkw9W X-Google-Smtp-Source: AGHT+IH1S4KINB1ydEu8TYB0/dwggf6g6mBX0W1yvlCINmp/56E+YtvRV75OACf9XbMywzaa+DZCuaPlSK0+ X-Received: by 2002:a17:902:f712:b0:295:560a:e499 with SMTP id d9443c01a7336-2986a6abdc5mr80466155ad.5.1763217927811; Sat, 15 Nov 2025 06:45:27 -0800 (PST) Received: from postal.iol.unh.edu (postal.iol.unh.edu. [2606:4100:3880:1234::84]) by smtp-relay.gmail.com with ESMTPS id d9443c01a7336-2985c17f8a1sm8626155ad.0.2025.11.15.06.45.27 (version=TLS1_2 cipher=ECDHE-ECDSA-AES128-GCM-SHA256 bits=128/128); Sat, 15 Nov 2025 06:45:27 -0800 (PST) X-Relaying-Domain: iol.unh.edu Date: Sat, 15 Nov 2025 06:45:27 -0800 (PST) Message-ID: <69189207.170a0220.c6043.bc77SMTPIN_ADDED_MISSING@mx.google.com> Received: from [172.21.0.10] (unknown [172.18.0.240]) by postal.iol.unh.edu (Postfix) with ESMTP id 44EEE6051830; Sat, 15 Nov 2025 09:45:27 -0500 (EST) Subject: |SUCCESS| pw158816 [PATCH] net/e1000: add check for filter mask rang From: dpdklab@iol.unh.edu To: Test Report Cc: dpdk-test-reports@iol.unh.edu, Bruce Richardson In-Reply-To: <20251114182131.1296580-1-stephen@networkplumber.org> References: <20251114182131.1296580-1-stephen@networkplumber.org> Content-Type: text/plain X-BeenThere: test-report@dpdk.org X-Mailman-Version: 2.1.29 Precedence: list List-Id: automatic DPDK test reports List-Unsubscribe: , List-Archive: List-Post: List-Help: List-Subscribe: , Errors-To: test-report-bounces@dpdk.org Test-Label: iol-compile-arm64-testing Test-Status: SUCCESS http://dpdk.org/patch/158816 _Testing PASS_ Submitter: Stephen Hemminger Date: Friday, November 14 2025 18:21:31 DPDK git baseline: Repo:dpdk-next-net-intel Branch: master CommitID:e5357d609907d504f4705e4899f3dad43cb4b70f 158816 --> testing pass Upstream job id: Generic-DPDK-Compile-Meson#444689 Test environment and result as below: +------------------------------+--------------------+ | Environment | dpdk_meson_compile | +==============================+====================+ | Fedora Linux 42 | PASS | +------------------------------+--------------------+ | Ubuntu 20.04 | PASS | +------------------------------+--------------------+ | Red Hat Enterprise Linux 9.5 | PASS | +------------------------------+--------------------+ | Debian GNU/Linux 12 | PASS | +------------------------------+--------------------+ | Ubuntu 22.04 | PASS | +------------------------------+--------------------+ | Ubuntu 24.04 | PASS | +------------------------------+--------------------+ | CentOS Stream 9 | PASS | +------------------------------+--------------------+ | CentOS Stream 10 | PASS | +------------------------------+--------------------+ Fedora Linux 42 Kernel: 5.4 Compiler: clang gcc (GCC) 15.2.1 20250808 (Red Hat 15.2.1-1) Ubuntu 20.04 Kernel: 5.15 Compiler: aarch64-linux-gnu-gcc gcc (Ubuntu 9.4.0-1ubuntu1~20.04.2) 9.4.0 Red Hat Enterprise Linux 9.5 Kernel: 5.4 Compiler: gcc gcc (GCC) 11.5.0 20240719 (Red Hat 11.5.0-2) Debian GNU/Linux 12 Kernel: 5.4 Compiler: gcc gcc (Debian 12.2.0-14+deb12u1) 12.2.0 Ubuntu 22.04 Kernel: 5.4 Compiler: gcc gcc (Ubuntu 11.4.0-1ubuntu1~22.04) 11.4.0 Ubuntu 24.04 Kernel: 5.4 Compiler: gcc gcc (Ubuntu 13.3.0-6ubuntu2~24.04) 13.3.0 CentOS Stream 9 Kernel: 5.4 Compiler: gcc gcc (GCC) 11.5.0 20240719 (Red Hat 11.5.0-11) CentOS Stream 10 Kernel: 5.4 Compiler: gcc gcc (GCC) 14.2.1 20250110 (Red Hat 14.2.1-8) To view detailed results, visit: https://lab.dpdk.org/results/dashboard/patchsets/34598/ UNH-IOL DPDK Community Lab To manage your email subscriptions, visit: https://lab.dpdk.org/results/dashboard/preferences/subscriptions/