From mboxrd@z Thu Jan 1 00:00:00 1970 Return-Path: Received: from mails.dpdk.org (mails.dpdk.org [217.70.189.124]) by inbox.dpdk.org (Postfix) with ESMTP id 405BA48B1A for ; Sat, 15 Nov 2025 15:47:04 +0100 (CET) Received: from mails.dpdk.org (localhost [127.0.0.1]) by mails.dpdk.org (Postfix) with ESMTP id 3BDFD402A2; Sat, 15 Nov 2025 15:47:04 +0100 (CET) Received: from mail-pl1-f228.google.com (mail-pl1-f228.google.com [209.85.214.228]) by mails.dpdk.org (Postfix) with ESMTP id 00ED3402A2 for ; Sat, 15 Nov 2025 15:47:03 +0100 (CET) Received: by mail-pl1-f228.google.com with SMTP id d9443c01a7336-2953e415b27so28579715ad.2 for ; Sat, 15 Nov 2025 06:47:02 -0800 (PST) DKIM-Signature: v=1; a=rsa-sha256; c=relaxed/relaxed; d=iol.unh.edu; s=unh-iol; t=1763218022; x=1763822822; darn=dpdk.org; h=references:in-reply-to:cc:to:from:subject:message-id:date:from:to :cc:subject:date:message-id:reply-to; bh=3sNDjWPIdw6Y+QsWGtHAJHaBBYSs2D3B818G4R37VNY=; b=IK4ktAKxcaIMDmXvWxGox48NwAFQkK3MJYKyb6CqrDJ0cmIoYnG8gJ0SRjKJOpmTCg mgjUqs8wCRkI5Xf7u//syI59YMhq6pdrEsnnV9bWKo+TUslydgDr9YmQ/UNV7ffHn44b T886mWUunhvdfxOutIheRjFHaVB1on7T/Zd58= X-Google-DKIM-Signature: v=1; a=rsa-sha256; c=relaxed/relaxed; d=1e100.net; s=20230601; t=1763218022; x=1763822822; h=references:in-reply-to:cc:to:from:subject:message-id:date:x-gm-gg :x-gm-message-state:from:to:cc:subject:date:message-id:reply-to; bh=3sNDjWPIdw6Y+QsWGtHAJHaBBYSs2D3B818G4R37VNY=; b=UAWYm+3xyR59+/yVIYVVXnGsF6gDJJD4Yw7ctUtd8asFMH/WOKZTLfnRWfI1ACry2f OfZnrS9Uj3Q/JwF1EqcvqfTj5Yp5Wcd/2JI/InLYQLu7jgRuQ+Jwh6PoC9eXZhULZTaN Q6oTuIo9xtUoVMxt2yd2f4bLElwf1BQjDpqx8NwueSXfuTCPAwNKtvY7JyGWqH3F3pm1 O/Dqoy08ERk/n8uO5C5pq8nUT0h45OuYnhVLk0HsK1UC1UZsJ+dVZnCfshp5pzy0+Lmc 8T9dCfql4uxLDUbmdWQMEVejPUjxmKY75znGBWeu8hV8+op+EEgmhLnUu85hzv5mzfZO 2H9Q== X-Gm-Message-State: AOJu0Yxvg+nWPs4Ng7L5P6aUdIZ9+IDSvqb03etCiSy/RebYaQMdHHhN kkK8oQQkoDX/2t7yEA6rv7U5hMUrp3aylXOodGK7n8Z+OvTlAQ0q68TCT1Y97HT1L49J3NTjq6p XqzbTI6Rr/zU/RrcWsVvcgx+oACOTb9K2IeAH/WPvQuJErmLGD+EC0HtJExoT X-Gm-Gg: ASbGnctTPDZgNe5VMfzjWc98wR0U8P5XJEV+dINOSa/x3OHLzDYe4p0Wn9dvAflbWFR wGunDFqQIqjKEM8c7ECzisv99aSu3Eyrb5RsZ3/RD3M7QMMh/n5nYSCRr7JDSiZvuDLrp63bg2i 1LOEvU6LEm7otmaR1huLC58ivI4WBqyy69tKUK8dEMbs1P7DR1im3yUow7Br7L8LQ5e7rAVja/p JBQ06HDpy5fs+qzLYt6VSiJM/K2RtHh51OVRQj6w6rK048dWKzkE5C0JBrqGjxCgqzQcNqYN/dh 5KFcT3OGIjyMoWHSeBFV5RBka+X6UsMuMcCmAYdOjSt7hjh8j15k2K50nElrlFeFn1KhgQzg4vy fymd8Es9H X-Google-Smtp-Source: AGHT+IELn945hvb951wjM38qRCg5Liz4oxxBcC+Edqho5Ydwh5k+z1qtaKQKOm4IwzB+/1LAY23LoL7DZoOT X-Received: by 2002:a17:903:3b8e:b0:24b:270e:56c7 with SMTP id d9443c01a7336-2986a6b88eemr83707975ad.7.1763218022146; Sat, 15 Nov 2025 06:47:02 -0800 (PST) Received: from postal.iol.unh.edu (postal.iol.unh.edu. [2606:4100:3880:1234::84]) by smtp-relay.gmail.com with ESMTPS id d9443c01a7336-299d40b0385sm302685ad.49.2025.11.15.06.47.02 (version=TLS1_2 cipher=ECDHE-ECDSA-AES128-GCM-SHA256 bits=128/128); Sat, 15 Nov 2025 06:47:02 -0800 (PST) X-Relaying-Domain: iol.unh.edu Date: Sat, 15 Nov 2025 06:47:02 -0800 (PST) Message-ID: <69189266.170a0220.330e3c.1834SMTPIN_ADDED_MISSING@mx.google.com> Received: from [172.21.0.3] (unknown [172.18.0.240]) by postal.iol.unh.edu (Postfix) with ESMTP id 9D7DF6051830; Sat, 15 Nov 2025 09:47:01 -0500 (EST) Subject: |SUCCESS| pw158791 [PATCH] [v4] test/crypto: add AES-CCM test case w From: dpdklab@iol.unh.edu To: Test Report Cc: dpdk-test-reports@iol.unh.edu, Akhil Goyal In-Reply-To: <20251114162036.170466-1-emma.finn@intel.com> References: <20251114162036.170466-1-emma.finn@intel.com> Content-Type: text/plain X-BeenThere: test-report@dpdk.org X-Mailman-Version: 2.1.29 Precedence: list List-Id: automatic DPDK test reports List-Unsubscribe: , List-Archive: List-Post: List-Help: List-Subscribe: , Errors-To: test-report-bounces@dpdk.org Test-Label: iol-compile-arm64-testing Test-Status: SUCCESS http://dpdk.org/patch/158791 _Testing PASS_ Submitter: Emma Finn Date: Friday, November 14 2025 16:20:35 DPDK git baseline: Repo:dpdk-next-crypto Branch: master CommitID:754ac59dcaf20949b55c58ab00ca73ea19dcc1cb 158791 --> testing pass Upstream job id: Generic-DPDK-Compile-Meson#444597 Test environment and result as below: +------------------------------+--------------------+ | Environment | dpdk_meson_compile | +==============================+====================+ | Red Hat Enterprise Linux 9.5 | PASS | +------------------------------+--------------------+ | Ubuntu 20.04 | PASS | +------------------------------+--------------------+ | Debian GNU/Linux 12 | PASS | +------------------------------+--------------------+ | Fedora Linux 42 | PASS | +------------------------------+--------------------+ | Ubuntu 22.04 | PASS | +------------------------------+--------------------+ | Ubuntu 24.04 | PASS | +------------------------------+--------------------+ | CentOS Stream 9 | PASS | +------------------------------+--------------------+ | CentOS Stream 10 | PASS | +------------------------------+--------------------+ Red Hat Enterprise Linux 9.5 Kernel: 5.4 Compiler: gcc gcc (GCC) 11.5.0 20240719 (Red Hat 11.5.0-2) Ubuntu 20.04 Kernel: 5.15 Compiler: aarch64-linux-gnu-gcc gcc (Ubuntu 9.4.0-1ubuntu1~20.04.2) 9.4.0 Debian GNU/Linux 12 Kernel: 5.4 Compiler: gcc gcc (Debian 12.2.0-14+deb12u1) 12.2.0 Fedora Linux 42 Kernel: 5.4 Compiler: gcc gcc (GCC) 15.2.1 20250808 (Red Hat 15.2.1-1) Ubuntu 22.04 Kernel: 5.4 Compiler: gcc gcc (Ubuntu 11.4.0-1ubuntu1~22.04) 11.4.0 Ubuntu 24.04 Kernel: 5.4 Compiler: gcc gcc (Ubuntu 13.3.0-6ubuntu2~24.04) 13.3.0 CentOS Stream 9 Kernel: 5.4 Compiler: gcc gcc (GCC) 11.5.0 20240719 (Red Hat 11.5.0-11) CentOS Stream 10 Kernel: 5.4 Compiler: gcc gcc (GCC) 14.2.1 20250110 (Red Hat 14.2.1-8) To view detailed results, visit: https://lab.dpdk.org/results/dashboard/patchsets/34592/ UNH-IOL DPDK Community Lab To manage your email subscriptions, visit: https://lab.dpdk.org/results/dashboard/preferences/subscriptions/