From mboxrd@z Thu Jan 1 00:00:00 1970 Return-Path: Received: from mails.dpdk.org (mails.dpdk.org [217.70.189.124]) by inbox.dpdk.org (Postfix) with ESMTP id 56A2B48B1A for ; Sat, 15 Nov 2025 15:47:40 +0100 (CET) Received: from mails.dpdk.org (localhost [127.0.0.1]) by mails.dpdk.org (Postfix) with ESMTP id 5205D402A2; Sat, 15 Nov 2025 15:47:40 +0100 (CET) Received: from mail-qk1-f226.google.com (mail-qk1-f226.google.com [209.85.222.226]) by mails.dpdk.org (Postfix) with ESMTP id EBCD2402A2 for ; Sat, 15 Nov 2025 15:47:39 +0100 (CET) Received: by mail-qk1-f226.google.com with SMTP id af79cd13be357-8b21fc25ae1so302107685a.1 for ; Sat, 15 Nov 2025 06:47:39 -0800 (PST) DKIM-Signature: v=1; a=rsa-sha256; c=relaxed/relaxed; d=iol.unh.edu; s=unh-iol; t=1763218059; x=1763822859; darn=dpdk.org; h=references:in-reply-to:cc:to:from:subject:message-id:date:from:to :cc:subject:date:message-id:reply-to; bh=8ZeOSGxbvs7W7VNd8AegMbd+/M+6Bj1JPPnCCObTGPI=; b=U1SHsBvLXchIXGclVfjRge0dcE47BJwckx1wh5Ed9TYwXkWPxWkif2w6A4Vy7Xp9Va 8gyU3Cs/Q+t3OwP3OFXzvU/8Y4YVzydaVGJijnqLY8l0QX4qmLMk6B1ZCCI9Ptl4saYS ChMt/6S7R+b6U8Wz5mOPJYWRY7xw8CayBer0g= X-Google-DKIM-Signature: v=1; a=rsa-sha256; c=relaxed/relaxed; d=1e100.net; s=20230601; t=1763218059; x=1763822859; h=references:in-reply-to:cc:to:from:subject:message-id:date:x-gm-gg :x-gm-message-state:from:to:cc:subject:date:message-id:reply-to; bh=8ZeOSGxbvs7W7VNd8AegMbd+/M+6Bj1JPPnCCObTGPI=; b=J3ITh6dihSqSGW+iqHwa9zNI83qPL0a8c+M+UF0T0lsGbaloCe0SKxGF1N3IdBtaop FNs44yWgzKQRpo/uohTkRSBfEr3gyLFuscRsUqnBfWAQciebChocF+7eKKLZktDzQqdK TovSmQeT00GgsPFKgAg3gqfNyH49IH4CVxrWpSjnexkLHxEwE0ikmrK+OevLW5JjkomU XjQM1DrSIWVsdJFQx59W6nzZf6CAvwnVmLX2eV/qXF8381AN9P71ietJrbxir2JqLNik ePLJUJvL9vNuNaNAf1wivSsnR1/z6oI0cjC/stRnUsB/2Q+5UorBspkESJBpjNncLztd zkJA== X-Gm-Message-State: AOJu0YxhJPea1gMgsJ9B2Y+x2IjuiGI94ahVUsfGIW5f+OCBlE1bJTwO PxAoPQOtzxS2Yjwio1RbGWGaqhuGpgXYYZJIofTdzQ8NlbQuwbb4n+kddaMBZvNcmB8i1Hh7NLb yJ8hNS9uTEO+VxjGWd62w4I7mJC59ypXqIOZd9l3AlugJ+55sGHFWK089wZuz X-Gm-Gg: ASbGncsWrO1oQTIORESQCnjcCD6khXjgqMlWSIKkScMGDDdas6oew4g5QZmbXYeYviQ ZuvZEehlSL7oP3we/es3tvXXZn35ElKbPsf9lxshWicuUWggRpjItTnY62VBjs7xjKiA6c2XfrY Fi5Tx1frIOw6o1jdTJ3OQfm/avx3e2iiA9tvp9HnkDKo93oGMRLHOJdFAygBjnk18O3PXh7RSLA l5iY965OpiU+40U8UEUTOSIUv7EyVV+Wb+96kCn6cdk/wqz+T8lj3iFNUD0/rjvuIbTr85ZsdVH q89q8pX00S5ZVYXTF3TnfrUTPZPGrNet2UnNmIR5e3H6vJOJjffelJJWaDAaJT2Q5KTP9QS7fcw ujl6DOLkS X-Google-Smtp-Source: AGHT+IEDzZRV7VZtpR++GZRuY73F1k28ObBU4BvWKcphhcUgtwWgmJDOFc6heaW3zBjanXlLoQR96tOT7NbR X-Received: by 2002:ad4:5ae1:0:b0:882:437d:282d with SMTP id 6a1803df08f44-882925e683fmr105517086d6.30.1763218059262; Sat, 15 Nov 2025 06:47:39 -0800 (PST) Received: from postal.iol.unh.edu (postal.iol.unh.edu. [2606:4100:3880:1234::84]) by smtp-relay.gmail.com with ESMTPS id 6a1803df08f44-882862b3760sm9176326d6.4.2025.11.15.06.47.39 (version=TLS1_2 cipher=ECDHE-ECDSA-AES128-GCM-SHA256 bits=128/128); Sat, 15 Nov 2025 06:47:39 -0800 (PST) X-Relaying-Domain: iol.unh.edu Date: Sat, 15 Nov 2025 06:47:39 -0800 (PST) Message-ID: <6918928b.050a0220.2a9e47.dc57SMTPIN_ADDED_MISSING@mx.google.com> Received: from [172.21.0.5] (unknown [172.18.0.240]) by postal.iol.unh.edu (Postfix) with ESMTP id DA42B6051830; Sat, 15 Nov 2025 09:47:38 -0500 (EST) Subject: |SUCCESS| pw158820 [PATCH] [v2] devtools: ignore new warnings on rep From: dpdklab@iol.unh.edu To: Test Report Cc: dpdk-test-reports@iol.unh.edu In-Reply-To: <20251114200640.1639056-1-dsosnowski@nvidia.com> References: <20251114200640.1639056-1-dsosnowski@nvidia.com> Content-Type: text/plain X-BeenThere: test-report@dpdk.org X-Mailman-Version: 2.1.29 Precedence: list List-Id: automatic DPDK test reports List-Unsubscribe: , List-Archive: List-Post: List-Help: List-Subscribe: , Errors-To: test-report-bounces@dpdk.org Test-Label: iol-compile-arm64-testing Test-Status: SUCCESS http://dpdk.org/patch/158820 _Testing PASS_ Submitter: Dariusz Sosnowski Date: Friday, November 14 2025 20:06:40 DPDK git baseline: Repo:dpdk Branch: master CommitID:be0112878b4fc3a1b918370ed2fe615c52039d77 158820 --> testing pass Upstream job id: Generic-DPDK-Compile-Meson#444739 Test environment and result as below: +------------------------------+--------------------+ | Environment | dpdk_meson_compile | +==============================+====================+ | Fedora Linux 42 | PASS | +------------------------------+--------------------+ | Red Hat Enterprise Linux 9.5 | PASS | +------------------------------+--------------------+ | Ubuntu 20.04 | PASS | +------------------------------+--------------------+ | Debian GNU/Linux 12 | PASS | +------------------------------+--------------------+ | Ubuntu 22.04 | PASS | +------------------------------+--------------------+ | Ubuntu 24.04 | PASS | +------------------------------+--------------------+ | CentOS Stream 9 | PASS | +------------------------------+--------------------+ | CentOS Stream 10 | PASS | +------------------------------+--------------------+ Fedora Linux 42 Kernel: 5.4 Compiler: clang gcc (GCC) 15.2.1 20250808 (Red Hat 15.2.1-1) Red Hat Enterprise Linux 9.5 Kernel: 5.4 Compiler: gcc gcc (GCC) 11.5.0 20240719 (Red Hat 11.5.0-2) Ubuntu 20.04 Kernel: 5.15 Compiler: aarch64-linux-gnu-gcc gcc (Ubuntu 9.4.0-1ubuntu1~20.04.2) 9.4.0 Debian GNU/Linux 12 Kernel: 5.4 Compiler: gcc gcc (Debian 12.2.0-14+deb12u1) 12.2.0 Ubuntu 22.04 Kernel: 5.4 Compiler: gcc gcc (Ubuntu 11.4.0-1ubuntu1~22.04) 11.4.0 Ubuntu 24.04 Kernel: 5.4 Compiler: gcc gcc (Ubuntu 13.3.0-6ubuntu2~24.04) 13.3.0 CentOS Stream 9 Kernel: 5.4 Compiler: gcc gcc (GCC) 11.5.0 20240719 (Red Hat 11.5.0-11) CentOS Stream 10 Kernel: 5.4 Compiler: gcc gcc (GCC) 14.2.1 20250110 (Red Hat 14.2.1-8) To view detailed results, visit: https://lab.dpdk.org/results/dashboard/patchsets/34602/ UNH-IOL DPDK Community Lab To manage your email subscriptions, visit: https://lab.dpdk.org/results/dashboard/preferences/subscriptions/