From mboxrd@z Thu Jan 1 00:00:00 1970 Return-Path: Received: from mails.dpdk.org (mails.dpdk.org [217.70.189.124]) by inbox.dpdk.org (Postfix) with ESMTP id 65ED648B1A for ; Sat, 15 Nov 2025 15:47:57 +0100 (CET) Received: from mails.dpdk.org (localhost [127.0.0.1]) by mails.dpdk.org (Postfix) with ESMTP id 61089402A2; Sat, 15 Nov 2025 15:47:57 +0100 (CET) Received: from mail-qk1-f225.google.com (mail-qk1-f225.google.com [209.85.222.225]) by mails.dpdk.org (Postfix) with ESMTP id 01C78402A2 for ; Sat, 15 Nov 2025 15:47:56 +0100 (CET) Received: by mail-qk1-f225.google.com with SMTP id af79cd13be357-8b2e530a748so3167385a.0 for ; Sat, 15 Nov 2025 06:47:56 -0800 (PST) DKIM-Signature: v=1; a=rsa-sha256; c=relaxed/relaxed; d=iol.unh.edu; s=unh-iol; t=1763218076; x=1763822876; darn=dpdk.org; h=references:in-reply-to:cc:to:from:subject:message-id:date:from:to :cc:subject:date:message-id:reply-to; bh=8Km3dYycZz/0z/kI5byedu6fULDHn9s1n6TeSa8py4I=; b=QmCNIcP5cjImApPUCAAD07MpfoqQToRt47RFGlAXC3A4WvpxAJtMWkQz0ksrU0lemy c1CqplVMkmxKNoKaxyfxODfS78EBG6hNyyCK67Rkm7eYOfwbLQu9qc0dsf7LOsRNSFqG KMTN76R++OusGtP+4g5SNGq3YrYq1qaAWlCUs= X-Google-DKIM-Signature: v=1; a=rsa-sha256; c=relaxed/relaxed; d=1e100.net; s=20230601; t=1763218076; x=1763822876; h=references:in-reply-to:cc:to:from:subject:message-id:date:x-gm-gg :x-gm-message-state:from:to:cc:subject:date:message-id:reply-to; bh=8Km3dYycZz/0z/kI5byedu6fULDHn9s1n6TeSa8py4I=; b=vedCARjjb8fioH75+9BPGqkBelYTYNtS+Zhmr9Ho9b3xV0ZpUPhSt/emkhP1YnQFz5 S6LwKemvGuW3PjUC6pKO5iAuBx9hdhmmxu4vXvyqnWA5j09/yaAHZq+27xSSbt6GT2F1 YoPeuM470cTYHMTMB7kgzXwkQ9LBlWuhD23LXznzsWMgBF2zg4gteY/zV8nZQsD4Xfmt Z6ztF02J52H3MNoniraI8g2KVZI5RgHAzsoFxzWaqaIM6Z8wy1E3Fl14YSCbGjvNualg h3fSaktWg1pBMrU+g1YzgYnpVC/KojlT3bjH9vgAWepMXvgLSfOHmKNSYYmORZBaJdYV 6m7A== X-Gm-Message-State: AOJu0YyEHJu58jCYFGmhP8xQ6WX2PcmA9HdlJUyqrE3CG9k4Ppu996MS Jc+jQ7aUGI/hJuS36y6wUS+zuIhu0peFrKeJrGrEy3difTSsuPr6uvzJf4t/L2CZD8RAAbqu3O1 JJ9XflJbBnXvyDeAhCMG5OAAi1GCZbh7a9pOXfhJ0D/tR X-Gm-Gg: ASbGncuOXx0P+EvKAPocPgRSvknI4EpMpNTWEQ2KOZ0N7Frnx0h7cZwR8WgiwPe8iKs fyVQ22jgRduMeRHnOovuNIDtZzAhf4UNSY9YFvf1YhRA7HajAyutXtH+Vx8MIvOgwYEpVgUpJxh qFIPEaUsOMhG4maAEGhDmMNXk8/0tp8uUh1p1eLby8Eaq35w1b3/hEyAh6Zj8s6PEjCwp6WasXg q04nfoxN/3SBtNEKqaaEK8qH1bi3br8j6NGXMazab0e1gdfXK+8kwrxD9k6MolpcOxevufjaqPY ZwTRG9mcsYDM7xLaRykZpaXzRVyVxtireX+ASarKd5a79KraFQE+AD37yGSHIfO8VgAf3VQb+BV 3vAz02Ujp/PonrqjNeK8OGhqmvKXuauU= X-Google-Smtp-Source: AGHT+IG0gT0ANlGhzuCQWnzwXFBVm0oxEI0YKNrr3EYxS5nhUalOtC6MRNTiW0Kc8KvwJS8he/Hf73WFR0HY X-Received: by 2002:ad4:5b83:0:b0:880:4bf6:21a1 with SMTP id 6a1803df08f44-88292594ec1mr93641696d6.5.1763218076293; Sat, 15 Nov 2025 06:47:56 -0800 (PST) Received: from postal.iol.unh.edu (postal.iol.unh.edu. [132.177.123.84]) by smtp-relay.gmail.com with ESMTPS id 6a1803df08f44-8828653a431sm9498856d6.22.2025.11.15.06.47.56 (version=TLS1_2 cipher=ECDHE-ECDSA-AES128-GCM-SHA256 bits=128/128); Sat, 15 Nov 2025 06:47:56 -0800 (PST) X-Relaying-Domain: iol.unh.edu Date: Sat, 15 Nov 2025 06:47:56 -0800 (PST) Message-ID: <6918929c.050a0220.1e1646.0084SMTPIN_ADDED_MISSING@mx.google.com> Received: from [172.21.0.3] (unknown [172.18.0.240]) by postal.iol.unh.edu (Postfix) with ESMTP id 0DA596051830; Sat, 15 Nov 2025 09:47:56 -0500 (EST) Subject: |SUCCESS| pw158820 [PATCH] [v2] devtools: ignore new warnings on rep From: dpdklab@iol.unh.edu To: Test Report Cc: dpdk-test-reports@iol.unh.edu In-Reply-To: <20251114200640.1639056-1-dsosnowski@nvidia.com> References: <20251114200640.1639056-1-dsosnowski@nvidia.com> Content-Type: text/plain X-BeenThere: test-report@dpdk.org X-Mailman-Version: 2.1.29 Precedence: list List-Id: automatic DPDK test reports List-Unsubscribe: , List-Archive: List-Post: List-Help: List-Subscribe: , Errors-To: test-report-bounces@dpdk.org Test-Label: iol-compile-arm64-testing Test-Status: SUCCESS http://dpdk.org/patch/158820 _Testing PASS_ Submitter: Dariusz Sosnowski Date: Friday, November 14 2025 20:06:40 DPDK git baseline: Repo:dpdk Branch: master CommitID:be0112878b4fc3a1b918370ed2fe615c52039d77 158820 --> testing pass Upstream job id: Generic-DPDK-Compile-Meson#444741 Test environment and result as below: +------------------------------+--------------------+ | Environment | dpdk_meson_compile | +==============================+====================+ | Fedora Linux 42 | PASS | +------------------------------+--------------------+ | Red Hat Enterprise Linux 9.5 | PASS | +------------------------------+--------------------+ | Ubuntu 20.04 | PASS | +------------------------------+--------------------+ | Debian GNU/Linux 12 | PASS | +------------------------------+--------------------+ | Ubuntu 22.04 | PASS | +------------------------------+--------------------+ | Ubuntu 24.04 | PASS | +------------------------------+--------------------+ | CentOS Stream 9 | PASS | +------------------------------+--------------------+ | CentOS Stream 10 | PASS | +------------------------------+--------------------+ Fedora Linux 42 Kernel: 5.4 Compiler: clang gcc (GCC) 15.2.1 20250808 (Red Hat 15.2.1-1) Red Hat Enterprise Linux 9.5 Kernel: 5.4 Compiler: gcc gcc (GCC) 11.5.0 20240719 (Red Hat 11.5.0-2) Ubuntu 20.04 Kernel: 5.15 Compiler: aarch64-linux-gnu-gcc gcc (Ubuntu 9.4.0-1ubuntu1~20.04.2) 9.4.0 Debian GNU/Linux 12 Kernel: 5.4 Compiler: gcc gcc (Debian 12.2.0-14+deb12u1) 12.2.0 Ubuntu 22.04 Kernel: 5.4 Compiler: gcc gcc (Ubuntu 11.4.0-1ubuntu1~22.04) 11.4.0 Ubuntu 24.04 Kernel: 5.4 Compiler: gcc gcc (Ubuntu 13.3.0-6ubuntu2~24.04) 13.3.0 CentOS Stream 9 Kernel: 5.4 Compiler: gcc gcc (GCC) 11.5.0 20240719 (Red Hat 11.5.0-11) CentOS Stream 10 Kernel: 5.4 Compiler: gcc gcc (GCC) 14.2.1 20250110 (Red Hat 14.2.1-8) To view detailed results, visit: https://lab.dpdk.org/results/dashboard/patchsets/34602/ UNH-IOL DPDK Community Lab To manage your email subscriptions, visit: https://lab.dpdk.org/results/dashboard/preferences/subscriptions/