From mboxrd@z Thu Jan 1 00:00:00 1970 Return-Path: Received: from mails.dpdk.org (mails.dpdk.org [217.70.189.124]) by inbox.dpdk.org (Postfix) with ESMTP id 73E1848B1A for ; Sat, 15 Nov 2025 15:48:07 +0100 (CET) Received: from mails.dpdk.org (localhost [127.0.0.1]) by mails.dpdk.org (Postfix) with ESMTP id 6E90C402A2; Sat, 15 Nov 2025 15:48:07 +0100 (CET) Received: from mail-il1-f226.google.com (mail-il1-f226.google.com [209.85.166.226]) by mails.dpdk.org (Postfix) with ESMTP id 446AA402A2 for ; Sat, 15 Nov 2025 15:48:06 +0100 (CET) Received: by mail-il1-f226.google.com with SMTP id e9e14a558f8ab-43377ee4825so15309995ab.2 for ; Sat, 15 Nov 2025 06:48:06 -0800 (PST) DKIM-Signature: v=1; a=rsa-sha256; c=relaxed/relaxed; d=iol.unh.edu; s=unh-iol; t=1763218085; x=1763822885; darn=dpdk.org; h=references:in-reply-to:cc:to:from:subject:message-id:date:from:to :cc:subject:date:message-id:reply-to; bh=3rkfUAHhD/LSibXAFZlxv5CXi0/tLAvZ9s8XJWovZbg=; b=b8ONkkI3veoBP0KGrIvlgC91uGbDoCoUkMIPkBpB+VBBJvYgkKBR8CbGu8mSMmODbi HpPY+wTSwdqEZZc2JlAV4Fpud071SStYIrdK9xzSjzx6jGGoCwa/HCThNx9jl/UAoJmG 11uMAcRjWrIb/Zk2jlEkDKnpWbBxcW7NDwhcE= X-Google-DKIM-Signature: v=1; a=rsa-sha256; c=relaxed/relaxed; d=1e100.net; s=20230601; t=1763218085; x=1763822885; h=references:in-reply-to:cc:to:from:subject:message-id:date:x-gm-gg :x-gm-message-state:from:to:cc:subject:date:message-id:reply-to; bh=3rkfUAHhD/LSibXAFZlxv5CXi0/tLAvZ9s8XJWovZbg=; b=ivgn4hJf5C17gOdDNG+0Kn2zRv/6yTECbYzbdIijHHFiQzRciOWYDeBdqbtCuXuEEc vJxjoQlyNEftV8G3+ltmL0ye91r5XrIP6uJ6DjhhWdMwuRuDKv6gUm9vluTHGv7rm9Ct mqougLxeJ1snrWe7VIcROn9W22f3fcNGcF+TOIcDnC9MzXpOT/eKKWu8IuKGXvCA+/Ot w+Dh37Pzj3mZiZnecBmVEMmEg+zf+6IPIWG9hWQg59G3+g4w9pjMFJmRVTJGkxPdEeKk /CTnNlJlNDdIL6k+La9aN9GTWRoMfv0ueqNgqHXtmEbXE+BNG7GVciJC/aZFe8aw8PPy iQ/Q== X-Gm-Message-State: AOJu0YxBUpBbzEvWNEFusd4AZ8E/6DYeaQbSuMV0dlPCDH4tIPxZcDU3 o+cUVucmRG8hNkuZ+gocPndnQ12hv02Wx1QsCfokW6pRrQTD5kqECErIrAbfL2vUWr1pBbHEWKu 8WyPDoTKClqkytW1rfhRPI4SWMOwkvQmZgGXJZiNj9MivSVvvGyUDnLIHvTN2 X-Gm-Gg: ASbGncus6ZzMbn2MWRyKVkthaNWhN9nDFHLU5xfavKPIDGg/cQPxeAR3M0MJpVbWehi AmxQsFsPBMbS/MiUEvKxeRq8gK+sbxBTf7L27/bXcZvTr2kzwK2T0+NQVYHvGlW49Oh2YWXAcSh QFxeIzFTieuxTksPSPFaokIQsInQ0ygqQzQKsWNHj7dAU3DqsHwzOj3l6xAyDBg+VMgyNxPHFND PEXj1+ga3lJ+dFxc1bbKKqzvO5S1MdhKTdqXBHkmcF/zLFoAadZJ17vD0MkZF50pF/t8QnsfYiM 3cmzd5irytU/TGbynsiIn8bLIKHtgHPDP6MUf7O7O/SF9jpCVBWDZ70w6n/9ephBHoQUrveUD4G nmqS1Va88 X-Google-Smtp-Source: AGHT+IFlXu/WJChO/cToNQ5S9nsvA6U5GjG9xk+FlvMT00T86ZMkyHkGeQXM+X807kqN6v1KxGYVXiJB3A7a X-Received: by 2002:a05:6e02:148e:b0:433:78fa:7fe9 with SMTP id e9e14a558f8ab-4348c934564mr89189905ab.22.1763218085584; Sat, 15 Nov 2025 06:48:05 -0800 (PST) Received: from postal.iol.unh.edu (postal.iol.unh.edu. [2606:4100:3880:1234::84]) by smtp-relay.gmail.com with ESMTPS id e9e14a558f8ab-434839b238asm7419105ab.24.2025.11.15.06.48.05 (version=TLS1_2 cipher=ECDHE-ECDSA-AES128-GCM-SHA256 bits=128/128); Sat, 15 Nov 2025 06:48:05 -0800 (PST) X-Relaying-Domain: iol.unh.edu Date: Sat, 15 Nov 2025 06:48:05 -0800 (PST) Message-ID: <691892a5.050a0220.ea2aa.494fSMTPIN_ADDED_MISSING@mx.google.com> Received: from [172.21.0.4] (unknown [172.18.0.240]) by postal.iol.unh.edu (Postfix) with ESMTP id 29F556051830; Sat, 15 Nov 2025 09:48:05 -0500 (EST) Subject: |SUCCESS| pw158820 [PATCH] [v2] devtools: ignore new warnings on rep From: dpdklab@iol.unh.edu To: Test Report Cc: dpdk-test-reports@iol.unh.edu In-Reply-To: <20251114200640.1639056-1-dsosnowski@nvidia.com> References: <20251114200640.1639056-1-dsosnowski@nvidia.com> Content-Type: text/plain X-BeenThere: test-report@dpdk.org X-Mailman-Version: 2.1.29 Precedence: list List-Id: automatic DPDK test reports List-Unsubscribe: , List-Archive: List-Post: List-Help: List-Subscribe: , Errors-To: test-report-bounces@dpdk.org Test-Label: iol-compile-arm64-testing Test-Status: SUCCESS http://dpdk.org/patch/158820 _Testing PASS_ Submitter: Dariusz Sosnowski Date: Friday, November 14 2025 20:06:40 DPDK git baseline: Repo:dpdk Branch: master CommitID:be0112878b4fc3a1b918370ed2fe615c52039d77 158820 --> testing pass Upstream job id: Generic-DPDK-Compile-Meson#444742 Test environment and result as below: +------------------------------+--------------------+ | Environment | dpdk_meson_compile | +==============================+====================+ | Fedora Linux 42 | PASS | +------------------------------+--------------------+ | Red Hat Enterprise Linux 9.5 | PASS | +------------------------------+--------------------+ | Ubuntu 20.04 | PASS | +------------------------------+--------------------+ | Debian GNU/Linux 12 | PASS | +------------------------------+--------------------+ | Ubuntu 22.04 | PASS | +------------------------------+--------------------+ | Ubuntu 24.04 | PASS | +------------------------------+--------------------+ | CentOS Stream 9 | PASS | +------------------------------+--------------------+ | CentOS Stream 10 | PASS | +------------------------------+--------------------+ Fedora Linux 42 Kernel: 5.4 Compiler: clang gcc (GCC) 15.2.1 20250808 (Red Hat 15.2.1-1) Red Hat Enterprise Linux 9.5 Kernel: 5.4 Compiler: gcc gcc (GCC) 11.5.0 20240719 (Red Hat 11.5.0-2) Ubuntu 20.04 Kernel: 5.15 Compiler: aarch64-linux-gnu-gcc gcc (Ubuntu 9.4.0-1ubuntu1~20.04.2) 9.4.0 Debian GNU/Linux 12 Kernel: 5.4 Compiler: gcc gcc (Debian 12.2.0-14+deb12u1) 12.2.0 Ubuntu 22.04 Kernel: 5.4 Compiler: gcc gcc (Ubuntu 11.4.0-1ubuntu1~22.04) 11.4.0 Ubuntu 24.04 Kernel: 5.4 Compiler: gcc gcc (Ubuntu 13.3.0-6ubuntu2~24.04) 13.3.0 CentOS Stream 9 Kernel: 5.4 Compiler: gcc gcc (GCC) 11.5.0 20240719 (Red Hat 11.5.0-11) CentOS Stream 10 Kernel: 5.4 Compiler: gcc gcc (GCC) 14.2.1 20250110 (Red Hat 14.2.1-8) To view detailed results, visit: https://lab.dpdk.org/results/dashboard/patchsets/34602/ UNH-IOL DPDK Community Lab To manage your email subscriptions, visit: https://lab.dpdk.org/results/dashboard/preferences/subscriptions/