From mboxrd@z Thu Jan 1 00:00:00 1970 Return-Path: Received: from mails.dpdk.org (mails.dpdk.org [217.70.189.124]) by inbox.dpdk.org (Postfix) with ESMTP id 7BF2648B1A for ; Sat, 15 Nov 2025 15:48:15 +0100 (CET) Received: from mails.dpdk.org (localhost [127.0.0.1]) by mails.dpdk.org (Postfix) with ESMTP id 78A7C402A2; Sat, 15 Nov 2025 15:48:15 +0100 (CET) Received: from mail-qv1-f97.google.com (mail-qv1-f97.google.com [209.85.219.97]) by mails.dpdk.org (Postfix) with ESMTP id 10D45402A2 for ; Sat, 15 Nov 2025 15:48:15 +0100 (CET) Received: by mail-qv1-f97.google.com with SMTP id 6a1803df08f44-8824a756771so28884946d6.0 for ; Sat, 15 Nov 2025 06:48:15 -0800 (PST) DKIM-Signature: v=1; a=rsa-sha256; c=relaxed/relaxed; d=iol.unh.edu; s=unh-iol; t=1763218094; x=1763822894; darn=dpdk.org; h=references:in-reply-to:cc:to:from:subject:message-id:date:from:to :cc:subject:date:message-id:reply-to; bh=eGtTjM5tp0XrHE7otrLvXAZoGpa4FPjCDjI3gmsZ4o4=; b=ccLrmXY8sHq9zFyKGtfL4TLurihDADaNxsU4AJeIKFukoPTZf98sxXqr9ZD1T3+IJD 5/S9syZwlDPWMiHL7K2hmKAUI7o2QLj3WfIWBYD2WS8q7eCgsEg4ylIyBfQ26EuJUSJm GB38EpxfmI0fovvA24XDpe4SjKJGlhacCe+dk= X-Google-DKIM-Signature: v=1; a=rsa-sha256; c=relaxed/relaxed; d=1e100.net; s=20230601; t=1763218094; x=1763822894; h=references:in-reply-to:cc:to:from:subject:message-id:date:x-gm-gg :x-gm-message-state:from:to:cc:subject:date:message-id:reply-to; bh=eGtTjM5tp0XrHE7otrLvXAZoGpa4FPjCDjI3gmsZ4o4=; b=mEhkU1vnGN4HEQD65d/hU7MkURPGuCY7k39RF89IJjfT8jdcU6J3x/N9Ka2nMHhixj YfDinHPCv/az1Lu+XsKNTNRPBmxIrp5+477LMFztCidcQHgOn9bwhgpVlxqgt42lrGEu twLmxswNmNGyMPYs4FiXDkjtYgVYedBebEwKknnQORq0aOzPbK/hXCIbfccNze52Atb8 0RlhzI6MmH1O+y0QWxuKLwVbFKrRzX4vg63ArpAU01/ReItP9jEToAELmyXzgdCfbqTR Cuzri7IGE5SXkCqoxCHZFQCPTYN3Z4Qx8SS3gzIAgbeiSzfuW+8GCU7iLbLGcWh3zCp4 YNdw== X-Gm-Message-State: AOJu0Yxc3p+jGB6IVp5MiVT/4CwlRZdcINZ0nfXWdj6TvNZMJIGI+2Ld hFLJlyScQQZR+r0kI/L9bLDXrb6q/gxJ5yE5+gYE2Az4vfuo8H5j6IHouh2M8BOuCKb7kyo4Ww2 /LuwtH0uHtTAppjwsOgk7ncTMDHc6psdF1e8cPMFdlOK0uE8CHlSjwvQ6sum3 X-Gm-Gg: ASbGncsBBYKvkBMa7qYO27ZZSzy0fCc1MIk/FMuCPkbnP+zJJEHYkTwRQatB3piVkNY pKaoCsDAjTI/gfj3nEzJAUnapKvmMrn0ClajEWGBLtQCFTZ1W4BEawP6v0+lgCen6FGeisoF1eK 4C2sasCCCzzgfSUTO5YCqLjSSDe7WCVZH2WDR7ZO8s2r/MxwcU9B6wDmmwN0LdnGTYdpeR07TZq uBlZq2XuDe0QEpi4LHgAukC8KwlF78dNTc3ZekFnPz0XJ30jOcT/wnaqpl9sId5+PytdjWFt8AY 0sa0JFYiOukjgvgmbsbntiiqW5TBfPcCt8zK+PB90L4r+vPF4vzcvPuTClRXkKHoX34uhgSc0FL LCZ7+GPtS X-Google-Smtp-Source: AGHT+IGyF2RziuBRnRRz12VSw1rxt9AbGQqEtxN4bm64atUgQj1mOFoKnbHhhBPPVQPRtfEeP16PoYM1bT7h X-Received: by 2002:a05:6214:d05:b0:880:5589:54cd with SMTP id 6a1803df08f44-88290f3f1a1mr114990726d6.19.1763218094473; Sat, 15 Nov 2025 06:48:14 -0800 (PST) Received: from postal.iol.unh.edu (postal.iol.unh.edu. [2606:4100:3880:1234::84]) by smtp-relay.gmail.com with ESMTPS id 6a1803df08f44-88286139639sm9549566d6.0.2025.11.15.06.48.14 (version=TLS1_2 cipher=ECDHE-ECDSA-AES128-GCM-SHA256 bits=128/128); Sat, 15 Nov 2025 06:48:14 -0800 (PST) X-Relaying-Domain: iol.unh.edu Date: Sat, 15 Nov 2025 06:48:14 -0800 (PST) Message-ID: <691892ae.050a0220.391baa.eabeSMTPIN_ADDED_MISSING@mx.google.com> Received: from [172.21.0.5] (unknown [172.18.0.240]) by postal.iol.unh.edu (Postfix) with ESMTP id 3A5556051830; Sat, 15 Nov 2025 09:48:14 -0500 (EST) Subject: |SUCCESS| pw158820 [PATCH] [v2] devtools: ignore new warnings on rep From: dpdklab@iol.unh.edu To: Test Report Cc: dpdk-test-reports@iol.unh.edu In-Reply-To: <20251114200640.1639056-1-dsosnowski@nvidia.com> References: <20251114200640.1639056-1-dsosnowski@nvidia.com> Content-Type: text/plain X-BeenThere: test-report@dpdk.org X-Mailman-Version: 2.1.29 Precedence: list List-Id: automatic DPDK test reports List-Unsubscribe: , List-Archive: List-Post: List-Help: List-Subscribe: , Errors-To: test-report-bounces@dpdk.org Test-Label: iol-compile-arm64-testing Test-Status: SUCCESS http://dpdk.org/patch/158820 _Testing PASS_ Submitter: Dariusz Sosnowski Date: Friday, November 14 2025 20:06:40 DPDK git baseline: Repo:dpdk Branch: master CommitID:be0112878b4fc3a1b918370ed2fe615c52039d77 158820 --> testing pass Upstream job id: Generic-DPDK-Compile-Meson#444740 Test environment and result as below: +------------------------------+--------------------+ | Environment | dpdk_meson_compile | +==============================+====================+ | Fedora Linux 42 | PASS | +------------------------------+--------------------+ | Red Hat Enterprise Linux 9.5 | PASS | +------------------------------+--------------------+ | Ubuntu 20.04 | PASS | +------------------------------+--------------------+ | Debian GNU/Linux 12 | PASS | +------------------------------+--------------------+ | Ubuntu 22.04 | PASS | +------------------------------+--------------------+ | Ubuntu 24.04 | PASS | +------------------------------+--------------------+ | CentOS Stream 9 | PASS | +------------------------------+--------------------+ | CentOS Stream 10 | PASS | +------------------------------+--------------------+ Fedora Linux 42 Kernel: 5.4 Compiler: clang gcc (GCC) 15.2.1 20250808 (Red Hat 15.2.1-1) Red Hat Enterprise Linux 9.5 Kernel: 5.4 Compiler: gcc gcc (GCC) 11.5.0 20240719 (Red Hat 11.5.0-2) Ubuntu 20.04 Kernel: 5.15 Compiler: aarch64-linux-gnu-gcc gcc (Ubuntu 9.4.0-1ubuntu1~20.04.2) 9.4.0 Debian GNU/Linux 12 Kernel: 5.4 Compiler: gcc gcc (Debian 12.2.0-14+deb12u1) 12.2.0 Ubuntu 22.04 Kernel: 5.4 Compiler: gcc gcc (Ubuntu 11.4.0-1ubuntu1~22.04) 11.4.0 Ubuntu 24.04 Kernel: 5.4 Compiler: gcc gcc (Ubuntu 13.3.0-6ubuntu2~24.04) 13.3.0 CentOS Stream 9 Kernel: 5.4 Compiler: gcc gcc (GCC) 11.5.0 20240719 (Red Hat 11.5.0-11) CentOS Stream 10 Kernel: 5.4 Compiler: gcc gcc (GCC) 14.2.1 20250110 (Red Hat 14.2.1-8) To view detailed results, visit: https://lab.dpdk.org/results/dashboard/patchsets/34602/ UNH-IOL DPDK Community Lab To manage your email subscriptions, visit: https://lab.dpdk.org/results/dashboard/preferences/subscriptions/