From mboxrd@z Thu Jan 1 00:00:00 1970 Return-Path: Received: from mails.dpdk.org (mails.dpdk.org [217.70.189.124]) by inbox.dpdk.org (Postfix) with ESMTP id AE94148B1B for ; Sat, 15 Nov 2025 16:24:54 +0100 (CET) Received: from mails.dpdk.org (localhost [127.0.0.1]) by mails.dpdk.org (Postfix) with ESMTP id 89C12402A2; Sat, 15 Nov 2025 16:24:54 +0100 (CET) Received: from mail-il1-f228.google.com (mail-il1-f228.google.com [209.85.166.228]) by mails.dpdk.org (Postfix) with ESMTP id C403E402A2 for ; Sat, 15 Nov 2025 16:24:53 +0100 (CET) Received: by mail-il1-f228.google.com with SMTP id e9e14a558f8ab-431d65ad973so10570225ab.3 for ; Sat, 15 Nov 2025 07:24:53 -0800 (PST) DKIM-Signature: v=1; a=rsa-sha256; c=relaxed/relaxed; d=iol.unh.edu; s=unh-iol; t=1763220293; x=1763825093; darn=dpdk.org; h=references:in-reply-to:cc:to:from:subject:message-id:date:from:to :cc:subject:date:message-id:reply-to; bh=ZMo+02R8AUwBC5ovYAAA4eGMpZu98J93ZVDU4kozkN8=; b=F+g7tx6zNiGHhgZT4fKfPLEJBNSWHQjqcC4EGWEwF8bRPbsEPJcApczdc862fXVuV2 aBCsAS+1xA6z2xlhjCDUf3fz/3FJQUBE4pt+O0vF3bVYjyT0ZsAWN51DRJNbP0+weboa b5Oc9n7f6PhWXkvr7ov2drplcm+FxhvWYTAe0= X-Google-DKIM-Signature: v=1; a=rsa-sha256; c=relaxed/relaxed; d=1e100.net; s=20230601; t=1763220293; x=1763825093; h=references:in-reply-to:cc:to:from:subject:message-id:date:x-gm-gg :x-gm-message-state:from:to:cc:subject:date:message-id:reply-to; bh=ZMo+02R8AUwBC5ovYAAA4eGMpZu98J93ZVDU4kozkN8=; b=jUC5GTYZnxbtNcZ0u2ankru/zV/eYivOiIHoJ8Oe+sa4TiMBjv9Zn042tsf+PAVgUi q4zJze7VyaW4G4YNZsAMe5tgyr0ZGF4Yelh5SiZlR8QU1g9UPkZQoG6Srng3xpLENb1Y /gPjoEFQe2RnvT2VWdk+TSoWCMDd2QoXXTWmtqM9di5c8e1o7ZDg87VUwHSAELkFTJxn sNZhxHxi7xqff7UsLVFGz0EVR/OYvJbogESHUZStWYm+KtP8KjB8RRG61nl9da0CxEjc zKeYjEfEwdxawuUVjmr1NkRlwa0xVpLW7JrB4k6sorCB2fOZOGoXKlxxBsgk+ycGsrR7 toGw== X-Gm-Message-State: AOJu0Yw8fBv9fGiANgDYywHDAloCE7KwHxThQ+Q4RkCWyqAyhSp3Qzjs fJ0v4olOeol+YHc1rMt4eDabWAWG1dMGQVJStnXOHU2rk7MuZ0paQI6qwB8fpQf6GXzLUcauukf swCJJvpVxEhycNnozQcPhgopsNZjEfJqD3njaqVezdmId X-Gm-Gg: ASbGncuKCy0er/X1fjSlhlriaz0A3RfW6sFFnwAggR5OVduR2gAq/XMKl+Y8H7mR68v jPALp+u9CGPGa126oXotY6cGDuygtKtc/ehAbKDpXAmFjDJSCasAmUp2fxwp+oJMvRl5f5uWsRO S/QuQwxNGNMY994BCpEoutj5bR9SLobksGaSTWTfdzPSX368weN5E6NX1tywpFffNAS4GhozrW4 AksFyyw8xVfzS89Jm1aBUxg2/YUPCVbKYyij/vk4hsztW5SmlWzZhz0uiNXS1gjgTw5Nglrznxq KRU8bpICi3m90jpyUTAtRKpjOE/7j1U2CUWGSV1Om0r8Ns0AMWN2W+dnNc+1FugXKrGz+zbcTUZ S5moNeLJtVk57m6ZflgsndZthIwrhLVY= X-Google-Smtp-Source: AGHT+IG5vFZ9rHxEqoV7RQZqkoysqL/jjlvcjEOvBa76zkFlOP8NMMEKWLnGAfA5viLjutyFs+mNv75euKod X-Received: by 2002:a05:6e02:3c84:b0:433:51eb:7f49 with SMTP id e9e14a558f8ab-4348c942cf3mr75906085ab.19.1763220293038; Sat, 15 Nov 2025 07:24:53 -0800 (PST) Received: from postal.iol.unh.edu (postal.iol.unh.edu. [132.177.123.84]) by smtp-relay.gmail.com with ESMTPS id e9e14a558f8ab-434833c607bsm6978205ab.2.2025.11.15.07.24.52 (version=TLS1_2 cipher=ECDHE-ECDSA-AES128-GCM-SHA256 bits=128/128); Sat, 15 Nov 2025 07:24:53 -0800 (PST) X-Relaying-Domain: iol.unh.edu Date: Sat, 15 Nov 2025 07:24:53 -0800 (PST) Message-ID: <69189b45.050a0220.203880.2020SMTPIN_ADDED_MISSING@mx.google.com> Received: from [172.21.0.3] (unknown [172.18.0.240]) by postal.iol.unh.edu (Postfix) with ESMTP id 8AB3E6051830; Sat, 15 Nov 2025 10:24:52 -0500 (EST) Subject: |SUCCESS| pw158821 [PATCH] net/mlx5: fix higher flow tag indexes sup From: dpdklab@iol.unh.edu To: Test Report Cc: dpdk-test-reports@iol.unh.edu In-Reply-To: <20251114201720.1639238-1-dsosnowski@nvidia.com> References: <20251114201720.1639238-1-dsosnowski@nvidia.com> Content-Type: text/plain X-BeenThere: test-report@dpdk.org X-Mailman-Version: 2.1.29 Precedence: list List-Id: automatic DPDK test reports List-Unsubscribe: , List-Archive: List-Post: List-Help: List-Subscribe: , Errors-To: test-report-bounces@dpdk.org Test-Label: iol-compile-amd64-testing Test-Status: SUCCESS http://dpdk.org/patch/158821 _Testing PASS_ Submitter: Dariusz Sosnowski Date: Friday, November 14 2025 20:17:20 DPDK git baseline: Repo:dpdk-next-net-mlx Branch: master CommitID:ae657d56b1f0ea979b3f611edf28d773efc2ddcf 158821 --> testing pass Upstream job id: Generic-DPDK-Compile-Meson#444830 Test environment and result as below: +---------------------+--------------------+-------------------+-------------------------+----------------------+ | Environment | dpdk_meson_compile | dpdk_msvc_compile | dpdk_llvm_clang_compile | dpdk_mingw64_compile | +=====================+====================+===================+=========================+======================+ | Ubuntu 20.04 | PASS | SKIPPED | SKIPPED | SKIPPED | +---------------------+--------------------+-------------------+-------------------------+----------------------+ | FreeBSD 14.2 | PASS | SKIPPED | SKIPPED | SKIPPED | +---------------------+--------------------+-------------------+-------------------------+----------------------+ | CentOS Stream 9 | PASS | SKIPPED | SKIPPED | SKIPPED | +---------------------+--------------------+-------------------+-------------------------+----------------------+ | Windows Server 2022 | SKIPPED | PASS | PASS | PASS | +---------------------+--------------------+-------------------+-------------------------+----------------------+ Ubuntu 20.04 Kernel: 4.19 Compiler: gcc gcc (Ubuntu 9.4.0-1ubuntu1~20.04.2) 9.4.0 FreeBSD 14.2 Kernel: 14.2-RELEASE Compiler: clang 18.1.6 CentOS Stream 9 Kernel: 5.15 Compiler: gcc gcc (GCC) 11.5.0 20240719 (Red Hat 11.5.0-11) Windows Server 2022 Kernel: 10.0.20348.2031 Compiler: clang 15.0.7, gcc 14.1.0 (MinGW), and MSVC VS 19.39.33521 To view detailed results, visit: https://lab.dpdk.org/results/dashboard/patchsets/34603/ UNH-IOL DPDK Community Lab To manage your email subscriptions, visit: https://lab.dpdk.org/results/dashboard/preferences/subscriptions/